BEGIN:VCALENDAR
VERSION:2.0
PRODID:-//Newton Cultural Alliance - ECPv6.13.2.1//NONSGML v1.0//EN
CALSCALE:GREGORIAN
METHOD:PUBLISH
X-WR-CALNAME:Newton Cultural Alliance
X-ORIGINAL-URL:https://newtonculture.org
X-WR-CALDESC:Events for Newton Cultural Alliance
REFRESH-INTERVAL;VALUE=DURATION:PT1H
X-Robots-Tag:noindex
X-PUBLISHED-TTL:PT1H
BEGIN:VTIMEZONE
TZID:America/New_York
BEGIN:DAYLIGHT
TZOFFSETFROM:-0500
TZOFFSETTO:-0400
TZNAME:EDT
DTSTART:20230312T070000
END:DAYLIGHT
BEGIN:STANDARD
TZOFFSETFROM:-0400
TZOFFSETTO:-0500
TZNAME:EST
DTSTART:20231105T060000
END:STANDARD
END:VTIMEZONE
BEGIN:VEVENT
DTSTART;TZID=America/New_York:20230326T120000
DTEND;TZID=America/New_York:20230326T180000
DTSTAMP:20260420T102608
CREATED:20230111T205649Z
LAST-MODIFIED:20230112T162424Z
UID:10020768-1679832000-1679853600@newtonculture.org
SUMMARY:Playathon!
DESCRIPTION:Stop by anytime. Six consecutive hours of music of all genres performed by SSN students and faculty at the Shops at Chestnut Hill (inside the atrium area in front of Cheesecake Factory) – a marathon of playing\, free to the public.
URL:https://newtonculture.org/event/playathon/
LOCATION:The Shops at Chestnut Hill\, 199 Boylston Street\, Chestnut Hill\, MA\, 02467\, United States
CATEGORIES:Community Event,Culture and Education,Family Friendly,Free Event,Music,Performing Arts
ATTACH;FMTTYPE=image/png:https://newtonculture.org/wp-content/uploads/2023/01/FB-post.png
ORGANIZER;CN="Suzuki School of Newton":MAILTO:email@suzukinewton.org
END:VEVENT
END:VCALENDAR