BEGIN:VCALENDAR
VERSION:2.0
PRODID:-//Newton Cultural Alliance - ECPv6.13.2.1//NONSGML v1.0//EN
CALSCALE:GREGORIAN
METHOD:PUBLISH
X-WR-CALNAME:Newton Cultural Alliance
X-ORIGINAL-URL:https://newtonculture.org
X-WR-CALDESC:Events for Newton Cultural Alliance
REFRESH-INTERVAL;VALUE=DURATION:PT1H
X-Robots-Tag:noindex
X-PUBLISHED-TTL:PT1H
BEGIN:VTIMEZONE
TZID:America/New_York
BEGIN:DAYLIGHT
TZOFFSETFROM:-0500
TZOFFSETTO:-0400
TZNAME:EDT
DTSTART:20240310T070000
END:DAYLIGHT
BEGIN:STANDARD
TZOFFSETFROM:-0400
TZOFFSETTO:-0500
TZNAME:EST
DTSTART:20241103T060000
END:STANDARD
END:VTIMEZONE
BEGIN:VEVENT
DTSTART;TZID=America/New_York:20240211T140000
DTEND;TZID=America/New_York:20240211T160000
DTSTAMP:20260419T170026
CREATED:20240205T150832Z
LAST-MODIFIED:20240205T150832Z
UID:10020970-1707660000-1707667200@newtonculture.org
SUMMARY:Vintage Valentines
DESCRIPTION:Looking for a family activity for Valentine’s Day? Come craft the perfect valentine at our heartwarming event! Join us for a fun-filled workshop where you can express your creativity together. Create personalized Valentine’s Day cards using materials inspired by our collection. This workshop is the perfect opportunity to bond with family members and spread love in a unique way!
URL:https://newtonculture.org/event/vintage-valentines/
LOCATION:Durant-Kenrick House and Grounds\, 286 Waverley Ave\,\, Newton\, MA\, 02458
CATEGORIES:Art,Family Friendly,Visual Arts
ATTACH;FMTTYPE=image/png:https://newtonculture.org/wp-content/uploads/2024/02/vintage-valentines.png
END:VEVENT
END:VCALENDAR