BEGIN:VCALENDAR
VERSION:2.0
PRODID:-//Newton Cultural Alliance - ECPv6.13.2.1//NONSGML v1.0//EN
CALSCALE:GREGORIAN
METHOD:PUBLISH
X-WR-CALNAME:Newton Cultural Alliance
X-ORIGINAL-URL:https://newtonculture.org
X-WR-CALDESC:Events for Newton Cultural Alliance
REFRESH-INTERVAL;VALUE=DURATION:PT1H
X-Robots-Tag:noindex
X-PUBLISHED-TTL:PT1H
BEGIN:VTIMEZONE
TZID:America/New_York
BEGIN:DAYLIGHT
TZOFFSETFROM:-0500
TZOFFSETTO:-0400
TZNAME:EDT
DTSTART:20240310T070000
END:DAYLIGHT
BEGIN:STANDARD
TZOFFSETFROM:-0400
TZOFFSETTO:-0500
TZNAME:EST
DTSTART:20241103T060000
END:STANDARD
END:VTIMEZONE
BEGIN:VEVENT
DTSTART;TZID=America/New_York:20240419T120000
DTEND;TZID=America/New_York:20240419T160000
DTSTAMP:20260419T135739
CREATED:20240319T135129Z
LAST-MODIFIED:20240319T135129Z
UID:10021937-1713528000-1713542400@newtonculture.org
SUMMARY:April Vacation Week: Eager Engineers
DESCRIPTION:Calling all kid engineers! Spend your spring break completing hands-on design challenges and crafts\, each around a different daily theme. Build a boat that can float\, design a transit system\, construct a working Ferris wheel\, invent something totally new\, and more! Come to one or more sessions: each day will be different. \nSuitable for kids ages 5-15 with adults; siblings welcome. Drop in for different themes and activities each day. \nLocation: Durant-Kenrick House and Grounds\nTickets: Free with museum admission ($0-$6 per person)\nMore information at: https://form-usa.keela.co/2024AprilVacation
URL:https://newtonculture.org/event/april-vacation-week-eager-engineers/2024-04-19/
LOCATION:Durant-Kenrick House and Grounds\, 286 Waverley Ave\,\, Newton\, MA\, 02458
CATEGORIES:Culture and Education,Family Friendly
ATTACH;FMTTYPE=image/jpeg:https://newtonculture.org/wp-content/uploads/2024/03/HistoricNewton-April-Vacation-Week-scaled.jpg
END:VEVENT
END:VCALENDAR