BEGIN:VCALENDAR
VERSION:2.0
PRODID:-//Newton Cultural Alliance - ECPv6.13.2.1//NONSGML v1.0//EN
CALSCALE:GREGORIAN
METHOD:PUBLISH
X-WR-CALNAME:Newton Cultural Alliance
X-ORIGINAL-URL:https://newtonculture.org
X-WR-CALDESC:Events for Newton Cultural Alliance
REFRESH-INTERVAL;VALUE=DURATION:PT1H
X-Robots-Tag:noindex
X-PUBLISHED-TTL:PT1H
BEGIN:VTIMEZONE
TZID:America/New_York
BEGIN:DAYLIGHT
TZOFFSETFROM:-0500
TZOFFSETTO:-0400
TZNAME:EDT
DTSTART:20210314T070000
END:DAYLIGHT
BEGIN:STANDARD
TZOFFSETFROM:-0400
TZOFFSETTO:-0500
TZNAME:EST
DTSTART:20211107T060000
END:STANDARD
END:VTIMEZONE
BEGIN:VEVENT
DTSTART;TZID=America/New_York:20210803T093000
DTEND;TZID=America/New_York:20210803T123000
DTSTAMP:20260423T121146
CREATED:20210611T145219Z
LAST-MODIFIED:20210611T145309Z
UID:10019705-1627983000-1627993800@newtonculture.org
SUMMARY:New Arts Center presents: Outdoor Landscape Painting
DESCRIPTION:This class for acrylic and/or oil painters will explore the unique challenges of landscape painting and provide students with the skills to render space two-dimensionally. We will be working outdoors\, or if the weather is bad\, working indoors using photographs and books. Students will learn composition\, light\, and shading\, and the effects of light on color to create a dynamic series of landscapes. Class demonstrations will focus on subject selection\, under-painting\, personal expression\, and creating a sense of space. One-on-one and group critiques will help students take their work to a new level. \nClick here to register.
URL:https://newtonculture.org/event/new-arts-center-presents-outdoor-landscape-painting/2021-08-03/
LOCATION:New Art Center\, 61 Washington Park\, Newton\, MA\, 02460\, United States
CATEGORIES:Art,Culture and Education,Visual Arts
ATTACH;FMTTYPE=image/jpeg:https://newtonculture.org/wp-content/uploads/2021/06/ACS21254-1536x1122-1.jpeg
ORGANIZER;CN="New Art Center":MAILTO:info@newartcenter.org
END:VEVENT
BEGIN:VEVENT
DTSTART;TZID=America/New_York:20210804T120000
DTEND;TZID=America/New_York:20210804T130000
DTSTAMP:20260423T121146
CREATED:20210604T170610Z
LAST-MODIFIED:20210604T170610Z
UID:10019683-1628078400-1628082000@newtonculture.org
SUMMARY:New Art Center presents: Art Education as Self Care
DESCRIPTION:Art education + creativity exercises + stress relief + group discussions = this workshop series! If you’re looking for intellectual stimulation that doesn’t feel hard\, if you’re hoping for a burst of creativity in the middle of your workday\, if you’re looking for the soothing effects of art — look no further. Join a small group of fellow art enthusiasts and/or new art lovers for a 2 month exploration into how a little bit of art education combined with reflection provides YOU with a refreshing and inspiring experience … all in one hour per week! Each session will consist of a facilitated discussion about a piece of art using Visual Thinking Strategies\, after which the conversation segues into writing/reflective exercises\, creativity prompts\, and group investigations into self-analysis. Furthermore\, you’ll improve your listening and communication skills as well as your ability to talk about art\, its expression and interpretation. Give yourself the self-care you need in a creative way. \nClick here to sign up.
URL:https://newtonculture.org/event/new-art-center-presents-art-education-as-self-care/2021-08-04/
LOCATION:ONLINE\, United Kingdom\, E16 2DQ
ATTACH;FMTTYPE=image/jpeg:https://newtonculture.org/wp-content/uploads/2021/06/ACS21888-1536x1122-1.jpeg
END:VEVENT
BEGIN:VEVENT
DTSTART;TZID=America/New_York:20210805T190000
DTEND;TZID=America/New_York:20210805T200000
DTSTAMP:20260423T121146
CREATED:20210628T161319Z
LAST-MODIFIED:20210628T161319Z
UID:10019786-1628190000-1628193600@newtonculture.org
SUMMARY:Historic Newton presents: That's Entertainment - Norumbega Park's History of Fun
DESCRIPTION:Learn about popular American entertainment by following Norumbega Park from its start as a “trolley park” at the end of the Commonwealth Avenue streetcar line through its heyday as an escape for young people to explore independence and love at the Totem Pole Ballroom. Images from “Norumbega Park and the Totem Pole Ballroom\,” a book by Clara Silverstein and Sara Goldberg of Historic Newton\, illustrate this romp through 66 years of fun on the banks of the Charles River in Newton. Register through the Newton Free Library.
URL:https://newtonculture.org/event/historic-newton-presents-thats-entertainment-norumbega-parks-history-of-fun/
LOCATION:ONLINE\, United Kingdom\, E16 2DQ
CATEGORIES:Community Event,Culture and Education
ATTACH;FMTTYPE=image/jpeg:https://newtonculture.org/wp-content/uploads/2021/06/637547080304100000.jpg
END:VEVENT
BEGIN:VEVENT
DTSTART;TZID=America/New_York:20210810T093000
DTEND;TZID=America/New_York:20210810T123000
DTSTAMP:20260423T121146
CREATED:20210611T145219Z
LAST-MODIFIED:20210611T145309Z
UID:10019706-1628587800-1628598600@newtonculture.org
SUMMARY:New Arts Center presents: Outdoor Landscape Painting
DESCRIPTION:This class for acrylic and/or oil painters will explore the unique challenges of landscape painting and provide students with the skills to render space two-dimensionally. We will be working outdoors\, or if the weather is bad\, working indoors using photographs and books. Students will learn composition\, light\, and shading\, and the effects of light on color to create a dynamic series of landscapes. Class demonstrations will focus on subject selection\, under-painting\, personal expression\, and creating a sense of space. One-on-one and group critiques will help students take their work to a new level. \nClick here to register.
URL:https://newtonculture.org/event/new-arts-center-presents-outdoor-landscape-painting/2021-08-10/
LOCATION:New Art Center\, 61 Washington Park\, Newton\, MA\, 02460\, United States
CATEGORIES:Art,Culture and Education,Visual Arts
ATTACH;FMTTYPE=image/jpeg:https://newtonculture.org/wp-content/uploads/2021/06/ACS21254-1536x1122-1.jpeg
ORGANIZER;CN="New Art Center":MAILTO:info@newartcenter.org
END:VEVENT
BEGIN:VEVENT
DTSTART;TZID=America/New_York:20210811T120000
DTEND;TZID=America/New_York:20210811T130000
DTSTAMP:20260423T121146
CREATED:20210604T170610Z
LAST-MODIFIED:20210604T170610Z
UID:10019684-1628683200-1628686800@newtonculture.org
SUMMARY:New Art Center presents: Art Education as Self Care
DESCRIPTION:Art education + creativity exercises + stress relief + group discussions = this workshop series! If you’re looking for intellectual stimulation that doesn’t feel hard\, if you’re hoping for a burst of creativity in the middle of your workday\, if you’re looking for the soothing effects of art — look no further. Join a small group of fellow art enthusiasts and/or new art lovers for a 2 month exploration into how a little bit of art education combined with reflection provides YOU with a refreshing and inspiring experience … all in one hour per week! Each session will consist of a facilitated discussion about a piece of art using Visual Thinking Strategies\, after which the conversation segues into writing/reflective exercises\, creativity prompts\, and group investigations into self-analysis. Furthermore\, you’ll improve your listening and communication skills as well as your ability to talk about art\, its expression and interpretation. Give yourself the self-care you need in a creative way. \nClick here to sign up.
URL:https://newtonculture.org/event/new-art-center-presents-art-education-as-self-care/2021-08-11/
LOCATION:ONLINE\, United Kingdom\, E16 2DQ
ATTACH;FMTTYPE=image/jpeg:https://newtonculture.org/wp-content/uploads/2021/06/ACS21888-1536x1122-1.jpeg
END:VEVENT
BEGIN:VEVENT
DTSTART;TZID=America/New_York:20210813T090000
DTEND;TZID=America/New_York:20210813T120000
DTSTAMP:20260423T121146
CREATED:20210726T170849Z
LAST-MODIFIED:20210726T170849Z
UID:10019851-1628845200-1628856000@newtonculture.org
SUMMARY:Scavenger Hunt at the Newton Free Library
DESCRIPTION:Are you ready for a Scavenger Hunt at the Library!  Come to the Children’s Desk anytime between 9am and 12pm and pick up a sheet with clues to find objects and images around the children’s area. When you are done you will get to take home a special animal sticker of your choosing. This program is part of our Tail and Tales Summer Reading program. To sign up for summer reading click here.
URL:https://newtonculture.org/event/scavenger-hunt-at-the-newton-free-library/
LOCATION:Newton Free Library\, 330 Homer St\, Newton\, MA\, 02459\, United States
CATEGORIES:Community Event,Family Friendly,Literary Arts
ATTACH;FMTTYPE=image/png:https://newtonculture.org/wp-content/uploads/2019/11/Logos-500px-10-newtonlib-e1578597870408.png
ORGANIZER;CN="Newton Free Library":MAILTO:admin@newtonfreelibrary.net
END:VEVENT
BEGIN:VEVENT
DTSTART;VALUE=DATE:20210814
DTEND;VALUE=DATE:20210815
DTSTAMP:20260423T121146
CREATED:20210614T162005Z
LAST-MODIFIED:20210719T150713Z
UID:10019713-1628899200-1628985599@newtonculture.org
SUMMARY:Boston Ballet's Back-to-School Open Houses
DESCRIPTION:Children ages 16 months-7 years old are invited to experience a free sample class led by expert Boston Ballet School faculty\, learn more about school year programming\, and take a tour of the studios. Register here. \nSaturday\, July 24\nNewton Studio – 153 Needham Street\n10 am: 16 months-age 2\n11 am: Ages 3-4\n12 pm: Ages 5-7 \nSaturday\, August 14\nBoston Studio – 19 Clarendon Street\n10 am: 16 months-age 2\n11 am: Ages 3-4\n12 pm: Ages 5-7
URL:https://newtonculture.org/event/boston-ballets-back-to-school-open-houses/2021-08-14/
LOCATION:Boston Ballet School\, 153 Needham St\, Suite N101\, Newton Highlands\, MA\, 02464\, United States
CATEGORIES:Community Event,Culture and Education,Performing Arts
ATTACH;FMTTYPE=image/jpeg:https://newtonculture.org/wp-content/uploads/2021/06/FY18-BBS_OpenStudio_1330x750.jpg
ORGANIZER;CN="Boston Ballet School":MAILTO:school@bostonballet.org
END:VEVENT
BEGIN:VEVENT
DTSTART;TZID=America/New_York:20210817T093000
DTEND;TZID=America/New_York:20210817T123000
DTSTAMP:20260423T121146
CREATED:20210611T145219Z
LAST-MODIFIED:20210611T145309Z
UID:10019707-1629192600-1629203400@newtonculture.org
SUMMARY:New Arts Center presents: Outdoor Landscape Painting
DESCRIPTION:This class for acrylic and/or oil painters will explore the unique challenges of landscape painting and provide students with the skills to render space two-dimensionally. We will be working outdoors\, or if the weather is bad\, working indoors using photographs and books. Students will learn composition\, light\, and shading\, and the effects of light on color to create a dynamic series of landscapes. Class demonstrations will focus on subject selection\, under-painting\, personal expression\, and creating a sense of space. One-on-one and group critiques will help students take their work to a new level. \nClick here to register.
URL:https://newtonculture.org/event/new-arts-center-presents-outdoor-landscape-painting/2021-08-17/
LOCATION:New Art Center\, 61 Washington Park\, Newton\, MA\, 02460\, United States
CATEGORIES:Art,Culture and Education,Visual Arts
ATTACH;FMTTYPE=image/jpeg:https://newtonculture.org/wp-content/uploads/2021/06/ACS21254-1536x1122-1.jpeg
ORGANIZER;CN="New Art Center":MAILTO:info@newartcenter.org
END:VEVENT
BEGIN:VEVENT
DTSTART;TZID=America/New_York:20210824T093000
DTEND;TZID=America/New_York:20210824T123000
DTSTAMP:20260423T121146
CREATED:20210611T145219Z
LAST-MODIFIED:20210611T145309Z
UID:10019708-1629797400-1629808200@newtonculture.org
SUMMARY:New Arts Center presents: Outdoor Landscape Painting
DESCRIPTION:This class for acrylic and/or oil painters will explore the unique challenges of landscape painting and provide students with the skills to render space two-dimensionally. We will be working outdoors\, or if the weather is bad\, working indoors using photographs and books. Students will learn composition\, light\, and shading\, and the effects of light on color to create a dynamic series of landscapes. Class demonstrations will focus on subject selection\, under-painting\, personal expression\, and creating a sense of space. One-on-one and group critiques will help students take their work to a new level. \nClick here to register.
URL:https://newtonculture.org/event/new-arts-center-presents-outdoor-landscape-painting/2021-08-24/
LOCATION:New Art Center\, 61 Washington Park\, Newton\, MA\, 02460\, United States
CATEGORIES:Art,Culture and Education,Visual Arts
ATTACH;FMTTYPE=image/jpeg:https://newtonculture.org/wp-content/uploads/2021/06/ACS21254-1536x1122-1.jpeg
ORGANIZER;CN="New Art Center":MAILTO:info@newartcenter.org
END:VEVENT
BEGIN:VEVENT
DTSTART;TZID=America/New_York:20210827T150000
DTEND;TZID=America/New_York:20210827T160000
DTSTAMP:20260423T121146
CREATED:20210816T144336Z
LAST-MODIFIED:20210816T144336Z
UID:10019869-1630076400-1630080000@newtonculture.org
SUMMARY:Newton Free Library presents: Coral Reef Canvas Painting
DESCRIPTION:Paint a coral reef and sea life on a canvas! Looking up from the bottom of the sea we will create a painting using dramatic silhouettes of coral reef and sea life in black paint. Using different tones of blue mixed with white\, your eye will be drawn to the starburst of sunlight above.  This is a virtual event. Materials will be available for pick up a week prior to the event. For rising 6th-12th graders. Register here.
URL:https://newtonculture.org/event/newton-free-library-presents-coral-reef-canvas-painting/
LOCATION:ONLINE\, United Kingdom\, E16 2DQ
CATEGORIES:Art,Community Event,Culture and Education,Visual Arts
ATTACH;FMTTYPE=image/jpeg:https://newtonculture.org/wp-content/uploads/2021/08/1628265628.jpg
ORGANIZER;CN="Newton Free Library":MAILTO:admin@newtonfreelibrary.net
END:VEVENT
BEGIN:VEVENT
DTSTART;TZID=America/New_York:20210830T190000
DTEND;TZID=America/New_York:20210830T200000
DTSTAMP:20260423T121146
CREATED:20210819T172605Z
LAST-MODIFIED:20210819T172605Z
UID:10018945-1630350000-1630353600@newtonculture.org
SUMMARY:Newton Free Library presents: Twisted Sisters - Killer Hurricanes of the 1950s
DESCRIPTION:Join Eamon McCarthy Earls for a wild ride as he dives into the history of the Twisted Sisters\, four storms – Carol\, Edna\, Connie and Diane – that hammered New England and the Northeast all in a period of 12 months during the 1950s. These storms brought devastating winds\, pounding waves\, record tidal surges and floods of nearly Biblical proportions! Today\, despite the massive seawalls and flood control projects built in the wake of the Twisted Sisters\, the question is\, will it happen again? \nEamon McCarthy Earls is an author of multiple books on regional history. He studied geology and history at UMASS-Amherst\, served for three years as a Town Council member in his hometown of Franklin\, Massachusetts\, and is now completing a law degree at George Mason University in Arlington\, Virginia. \nRegistration for this program will end two hours before the start time. The login information will be sent just after registration closes. Please be sure to check your spam folder in case it lands there.
URL:https://newtonculture.org/event/newton-free-library-presents-twisted-sisters-killer-hurricanes-of-the-1950s/
LOCATION:ONLINE\, United Kingdom\, E16 2DQ
CATEGORIES:Community Event,Culture and Education
ATTACH;FMTTYPE=image/png:https://newtonculture.org/wp-content/uploads/2021/08/Copy_of_08-30_Twisted_Sisters_Hurricanes__1_.png
ORGANIZER;CN="Newton Free Library":MAILTO:admin@newtonfreelibrary.net
END:VEVENT
END:VCALENDAR