BEGIN:VCALENDAR
VERSION:2.0
PRODID:-//Newton Cultural Alliance - ECPv6.13.2.1//NONSGML v1.0//EN
CALSCALE:GREGORIAN
METHOD:PUBLISH
X-WR-CALNAME:Newton Cultural Alliance
X-ORIGINAL-URL:https://newtonculture.org
X-WR-CALDESC:Events for Newton Cultural Alliance
REFRESH-INTERVAL;VALUE=DURATION:PT1H
X-Robots-Tag:noindex
X-PUBLISHED-TTL:PT1H
BEGIN:VTIMEZONE
TZID:America/New_York
BEGIN:DAYLIGHT
TZOFFSETFROM:-0500
TZOFFSETTO:-0400
TZNAME:EDT
DTSTART:20210314T070000
END:DAYLIGHT
BEGIN:STANDARD
TZOFFSETFROM:-0400
TZOFFSETTO:-0500
TZNAME:EST
DTSTART:20211107T060000
END:STANDARD
END:VTIMEZONE
BEGIN:VEVENT
DTSTART;TZID=America/New_York:20211201T190000
DTEND;TZID=America/New_York:20211201T203000
DTSTAMP:20260423T044805
CREATED:20211103T161517Z
LAST-MODIFIED:20220217T135502Z
UID:10019980-1638385200-1638390600@newtonculture.org
SUMMARY:Newton Art Association presents: Legal Issues for Artists
DESCRIPTION:What are your rights and legal obligations as an artist? What do you need to know about copyrights\, contracts\, commissions\, and consignments with galleries? What are your precise legal liabilities?\nThese and other artists’ rights issues will be discussed by Nicholas M. O’Donnell at our second professional workshop. \nZoom link for the event is found here.
URL:https://newtonculture.org/event/newton-art-association-presents-legal-issues-for-artists/2021-12-01/
LOCATION:Zoom
CATEGORIES:Art,Culture and Education,Visual Arts
ATTACH;FMTTYPE=image/jpeg:https://newtonculture.org/wp-content/uploads/2021/11/paint-brush.jpg
END:VEVENT
BEGIN:VEVENT
DTSTART;TZID=America/New_York:20211202T183000
DTEND;TZID=America/New_York:20211202T200000
DTSTAMP:20260423T044805
CREATED:20210614T163818Z
LAST-MODIFIED:20210614T163818Z
UID:10019770-1638469800-1638475200@newtonculture.org
SUMMARY:Newton Theatre Kids presents: Fall Classes - Devising Ensemble
DESCRIPTION:Join NTK’s all new Devising Ensemble! Our first program for middle schoolers gives participants the opportunity to explore new forms of performance and hone their artistic skills\, all while creating an original piece of theatre as an ensemble. Specifically tailored to the interests of the students\, this class is an excellent opportunity for young performers to expand their artistic horizons and learn more about their craft. ​Open to Students in Grades 6-8. ​Tuition: $385 \nThursdays from 6:30-8 pm\nSeptember 9th through December 16th\n​Taught by Abby Lass \nLocation for all classes: FUUSN – First Unitarian Universalist Society in Newton\n1326 Washington St\, Newton\, MA 02465 \nWe follow closings for all Newton Public school holidays and snow days. \nWe want theatre to be accessible to everyone.\nIf you are interested in learning more about Newton Theatre Kids scholarships\, please email Melissa.
URL:https://newtonculture.org/event/newton-theatre-kids-presents-fall-classes-devising-ensemble/2021-12-02/
LOCATION:First Unitarian Universalist Society in Newton\, 1326 Washington St\, Newton\, MA\, 02465\, United States
CATEGORIES:Community Event,Culture and Education,Performing Arts
ATTACH;FMTTYPE=image/png:https://newtonculture.org/wp-content/uploads/2021/06/2_orig.png
ORGANIZER;CN="Newton Theatre Company":MAILTO:info@newtontheatrecompany.com
END:VEVENT
BEGIN:VEVENT
DTSTART;TZID=America/New_York:20211203T180000
DTEND;TZID=America/New_York:20211203T190000
DTSTAMP:20260423T044805
CREATED:20211103T163408Z
LAST-MODIFIED:20211103T163408Z
UID:10019982-1638554400-1638558000@newtonculture.org
SUMMARY:New Art Center Artist Talk: Anthony Romero & Çaca Yvaire
DESCRIPTION:Anthony Romero is a Boston-based artist\, writer\, and organizer committed to documenting and supporting artists and communities of color. His collaborative practice engages intercultural contact and historical narratives in order to generate reparative counter-images and social transformation. Recent projects and performances have been featured at The Bemis Center for Contemporary Arts (Omaha)\, the Blue Star Contemporary (San Antonio)\, The Institute of Contemporary Art (Boston) and the Mountain Standard Time Performative Art Biennial (Calgary\, Canada). \n\nÇaca Yvaire is an Afro-Indigenous territorial scholar-practitioner and student of planetary science\, political geoecology\, and the arts. He brings a unique lens to conservation work. He is primarily invested in stimulating and uplifting an infrastructure that supports a rich and imaginative solidarity between lifeways\, and honoring the varied traditions of relating sustainably to the world around us through non-industrial agroecology\, agriculture\, silviculture\, aquaculture\, etc. that have been historically side-lined by imperialist design. \nRegister here.
URL:https://newtonculture.org/event/new-art-center-artist-talk-anthony-romero-caca-yvaire/
LOCATION:New Art Center\, 61 Washington Park\, Newton\, MA\, 02460\, United States
CATEGORIES:Art,Community Event,Culture and Education
ATTACH;FMTTYPE=image/jpeg:https://newtonculture.org/wp-content/uploads/2021/11/Nights-Out-@-New-Art-Nov-5-1-scaled-1.jpg
ORGANIZER;CN="New Art Center":MAILTO:info@newartcenter.org
END:VEVENT
BEGIN:VEVENT
DTSTART;TZID=America/New_York:20211204T130000
DTEND;TZID=America/New_York:20211204T130000
DTSTAMP:20260423T044805
CREATED:20210416T153957Z
LAST-MODIFIED:20210708T142448Z
UID:10019523-1638622800-1638622800@newtonculture.org
SUMMARY:Scandinavian Cultural Center presents: Book Talk - "For the Love of Cod" with Eric Dregni
DESCRIPTION:A journey to find Norway’s supposed bliss makes for a comic travelogue that asks\, seriously\, what makes Norwegians so damn happy—and does it translate? \nNorway is usually near or at the top of the World Happiness Report. But is it really one of the happiest countries on Earth? Eric Dregni had his doubts. Years ago he and his wife had lived in this country his great-great-grandfather once fled. When their son Eilif was born there\, the Norwegian government paid for the birth\, gave them $5\,000\, and deposited $500 into their bank account every month\, but surely happiness was more than a generous health care system. What about all those grim months without sun? When Eilif turned fifteen\, father and son decided to go back together and investigate. For the Love of Cod is their droll report on the state of purported Norwegian bliss. \nSaturday\, December 4th | 1pm  | FREE with registration | register here \nABOUT ERIC: Eric Dregni is an associate professor of English and Journalism at Concordia University in Saint Paul\, Minnesota\, where he teaches writing. He has written or cowritten travel memoirs and essays about Minnesota\, Norway\, and Italy\, as well as guidebooks and books on popular culture in the American Midwest.
URL:https://newtonculture.org/event/scandinavian-cultural-center-presents-book-talk-for-the-love-of-cod-with-eric-dregni/
LOCATION:ONLINE\, United Kingdom\, E16 2DQ
CATEGORIES:Culture and Education,Literary Arts
ATTACH;FMTTYPE=image/jpeg:https://newtonculture.org/wp-content/uploads/2021/04/for-the-love-of-cod-2-600x266-1.jpeg
END:VEVENT
BEGIN:VEVENT
DTSTART;TZID=America/New_York:20211205T100000
DTEND;TZID=America/New_York:20211205T113000
DTSTAMP:20260423T044805
CREATED:20210923T160117Z
LAST-MODIFIED:20210923T160117Z
UID:10019914-1638698400-1638703800@newtonculture.org
SUMMARY:New Art Center presents: Luminaria Workshop for Parents and Kids
DESCRIPTION:Make a festive luminaria candle-holder to adorn your home this winter! Parents and kids will add their creative twist to a lovely luminaria decoration for themselves or as a gift for friends and family. Children younger than 2nd grade must be accompanied by an adult. All houses will be made from red air dry clay and can hold a battery-operated tea light. Click here to register.
URL:https://newtonculture.org/event/new-art-center-presents-luminaria-workshop-for-parents-and-kids/
LOCATION:New Art Center\, 61 Washington Park\, Newton\, MA\, 02460\, United States
CATEGORIES:Art,Community Event,Family Friendly
ATTACH;FMTTYPE=image/jpeg:https://newtonculture.org/wp-content/uploads/2021/09/CWF21501-scaled-1.jpg
ORGANIZER;CN="New Art Center":MAILTO:info@newartcenter.org
END:VEVENT
BEGIN:VEVENT
DTSTART;TZID=America/New_York:20211205T140000
DTEND;TZID=America/New_York:20211205T160000
DTSTAMP:20260423T044805
CREATED:20210719T162800Z
LAST-MODIFIED:20210719T162800Z
UID:10019799-1638712800-1638720000@newtonculture.org
SUMMARY:Newton Art Association presents: Demo with Jason Turner
DESCRIPTION:Jason Turner was an innovator. His approach to handling watercolor was radically different from many of his contemporaries. Far from being a watercolor purist\, he often used unconventional materials and constantly reinvented his approach to watercolor painting. For those who love this artist’s work and have some experience with watercolor\, this demo will offer a practical eye opening glimpse into the great master’s working methods. Click here for more info.
URL:https://newtonculture.org/event/newton-art-association-presents-demo-with-jason-turner/
LOCATION:MA
CATEGORIES:Art,Culture and Education
ATTACH;FMTTYPE=image/jpeg:https://newtonculture.org/wp-content/uploads/2021/07/jason-teaching.jpg
END:VEVENT
BEGIN:VEVENT
DTSTART;TZID=America/New_York:20211207T170000
DTEND;TZID=America/New_York:20211207T170000
DTSTAMP:20260423T044805
CREATED:20211119T142941Z
LAST-MODIFIED:20211119T142941Z
UID:10019992-1638896400-1638896400@newtonculture.org
SUMMARY:Historic Holidays in Newton
DESCRIPTION:How did residents of Newton celebrate the winter holidays in previous centuries? Our short videos explain family traditions at the Jackson Homestead and the Durant-Kenrick House in the 18th through 20th centuries\, including baking gingerbread\, donating clothing and toys to Newtonians in need — and avoiding festivities altogether. Gain a perspective on the holidays and receive a recipe to try in this program that takes place Tuesday\, December 7 at 5:00 p.m. on Zoom. Register here.
URL:https://newtonculture.org/event/historic-holidays-in-newton/
LOCATION:ONLINE\, United Kingdom\, E16 2DQ
CATEGORIES:Community Event,Culture and Education
ATTACH;FMTTYPE=image/png:https://newtonculture.org/wp-content/uploads/2019/11/9.png
END:VEVENT
BEGIN:VEVENT
DTSTART;TZID=America/New_York:20211209T183000
DTEND;TZID=America/New_York:20211209T200000
DTSTAMP:20260423T044805
CREATED:20210614T163818Z
LAST-MODIFIED:20210614T163818Z
UID:10019771-1639074600-1639080000@newtonculture.org
SUMMARY:Newton Theatre Kids presents: Fall Classes - Devising Ensemble
DESCRIPTION:Join NTK’s all new Devising Ensemble! Our first program for middle schoolers gives participants the opportunity to explore new forms of performance and hone their artistic skills\, all while creating an original piece of theatre as an ensemble. Specifically tailored to the interests of the students\, this class is an excellent opportunity for young performers to expand their artistic horizons and learn more about their craft. ​Open to Students in Grades 6-8. ​Tuition: $385 \nThursdays from 6:30-8 pm\nSeptember 9th through December 16th\n​Taught by Abby Lass \nLocation for all classes: FUUSN – First Unitarian Universalist Society in Newton\n1326 Washington St\, Newton\, MA 02465 \nWe follow closings for all Newton Public school holidays and snow days. \nWe want theatre to be accessible to everyone.\nIf you are interested in learning more about Newton Theatre Kids scholarships\, please email Melissa.
URL:https://newtonculture.org/event/newton-theatre-kids-presents-fall-classes-devising-ensemble/2021-12-09/
LOCATION:First Unitarian Universalist Society in Newton\, 1326 Washington St\, Newton\, MA\, 02465\, United States
CATEGORIES:Community Event,Culture and Education,Performing Arts
ATTACH;FMTTYPE=image/png:https://newtonculture.org/wp-content/uploads/2021/06/2_orig.png
ORGANIZER;CN="Newton Theatre Company":MAILTO:info@newtontheatrecompany.com
END:VEVENT
BEGIN:VEVENT
DTSTART;TZID=America/New_York:20211216T183000
DTEND;TZID=America/New_York:20211216T200000
DTSTAMP:20260423T044805
CREATED:20210614T163818Z
LAST-MODIFIED:20210614T163818Z
UID:10019772-1639679400-1639684800@newtonculture.org
SUMMARY:Newton Theatre Kids presents: Fall Classes - Devising Ensemble
DESCRIPTION:Join NTK’s all new Devising Ensemble! Our first program for middle schoolers gives participants the opportunity to explore new forms of performance and hone their artistic skills\, all while creating an original piece of theatre as an ensemble. Specifically tailored to the interests of the students\, this class is an excellent opportunity for young performers to expand their artistic horizons and learn more about their craft. ​Open to Students in Grades 6-8. ​Tuition: $385 \nThursdays from 6:30-8 pm\nSeptember 9th through December 16th\n​Taught by Abby Lass \nLocation for all classes: FUUSN – First Unitarian Universalist Society in Newton\n1326 Washington St\, Newton\, MA 02465 \nWe follow closings for all Newton Public school holidays and snow days. \nWe want theatre to be accessible to everyone.\nIf you are interested in learning more about Newton Theatre Kids scholarships\, please email Melissa.
URL:https://newtonculture.org/event/newton-theatre-kids-presents-fall-classes-devising-ensemble/2021-12-16/
LOCATION:First Unitarian Universalist Society in Newton\, 1326 Washington St\, Newton\, MA\, 02465\, United States
CATEGORIES:Community Event,Culture and Education,Performing Arts
ATTACH;FMTTYPE=image/png:https://newtonculture.org/wp-content/uploads/2021/06/2_orig.png
ORGANIZER;CN="Newton Theatre Company":MAILTO:info@newtontheatrecompany.com
END:VEVENT
END:VCALENDAR