BEGIN:VCALENDAR
VERSION:2.0
PRODID:-//Newton Cultural Alliance - ECPv6.13.2.1//NONSGML v1.0//EN
CALSCALE:GREGORIAN
METHOD:PUBLISH
X-WR-CALNAME:Newton Cultural Alliance
X-ORIGINAL-URL:https://newtonculture.org
X-WR-CALDESC:Events for Newton Cultural Alliance
REFRESH-INTERVAL;VALUE=DURATION:PT1H
X-Robots-Tag:noindex
X-PUBLISHED-TTL:PT1H
BEGIN:VTIMEZONE
TZID:America/New_York
BEGIN:DAYLIGHT
TZOFFSETFROM:-0500
TZOFFSETTO:-0400
TZNAME:EDT
DTSTART:20210314T070000
END:DAYLIGHT
BEGIN:STANDARD
TZOFFSETFROM:-0400
TZOFFSETTO:-0500
TZNAME:EST
DTSTART:20211107T060000
END:STANDARD
END:VTIMEZONE
BEGIN:VEVENT
DTSTART;TZID=America/New_York:20210918T110000
DTEND;TZID=America/New_York:20210918T170000
DTSTAMP:20260423T122504
CREATED:20210824T153856Z
LAST-MODIFIED:20210824T153856Z
UID:10018947-1631962800-1631984400@newtonculture.org
SUMMARY:Smithsonian Magazine's Museum Day with Historic Newton
DESCRIPTION:Visit Historic Newton at the Jackson Homestead or the Durant-Kenrick House and Grounds for Smithsonian Magazine’s Museum Day\, a one-day event in which participating museums and cultural institutions across the country provide free entry to anyone presenting a Museum Day ticket. Participants are allowed to download one ticket per email address. The ticket provides free general admission on Saturday\, September 18\, 2021\, for two people. Type in the Jackson Homestead or the Durant-Kenrick House and Grounds and download your ticket here.
URL:https://newtonculture.org/event/smithsonian-magazines-museum-day-with-historic-newton/
LOCATION:Jackson Homestead and Museum\, 527 Washington St\, Newton\, MA\, 02458\, United States
CATEGORIES:Community Event,Culture and Education,Family Friendly
ATTACH;FMTTYPE=image/png:https://newtonculture.org/wp-content/uploads/2019/11/9.png
END:VEVENT
END:VCALENDAR