BEGIN:VCALENDAR
VERSION:2.0
PRODID:-//Newton Cultural Alliance - ECPv6.13.2.1//NONSGML v1.0//EN
CALSCALE:GREGORIAN
METHOD:PUBLISH
X-WR-CALNAME:Newton Cultural Alliance
X-ORIGINAL-URL:https://newtonculture.org
X-WR-CALDESC:Events for Newton Cultural Alliance
REFRESH-INTERVAL;VALUE=DURATION:PT1H
X-Robots-Tag:noindex
X-PUBLISHED-TTL:PT1H
BEGIN:VTIMEZONE
TZID:America/New_York
BEGIN:DAYLIGHT
TZOFFSETFROM:-0500
TZOFFSETTO:-0400
TZNAME:EDT
DTSTART:20210314T070000
END:DAYLIGHT
BEGIN:STANDARD
TZOFFSETFROM:-0400
TZOFFSETTO:-0500
TZNAME:EST
DTSTART:20211107T060000
END:STANDARD
END:VTIMEZONE
BEGIN:VEVENT
DTSTART;TZID=America/New_York:20211105T180000
DTEND;TZID=America/New_York:20211105T190000
DTSTAMP:20260423T075919
CREATED:20210901T165500Z
LAST-MODIFIED:20210901T165825Z
UID:10019891-1636135200-1636138800@newtonculture.org
SUMMARY:New Art Center presents: Artist Talk with Anthony Romero and Çaca Yvaire
DESCRIPTION:Anthony Romero is a Boston-based artist\, writer\, and organizer committed to documenting and supporting artists and communities of color. His collaborative practice engages intercultural contact and historical narratives in order to generate reparative counter-images and social transformation. Recent projects and performances have been featured at The Bemis Center for Contemporary Arts (Omaha)\, the Blue Star Contemporary (San Antonio)\, The Institute of Contemporary Art (Boston) and the Mountain Standard Time Performative Art Biennial (Calgary\, Canada). \nÇaca Yvaire is an Afro-Indigenous territorial scholar-practitioner and student of planetary science\, political geoecology\, and the arts. He brings a unique lens to conservation work. He is primarily invested in stimulating and uplifting an infrastructure that supports a rich and imaginative solidarity between lifeways\, and honoring the varied traditions of relating sustainably to the world around us through non-industrial agroecology\, agriculture\, silviculture\, aquaculture\, etc. that have been historically side-lined by imperialist design. \nRegister here.
URL:https://newtonculture.org/event/new-art-center-presents-artist-talk-with-anthony-romero-and-caca-yvaire/
LOCATION:New Art Center\, 61 Washington Park\, Newton\, MA\, 02460\, United States
CATEGORIES:Art,Culture and Education,Visual Arts
ATTACH;FMTTYPE=image/png:https://newtonculture.org/wp-content/uploads/2020/06/newart-logo_2020_PNG_color_med-res.png
ORGANIZER;CN="New Art Center":MAILTO:info@newartcenter.org
END:VEVENT
END:VCALENDAR