BEGIN:VCALENDAR
VERSION:2.0
PRODID:-//Newton Cultural Alliance - ECPv6.13.2.1//NONSGML v1.0//EN
CALSCALE:GREGORIAN
METHOD:PUBLISH
X-ORIGINAL-URL:https://newtonculture.org
X-WR-CALDESC:Events for Newton Cultural Alliance
REFRESH-INTERVAL;VALUE=DURATION:PT1H
X-Robots-Tag:noindex
X-PUBLISHED-TTL:PT1H
BEGIN:VTIMEZONE
TZID:America/New_York
BEGIN:DAYLIGHT
TZOFFSETFROM:-0500
TZOFFSETTO:-0400
TZNAME:EDT
DTSTART:20210314T070000
END:DAYLIGHT
BEGIN:STANDARD
TZOFFSETFROM:-0400
TZOFFSETTO:-0500
TZNAME:EST
DTSTART:20211107T060000
END:STANDARD
END:VTIMEZONE
BEGIN:VEVENT
DTSTART;TZID=America/New_York:20211204T130000
DTEND;TZID=America/New_York:20211204T130000
DTSTAMP:20260423T061837
CREATED:20210416T153957Z
LAST-MODIFIED:20210708T142448Z
UID:10019523-1638622800-1638622800@newtonculture.org
SUMMARY:Scandinavian Cultural Center presents: Book Talk - "For the Love of Cod" with Eric Dregni
DESCRIPTION:A journey to find Norway’s supposed bliss makes for a comic travelogue that asks\, seriously\, what makes Norwegians so damn happy—and does it translate? \nNorway is usually near or at the top of the World Happiness Report. But is it really one of the happiest countries on Earth? Eric Dregni had his doubts. Years ago he and his wife had lived in this country his great-great-grandfather once fled. When their son Eilif was born there\, the Norwegian government paid for the birth\, gave them $5\,000\, and deposited $500 into their bank account every month\, but surely happiness was more than a generous health care system. What about all those grim months without sun? When Eilif turned fifteen\, father and son decided to go back together and investigate. For the Love of Cod is their droll report on the state of purported Norwegian bliss. \nSaturday\, December 4th | 1pm  | FREE with registration | register here \nABOUT ERIC: Eric Dregni is an associate professor of English and Journalism at Concordia University in Saint Paul\, Minnesota\, where he teaches writing. He has written or cowritten travel memoirs and essays about Minnesota\, Norway\, and Italy\, as well as guidebooks and books on popular culture in the American Midwest.
URL:https://newtonculture.org/event/scandinavian-cultural-center-presents-book-talk-for-the-love-of-cod-with-eric-dregni/
LOCATION:ONLINE\, United Kingdom\, E16 2DQ
CATEGORIES:Culture and Education,Literary Arts
ATTACH;FMTTYPE=image/jpeg:https://newtonculture.org/wp-content/uploads/2021/04/for-the-love-of-cod-2-600x266-1.jpeg
END:VEVENT
END:VCALENDAR