BEGIN:VCALENDAR
VERSION:2.0
PRODID:-//Newton Cultural Alliance - ECPv6.13.2.1//NONSGML v1.0//EN
CALSCALE:GREGORIAN
METHOD:PUBLISH
X-WR-CALNAME:Newton Cultural Alliance
X-ORIGINAL-URL:https://newtonculture.org
X-WR-CALDESC:Events for Newton Cultural Alliance
REFRESH-INTERVAL;VALUE=DURATION:PT1H
X-Robots-Tag:noindex
X-PUBLISHED-TTL:PT1H
BEGIN:VTIMEZONE
TZID:America/New_York
BEGIN:DAYLIGHT
TZOFFSETFROM:-0500
TZOFFSETTO:-0400
TZNAME:EDT
DTSTART:20220313T070000
END:DAYLIGHT
BEGIN:STANDARD
TZOFFSETFROM:-0400
TZOFFSETTO:-0500
TZNAME:EST
DTSTART:20221106T060000
END:STANDARD
END:VTIMEZONE
BEGIN:VEVENT
DTSTART;TZID=America/New_York:20220127T190000
DTEND;TZID=America/New_York:20220127T200000
DTSTAMP:20260423T044951
CREATED:20211214T161905Z
LAST-MODIFIED:20211214T161905Z
UID:10019998-1643310000-1643313600@newtonculture.org
SUMMARY:Historic Newton presents: Boston's Great Innovations
DESCRIPTION:What makes Boston one of the world’s top innovation centers? Join Robert Krim and Alan Earls\, co-authors of Boston Made: From Revolution to Robotics-Innovations that Changed the World\, as they reinterpret Boston history through the lens of innovation. Trace four centuries of this history to learn about scientific discoveries\, groundbreaking social policies\, and other innovations – some with Newton ties – that made a lasting impact. Part of the Newton History Series co-sponsored by Historic Newton and the Newton Free Library. Register here for this Zoom program.
URL:https://newtonculture.org/event/historic-newton-presents-bostons-great-innovations/
LOCATION:ONLINE\, United Kingdom\, E16 2DQ
CATEGORIES:Community Event,Culture and Education,Literary Arts
ATTACH;FMTTYPE=image/jpeg:https://newtonculture.org/wp-content/uploads/2021/12/813660fBrQL.jpg
END:VEVENT
END:VCALENDAR