BEGIN:VCALENDAR
VERSION:2.0
PRODID:-//Newton Cultural Alliance - ECPv6.13.2.1//NONSGML v1.0//EN
CALSCALE:GREGORIAN
METHOD:PUBLISH
X-WR-CALNAME:Newton Cultural Alliance
X-ORIGINAL-URL:https://newtonculture.org
X-WR-CALDESC:Events for Newton Cultural Alliance
REFRESH-INTERVAL;VALUE=DURATION:PT1H
X-Robots-Tag:noindex
X-PUBLISHED-TTL:PT1H
BEGIN:VTIMEZONE
TZID:America/New_York
BEGIN:DAYLIGHT
TZOFFSETFROM:-0500
TZOFFSETTO:-0400
TZNAME:EDT
DTSTART:20210314T070000
END:DAYLIGHT
BEGIN:STANDARD
TZOFFSETFROM:-0400
TZOFFSETTO:-0500
TZNAME:EST
DTSTART:20211107T060000
END:STANDARD
END:VTIMEZONE
BEGIN:VEVENT
DTSTART;TZID=America/New_York:20210324T190000
DTEND;TZID=America/New_York:20210324T210000
DTSTAMP:20260424T004701
CREATED:20210304T164637Z
LAST-MODIFIED:20210304T164637Z
UID:10019464-1616612400-1616619600@newtonculture.org
SUMMARY:Newton Free Library presents: How The Mothers Of Martin Luther King\, Malcolm X & James Baldwin Shaped A Nation
DESCRIPTION:This program is presented in partnership with Tewksbury Public Library. \nJoin Anna Malaika Tubbs for a presentation based on her acclaimed new book\, The Three Mothers: How the Mothers of Martin Luther King\, Jr.\, Malcolm X\, and James Baldwin Shaped a Nation. Enjoy a fascinating exploration into the lives of three women ignored by history after raising sons who helped shape a movement. Much has been written about Berdis Baldwin’s son James\, about Alberta King’s son Martin Luther\, and Louise Little’s son Malcolm. But virtually nothing has been said about the extraordinary women who raised them. In her groundbreaking and essential debut\, scholar Anna Malaika Tubbs celebrates Black motherhood by telling the story of the three women who raised some of America’s most pivotal heroes. \nAnna Malaika Tubbs is a Cambridge Ph.D. candidate in sociology and a Bill and Melinda Gates Cambridge Scholar. \nRegistration for this program will end two hours before the start time. The Zoom login information will be sent just after registration closes. Please be sure to check your spam folder in case it lands there.
URL:https://newtonculture.org/event/newton-free-library-presents-how-the-mothers-of-martin-luther-king-malcolm-x-james-baldwin-shaped-a-nation/
LOCATION:ONLINE\, United Kingdom\, E16 2DQ
CATEGORIES:Community Event,Culture and Education,Literary Arts
ATTACH;FMTTYPE=image/jpeg:https://newtonculture.org/wp-content/uploads/2021/03/03-24_Author_Anna_Malaika_Tubbs_book_cover.jpg
ORGANIZER;CN="Newton Free Library":MAILTO:admin@newtonfreelibrary.net
END:VEVENT
END:VCALENDAR