BEGIN:VCALENDAR
VERSION:2.0
PRODID:-//Newton Cultural Alliance - ECPv6.13.2.1//NONSGML v1.0//EN
CALSCALE:GREGORIAN
METHOD:PUBLISH
X-ORIGINAL-URL:https://newtonculture.org
X-WR-CALDESC:Events for Newton Cultural Alliance
REFRESH-INTERVAL;VALUE=DURATION:PT1H
X-Robots-Tag:noindex
X-PUBLISHED-TTL:PT1H
BEGIN:VTIMEZONE
TZID:America/New_York
BEGIN:DAYLIGHT
TZOFFSETFROM:-0500
TZOFFSETTO:-0400
TZNAME:EDT
DTSTART:20210314T070000
END:DAYLIGHT
BEGIN:STANDARD
TZOFFSETFROM:-0400
TZOFFSETTO:-0500
TZNAME:EST
DTSTART:20211107T060000
END:STANDARD
END:VTIMEZONE
BEGIN:VEVENT
DTSTART;TZID=America/New_York:20210705T183000
DTEND;TZID=America/New_York:20210705T183000
DTSTAMP:20260425T095718
CREATED:20210629T153636Z
LAST-MODIFIED:20210704T184035Z
UID:10019788-1625509800-1625509800@newtonculture.org
SUMMARY:New Philharmonia Orchestra Pops Concert
DESCRIPTION:An exciting program celebrating America\, our freedoms\, our culture\, and our community!  Outdoors at the Newton Centre Bowl – bring your lawn chairs and picnic and join the fun as we celebrate July 4th on July 5th at 6:30 PM.  The program will feature a variety of celebratory American musical treats and Aaron Copland’s iconic “Lincoln Portrait\,” with special guest Mayor Ruthanne Fuller narrating excerpts of Abraham Lincoln’s great documents
URL:https://newtonculture.org/event/new-philharmonia-orchestra-pops-concert/
LOCATION:M
CATEGORIES:Community Event,Free Event,Music
ATTACH;FMTTYPE=image/jpeg:https://newtonculture.org/wp-content/uploads/2021/06/unnamed.jpg
ORGANIZER;CN="New Philharmonia Orchestra":MAILTO:info@newphil.org
END:VEVENT
BEGIN:VEVENT
DTSTART;TZID=America/New_York:20210711T143000
DTEND;TZID=America/New_York:20210711T154500
DTSTAMP:20260425T095718
CREATED:20210707T162016Z
LAST-MODIFIED:20210707T162017Z
UID:10018875-1626013800-1626018300@newtonculture.org
SUMMARY:Festival of the Arts: Newton Baroque
DESCRIPTION:As part of the 6th Annual Newton Festival of the Arts\, enjoy a concert from Newton Baroque. \nNewton Baroque took a spectacular leap onto the national stage in May 2014 when they performed three exciting innovative programs as a featured ensemble at the American Bach Society annual convention at Kenyon College in Ohio\, garnering an overwhelming response from some of the most knowledgeable Bach scholars in the world. \nDepending on the requirements of the chosen repertoire\, Newton Baroque draws on its roster of musicians who work frequently with the group\, comprising some of the leading Baroque specialists both nationally and internationally. They have also appeared numerous times on Boston’s SoHIP concert series\, on WGBH Radio\, Boston\, and on various concert series in New York City. Newton Baroque is a recipient of NCC grants.
URL:https://newtonculture.org/event/festival-of-the-arts-newton-baroque/
LOCATION:The Allen Center\, 35 Webster St\, WEST NEWTON\, MA\, 02465\, United States
CATEGORIES:Community Event,Free Event,Music
ATTACH;FMTTYPE=image/png:https://newtonculture.org/wp-content/uploads/2021/07/newtonbaroque_s8CU.png
END:VEVENT
BEGIN:VEVENT
DTSTART;TZID=America/New_York:20210711T160000
DTEND;TZID=America/New_York:20210711T164500
DTSTAMP:20260425T095718
CREATED:20210707T163714Z
LAST-MODIFIED:20210707T163714Z
UID:10018876-1626019200-1626021900@newtonculture.org
SUMMARY:Festival of the Arts: Pro Arte Quartet
DESCRIPTION:As part of the 6th Annual Newton Festival of the Arts\, enjoy a concert from Pro Arte’s Quartet. \nJuneteenth marks the anniversary of the emancipation of slaves in the United States. The quartet will share three works by African American composers\, each of which has moments of dance and reflection. Wynton Marsalis’ At the Octoroon Balls is a set of scenes inspired by his early life in New Orleans. We will play three movements from this work – Creole Contradanzas\, Blue Lights on the Bayou\, and the Rampart Street Row House Rag. Florence Price’s String Quartet No. 2 in A minor weaves together her beautiful lyric writing and African American vernacular with daring chromaticism and vibrant movement. The third movement (of four) is a Juba\, a dance developed by Africans brought to America against their will. Dorothy Rudd Moore’s Modes is a beautiful and compact three-movement work\, which ends with an energetic\, movement-inspiring finale. Lisa Goddard & Colin Davis\, violins\, Anne Black\, viola\, and Steve Laven\, cello.
URL:https://newtonculture.org/event/festival-of-the-arts-pro-arte-quartet/
LOCATION:The Allen Center\, 35 Webster St\, WEST NEWTON\, MA\, 02465\, United States
CATEGORIES:Community Event,Culture and Education,Music
ATTACH;FMTTYPE=image/jpeg:https://newtonculture.org/wp-content/uploads/2021/07/ProArte_SUa2.jpeg
END:VEVENT
BEGIN:VEVENT
DTSTART;VALUE=DATE:20210717
DTEND;VALUE=DATE:20210718
DTSTAMP:20260425T095718
CREATED:20210610T164943Z
LAST-MODIFIED:20210610T164943Z
UID:10019694-1626480000-1626566399@newtonculture.org
SUMMARY:Amherst Early Music Online Festival
DESCRIPTION:The AEM ONLINE FESTIVAL will feature over 40 classes taught by an international faculty\, a Concert Series\, masterclasses\, a lecture\, Music and Instrument Exhibition\, Auction\, and more! Classes are $25 each\, Concerts are $20. Special Events are free for everyone. Click here for a list of classes\, special events\, and more.
URL:https://newtonculture.org/event/amherst-early-music-online-festival/2021-07-17/
LOCATION:ONLINE\, United Kingdom\, E16 2DQ
ATTACH;FMTTYPE=image/jpeg:https://newtonculture.org/wp-content/uploads/2021/06/FESTIVAL_CLASSES_21.jpeg
ORGANIZER;CN="Amherst Early Music":MAILTO:info@amherstearlymusic.org
END:VEVENT
BEGIN:VEVENT
DTSTART;VALUE=DATE:20210718
DTEND;VALUE=DATE:20210719
DTSTAMP:20260425T095718
CREATED:20210610T164943Z
LAST-MODIFIED:20210610T164943Z
UID:10019695-1626566400-1626652799@newtonculture.org
SUMMARY:Amherst Early Music Online Festival
DESCRIPTION:The AEM ONLINE FESTIVAL will feature over 40 classes taught by an international faculty\, a Concert Series\, masterclasses\, a lecture\, Music and Instrument Exhibition\, Auction\, and more! Classes are $25 each\, Concerts are $20. Special Events are free for everyone. Click here for a list of classes\, special events\, and more.
URL:https://newtonculture.org/event/amherst-early-music-online-festival/2021-07-18/
LOCATION:ONLINE\, United Kingdom\, E16 2DQ
ATTACH;FMTTYPE=image/jpeg:https://newtonculture.org/wp-content/uploads/2021/06/FESTIVAL_CLASSES_21.jpeg
ORGANIZER;CN="Amherst Early Music":MAILTO:info@amherstearlymusic.org
END:VEVENT
BEGIN:VEVENT
DTSTART;VALUE=DATE:20210719
DTEND;VALUE=DATE:20210720
DTSTAMP:20260425T095718
CREATED:20210610T164943Z
LAST-MODIFIED:20210610T164943Z
UID:10019696-1626652800-1626739199@newtonculture.org
SUMMARY:Amherst Early Music Online Festival
DESCRIPTION:The AEM ONLINE FESTIVAL will feature over 40 classes taught by an international faculty\, a Concert Series\, masterclasses\, a lecture\, Music and Instrument Exhibition\, Auction\, and more! Classes are $25 each\, Concerts are $20. Special Events are free for everyone. Click here for a list of classes\, special events\, and more.
URL:https://newtonculture.org/event/amherst-early-music-online-festival/2021-07-19/
LOCATION:ONLINE\, United Kingdom\, E16 2DQ
ATTACH;FMTTYPE=image/jpeg:https://newtonculture.org/wp-content/uploads/2021/06/FESTIVAL_CLASSES_21.jpeg
ORGANIZER;CN="Amherst Early Music":MAILTO:info@amherstearlymusic.org
END:VEVENT
BEGIN:VEVENT
DTSTART;VALUE=DATE:20210720
DTEND;VALUE=DATE:20210721
DTSTAMP:20260425T095718
CREATED:20210610T164943Z
LAST-MODIFIED:20210610T164943Z
UID:10019697-1626739200-1626825599@newtonculture.org
SUMMARY:Amherst Early Music Online Festival
DESCRIPTION:The AEM ONLINE FESTIVAL will feature over 40 classes taught by an international faculty\, a Concert Series\, masterclasses\, a lecture\, Music and Instrument Exhibition\, Auction\, and more! Classes are $25 each\, Concerts are $20. Special Events are free for everyone. Click here for a list of classes\, special events\, and more.
URL:https://newtonculture.org/event/amherst-early-music-online-festival/2021-07-20/
LOCATION:ONLINE\, United Kingdom\, E16 2DQ
ATTACH;FMTTYPE=image/jpeg:https://newtonculture.org/wp-content/uploads/2021/06/FESTIVAL_CLASSES_21.jpeg
ORGANIZER;CN="Amherst Early Music":MAILTO:info@amherstearlymusic.org
END:VEVENT
BEGIN:VEVENT
DTSTART;VALUE=DATE:20210721
DTEND;VALUE=DATE:20210722
DTSTAMP:20260425T095718
CREATED:20210610T164943Z
LAST-MODIFIED:20210610T164943Z
UID:10019698-1626825600-1626911999@newtonculture.org
SUMMARY:Amherst Early Music Online Festival
DESCRIPTION:The AEM ONLINE FESTIVAL will feature over 40 classes taught by an international faculty\, a Concert Series\, masterclasses\, a lecture\, Music and Instrument Exhibition\, Auction\, and more! Classes are $25 each\, Concerts are $20. Special Events are free for everyone. Click here for a list of classes\, special events\, and more.
URL:https://newtonculture.org/event/amherst-early-music-online-festival/2021-07-21/
LOCATION:ONLINE\, United Kingdom\, E16 2DQ
ATTACH;FMTTYPE=image/jpeg:https://newtonculture.org/wp-content/uploads/2021/06/FESTIVAL_CLASSES_21.jpeg
ORGANIZER;CN="Amherst Early Music":MAILTO:info@amherstearlymusic.org
END:VEVENT
BEGIN:VEVENT
DTSTART;VALUE=DATE:20210722
DTEND;VALUE=DATE:20210723
DTSTAMP:20260425T095718
CREATED:20210610T164943Z
LAST-MODIFIED:20210610T164943Z
UID:10019699-1626912000-1626998399@newtonculture.org
SUMMARY:Amherst Early Music Online Festival
DESCRIPTION:The AEM ONLINE FESTIVAL will feature over 40 classes taught by an international faculty\, a Concert Series\, masterclasses\, a lecture\, Music and Instrument Exhibition\, Auction\, and more! Classes are $25 each\, Concerts are $20. Special Events are free for everyone. Click here for a list of classes\, special events\, and more.
URL:https://newtonculture.org/event/amherst-early-music-online-festival/2021-07-22/
LOCATION:ONLINE\, United Kingdom\, E16 2DQ
ATTACH;FMTTYPE=image/jpeg:https://newtonculture.org/wp-content/uploads/2021/06/FESTIVAL_CLASSES_21.jpeg
ORGANIZER;CN="Amherst Early Music":MAILTO:info@amherstearlymusic.org
END:VEVENT
BEGIN:VEVENT
DTSTART;VALUE=DATE:20210723
DTEND;VALUE=DATE:20210724
DTSTAMP:20260425T095718
CREATED:20210610T164943Z
LAST-MODIFIED:20210610T164943Z
UID:10019700-1626998400-1627084799@newtonculture.org
SUMMARY:Amherst Early Music Online Festival
DESCRIPTION:The AEM ONLINE FESTIVAL will feature over 40 classes taught by an international faculty\, a Concert Series\, masterclasses\, a lecture\, Music and Instrument Exhibition\, Auction\, and more! Classes are $25 each\, Concerts are $20. Special Events are free for everyone. Click here for a list of classes\, special events\, and more.
URL:https://newtonculture.org/event/amherst-early-music-online-festival/2021-07-23/
LOCATION:ONLINE\, United Kingdom\, E16 2DQ
ATTACH;FMTTYPE=image/jpeg:https://newtonculture.org/wp-content/uploads/2021/06/FESTIVAL_CLASSES_21.jpeg
ORGANIZER;CN="Amherst Early Music":MAILTO:info@amherstearlymusic.org
END:VEVENT
BEGIN:VEVENT
DTSTART;VALUE=DATE:20210724
DTEND;VALUE=DATE:20210725
DTSTAMP:20260425T095718
CREATED:20210610T164943Z
LAST-MODIFIED:20210610T164943Z
UID:10019701-1627084800-1627171199@newtonculture.org
SUMMARY:Amherst Early Music Online Festival
DESCRIPTION:The AEM ONLINE FESTIVAL will feature over 40 classes taught by an international faculty\, a Concert Series\, masterclasses\, a lecture\, Music and Instrument Exhibition\, Auction\, and more! Classes are $25 each\, Concerts are $20. Special Events are free for everyone. Click here for a list of classes\, special events\, and more.
URL:https://newtonculture.org/event/amherst-early-music-online-festival/2021-07-24/
LOCATION:ONLINE\, United Kingdom\, E16 2DQ
ATTACH;FMTTYPE=image/jpeg:https://newtonculture.org/wp-content/uploads/2021/06/FESTIVAL_CLASSES_21.jpeg
ORGANIZER;CN="Amherst Early Music":MAILTO:info@amherstearlymusic.org
END:VEVENT
BEGIN:VEVENT
DTSTART;VALUE=DATE:20210725
DTEND;VALUE=DATE:20210726
DTSTAMP:20260425T095718
CREATED:20210610T164943Z
LAST-MODIFIED:20210610T164943Z
UID:10019702-1627171200-1627257599@newtonculture.org
SUMMARY:Amherst Early Music Online Festival
DESCRIPTION:The AEM ONLINE FESTIVAL will feature over 40 classes taught by an international faculty\, a Concert Series\, masterclasses\, a lecture\, Music and Instrument Exhibition\, Auction\, and more! Classes are $25 each\, Concerts are $20. Special Events are free for everyone. Click here for a list of classes\, special events\, and more.
URL:https://newtonculture.org/event/amherst-early-music-online-festival/2021-07-25/
LOCATION:ONLINE\, United Kingdom\, E16 2DQ
ATTACH;FMTTYPE=image/jpeg:https://newtonculture.org/wp-content/uploads/2021/06/FESTIVAL_CLASSES_21.jpeg
ORGANIZER;CN="Amherst Early Music":MAILTO:info@amherstearlymusic.org
END:VEVENT
END:VCALENDAR