BEGIN:VCALENDAR
VERSION:2.0
PRODID:-//Newton Cultural Alliance - ECPv6.13.2.1//NONSGML v1.0//EN
CALSCALE:GREGORIAN
METHOD:PUBLISH
X-ORIGINAL-URL:https://newtonculture.org
X-WR-CALDESC:Events for Newton Cultural Alliance
REFRESH-INTERVAL;VALUE=DURATION:PT1H
X-Robots-Tag:noindex
X-PUBLISHED-TTL:PT1H
BEGIN:VTIMEZONE
TZID:America/New_York
BEGIN:DAYLIGHT
TZOFFSETFROM:-0500
TZOFFSETTO:-0400
TZNAME:EDT
DTSTART:20210314T070000
END:DAYLIGHT
BEGIN:STANDARD
TZOFFSETFROM:-0400
TZOFFSETTO:-0500
TZNAME:EST
DTSTART:20211107T060000
END:STANDARD
END:VTIMEZONE
BEGIN:VEVENT
DTSTART;TZID=America/New_York:20211113T080000
DTEND;TZID=America/New_York:20211113T170000
DTSTAMP:20260424T222700
CREATED:20211026T153749Z
LAST-MODIFIED:20211026T153749Z
UID:10019974-1636790400-1636822800@newtonculture.org
SUMMARY:Commonwealth Chorale presents: American Sounds
DESCRIPTION:Live performances are returning and Commonwealth Chorale has a great year planned! Maestro David Carrier has programmed a superb concert season to celebrate his retirement. Be ready to go for a ride with Paul Revere\, pick up a bluegrass banjo\, and then sit back and enjoy Bach and Haydn. \nOur first concert presents nostalgic Americana through the works of Randall Thompson\, Gwyneth Walker and Stephen Paulus.  In March\, we present a unique and uplifting concert with music by Copland and Barnett. The nationally renowned bluegrass band\, Monroe Crossing\, will join us in performing Barnett’s The World Beloved: A Bluegrass Mass. For our final concert in May\, we return to our classical roots with a performance of Haydn’s Missa in Angustiis (Lord Nelson Mass) and Bach’s Cantata 140 (Wachet auf\, ruft uns die Stimme). This is a season not to be missed. \nPurchase tickets here.
URL:https://newtonculture.org/event/commonwealth-chorale-presents-american-sounds/
LOCATION:M
CATEGORIES:Community Event,Culture and Education,Music,Performing Arts
ATTACH;FMTTYPE=image/jpeg:https://newtonculture.org/wp-content/uploads/2021/10/Slideshow-American.jpg
ORGANIZER;CN="Commonwealth Chorale":MAILTO:info@commonwealthchorale.com
END:VEVENT
BEGIN:VEVENT
DTSTART;TZID=America/New_York:20211113T130000
DTEND;TZID=America/New_York:20211113T130000
DTSTAMP:20260424T222700
CREATED:20211022T143032Z
LAST-MODIFIED:20211022T143032Z
UID:10019151-1636808400-1636808400@newtonculture.org
SUMMARY:Scandinavian Cultural Center presents: Jazz on Tap
DESCRIPTION:Tap dance and jazz have a long and intertwined history. From the prohibition on musical instruments during the era of slavery\, which prompted the enslaved African-Americans to find ingenious ways to use their bodies as percussion instruments\, to the early 20th century New York City where Irish and African-American styles of dancing met and enriched each other while innovative popular musical styles were created through the fusion of cultures\, to the film era and the groundbreaking work of Fred Astaire – these two art forms developed side-by-side\, even if at some point their paths have grown somewhat apart. \nTap dancer Alex MacDonald – the original tap soloist and choreographer for the wildly popular vintage jazz band\, Scott Bradlee & Postmodern Jukebox – and pianist and improviser Alex Pryrodny present a fun and educational program that pays tribute to the historical roots of each discipline while fusing them in new ways\, with creativity and lightning speed communication of both virtuoso performers of full display. Get your hands clapping and your feet moving to the rhythms and sounds of “Jazz on Tap!” \n**please note that advanced registration\, masks\, and proof of vaccination are required for this event** \nSaturday\, November 13th | 1pm | register here \nPresented in partnership with Newton at Home.
URL:https://newtonculture.org/event/scandinavian-cultural-center-presents-jazz-on-tap/
LOCATION:Scandinavian Cultural Center\, 206 Waltham St\, Newton\, MA\, 02465\, United States
CATEGORIES:Community Event,Culture and Education,Music
ATTACH;FMTTYPE=image/png:https://newtonculture.org/wp-content/uploads/2021/10/Jazz-on-Tap-187x187-1.png
END:VEVENT
BEGIN:VEVENT
DTSTART;TZID=America/New_York:20211113T200000
DTEND;TZID=America/New_York:20211113T200000
DTSTAMP:20260424T222700
CREATED:20211012T155354Z
LAST-MODIFIED:20211012T160216Z
UID:10019135-1636833600-1636833600@newtonculture.org
SUMMARY:Cappella Clausura presents: Troubadours 2021
DESCRIPTION:Last spring\, Cappella Clausura was proud to offer our Troubadours 2021 Virtual Series\, which featured ten episodes of cross-cultural music alongside artist interviews. This fall\, we are thrilled to be able to offer these riveting pieces– along with some new additions– to in-person audiences. \nJoin us for the live premiere of these pieces and experience a blend of music unlike any other: jazz\, hip-hop\, classical European\, and more. Click here to purchase tickets. \n\n\nTROUBADOURS 2021\nNovember 13th @ 8 PM: Eliot Church in Newton \nNovember 14th @ 4 PM: Emmanuel Church in Boston
URL:https://newtonculture.org/event/cappella-clausura-presents-troubadours-2021/2021-11-13/
LOCATION:M
CATEGORIES:Community Event,Music,Performing Arts
ATTACH;FMTTYPE=image/png:https://newtonculture.org/wp-content/uploads/2021/10/TROUBADOURS-2021-49.png
ORGANIZER;CN="Cappella Clausura":MAILTO:manager@clausura.org
END:VEVENT
BEGIN:VEVENT
DTSTART;TZID=America/New_York:20211114T160000
DTEND;TZID=America/New_York:20211114T160000
DTSTAMP:20260424T222700
CREATED:20211012T155354Z
LAST-MODIFIED:20211012T160216Z
UID:10019136-1636905600-1636905600@newtonculture.org
SUMMARY:Cappella Clausura presents: Troubadours 2021
DESCRIPTION:Last spring\, Cappella Clausura was proud to offer our Troubadours 2021 Virtual Series\, which featured ten episodes of cross-cultural music alongside artist interviews. This fall\, we are thrilled to be able to offer these riveting pieces– along with some new additions– to in-person audiences. \nJoin us for the live premiere of these pieces and experience a blend of music unlike any other: jazz\, hip-hop\, classical European\, and more. Click here to purchase tickets. \n\n\nTROUBADOURS 2021\nNovember 13th @ 8 PM: Eliot Church in Newton \nNovember 14th @ 4 PM: Emmanuel Church in Boston
URL:https://newtonculture.org/event/cappella-clausura-presents-troubadours-2021/2021-11-14/
LOCATION:M
CATEGORIES:Community Event,Music,Performing Arts
ATTACH;FMTTYPE=image/png:https://newtonculture.org/wp-content/uploads/2021/10/TROUBADOURS-2021-49.png
ORGANIZER;CN="Cappella Clausura":MAILTO:manager@clausura.org
END:VEVENT
BEGIN:VEVENT
DTSTART;TZID=America/New_York:20211121T160000
DTEND;TZID=America/New_York:20211121T170000
DTSTAMP:20260424T222700
CREATED:20211108T165649Z
LAST-MODIFIED:20211108T165649Z
UID:10019990-1637510400-1637514000@newtonculture.org
SUMMARY:Suzuki School of Newton presents: Winter Faculty Concert
DESCRIPTION:The Winter Faculty Concert will be hosted in-person by the Newton Presbyterian Church on Sunday\, Nov. 21st at 4:00 PM (at 75 Vernon St. in Newton\, MA). Pieces performed include works by Florence Price\, Rebecca Clarke\, and Johann Sebastian Bach. Tickets will be sold in advance and at the door. The link to buy tickets is here. Please get them early for the best prices! The concert will also broadcasted on Facebook Live for those who are uncomfortable attending in-person. We hope to see you there!
URL:https://newtonculture.org/event/suzuki-school-of-newton-presents-winter-faculty-concert/
LOCATION:Newton Presbyterian Church\, 75 Vernon St.\, Newton\, MA\, United States
CATEGORIES:Community Event,Family Friendly,Music
ATTACH;FMTTYPE=image/jpeg:https://newtonculture.org/wp-content/uploads/2021/11/Winter-Faculty-Concert-2021.jpg
ORGANIZER;CN="Suzuki School of Newton":MAILTO:email@suzukinewton.org
END:VEVENT
BEGIN:VEVENT
DTSTART;TZID=America/New_York:20211122T193000
DTEND;TZID=America/New_York:20211122T193000
DTSTAMP:20260424T222700
CREATED:20211108T170453Z
LAST-MODIFIED:20211108T170453Z
UID:10019991-1637609400-1637609400@newtonculture.org
SUMMARY:Zamir Chorale presents: A Choral Rainbow
DESCRIPTION:This season\, in response to the alarming rise in racism\, antisemitism\, and other forms of prejudice\, we are even more committed to using our resources to expose our audiences (and ourselves) to music representing different cultures\, ethnicities\, and ways of thinking. With that in mind\, we are presenting an online series called “A Choral Rainbow\,” featuring video performances and conversations with the conductors of choruses from diverse and under-represented communities. \nOur first program\, in cooperation with the Consulate General of Israel to New England\, will feature David Hodgkins\, conductor of Coro Allegro—Boston’s LGBTQ+ and allied classical chorus; Micah Hendler\, conductor of The Jerusalem Youth Chorus—a choral and dialogue program for Palestinian and Israeli youth in Jerusalem; and Diana Sáez\, a leading specialist in the field of Latin American choral music. Watch this promo! \nThis is the first of a three-part program. Future programs will be held in February and April 2022. Click here to learn more and register.
URL:https://newtonculture.org/event/zamir-chorale-presents-a-choral-rainbow/
LOCATION:ONLINE\, United Kingdom\, E16 2DQ
CATEGORIES:Community Event,Culture and Education,Music
ATTACH;FMTTYPE=image/jpeg:https://newtonculture.org/wp-content/uploads/2021/10/a-choral-rainbow-cropped.jpg
ORGANIZER;CN="Zamir Chorale of Boston":MAILTO:manager@zamir.org
END:VEVENT
BEGIN:VEVENT
DTSTART;TZID=America/New_York:20211130T200000
DTEND;TZID=America/New_York:20211130T200000
DTSTAMP:20260424T222700
CREATED:20211001T163328Z
LAST-MODIFIED:20211001T163328Z
UID:10019929-1638302400-1638302400@newtonculture.org
SUMMARY:Pro Arte's Salon Series - Salon 2
DESCRIPTION:Pro Arte’s unique cooperative is comprised of musicians equally at home as soloists and chamber musicians as they are within the chamber orchestra. The Salon Series presents an opportunity for members of the cooperative to showcase their craft in various chamber groups performing a variety of exciting works. \nSalon 2 will include a selection of holiday favorites featuring Pro Arte’s brass section. Venue announcement coming soon. Purchase tickets here.
URL:https://newtonculture.org/event/pro-artes-salon-series-salon-2/
LOCATION:M
CATEGORIES:Culture and Education,Music
END:VEVENT
END:VCALENDAR