BEGIN:VCALENDAR
VERSION:2.0
PRODID:-//Newton Cultural Alliance - ECPv6.13.2.1//NONSGML v1.0//EN
CALSCALE:GREGORIAN
METHOD:PUBLISH
X-WR-CALNAME:Newton Cultural Alliance
X-ORIGINAL-URL:https://newtonculture.org
X-WR-CALDESC:Events for Newton Cultural Alliance
REFRESH-INTERVAL;VALUE=DURATION:PT1H
X-Robots-Tag:noindex
X-PUBLISHED-TTL:PT1H
BEGIN:VTIMEZONE
TZID:America/New_York
BEGIN:DAYLIGHT
TZOFFSETFROM:-0500
TZOFFSETTO:-0400
TZNAME:EDT
DTSTART:20250309T070000
END:DAYLIGHT
BEGIN:STANDARD
TZOFFSETFROM:-0400
TZOFFSETTO:-0500
TZNAME:EST
DTSTART:20251102T060000
END:STANDARD
END:VTIMEZONE
BEGIN:VEVENT
DTSTART;TZID=America/New_York:20250412T160000
DTEND;TZID=America/New_York:20250412T170000
DTSTAMP:20260421T093331
CREATED:20250410T162235Z
LAST-MODIFIED:20250410T162414Z
UID:10022921-1744473600-1744477200@newtonculture.org
SUMMARY:Capella Clausura presents Visions for a Kinder World
DESCRIPTION:Visions for a Kinder World \nHow should we live our lives\, in a world where bad things happen to good people? What kinds of love and grace do we owe to ourselves and each other? How can we create lasting change\, peace\, and justice\, for all people? Cappella Clausura’s mission has always been rooted in justice\, in correcting an inequality by performing music by women. This program is our creed more broadly\, and includes music that promotes peace over war\, healing over hurt\, and people over policy. In short\, we present music about the better angels of our nature\, and how we can manifest a kinder world together. \nMusic by Mattia Maurée\, Dorothy Hindman\, Linda Chase\, and others. Proceeds from this concert will be split with The Second Step of Newton\, which provides support and advocacy for victims of domestic violence. Learn more at thesecondstep.org.
URL:https://newtonculture.org/event/visions-for-a-kinder-world-2/
LOCATION:Grace Episcopal Church\, 76 Eldredge Street\, Newton\, MA\, 02458\, United States
CATEGORIES:Music
ATTACH;FMTTYPE=image/jpeg:https://newtonculture.org/wp-content/uploads/2025/04/VisionsForAKinderWorld_SecondStep3.5-scaled.jpg
ORGANIZER;CN="Cappella Clausura":MAILTO:manager@clausura.org
END:VEVENT
BEGIN:VEVENT
DTSTART;TZID=America/New_York:20250413T150000
DTEND;TZID=America/New_York:20250413T170000
DTSTAMP:20260421T093331
CREATED:20250410T162222Z
LAST-MODIFIED:20250410T162705Z
UID:10022922-1744556400-1744563600@newtonculture.org
SUMMARY:Capella Clausura presents Visions for a Kinder World
DESCRIPTION:Visions for a Kinder World \nHow should we live our lives\, in a world where bad things happen to good people? What kinds of love and grace do we owe to ourselves and each other? How can we create lasting change\, peace\, and justice\, for all people? Cappella Clausura’s mission has always been rooted in justice\, in correcting an inequality by performing music by women. This program is our creed more broadly\, and includes music that promotes peace over war\, healing over hurt\, and people over policy. In short\, we present music about the better angels of our nature\, and how we can manifest a kinder world together. \nMusic by Mattia Maurée\, Dorothy Hindman\, Linda Chase\, and others. Proceeds from this concert will be split with The Second Step of Newton\, which provides support and advocacy for victims of domestic violence. Learn more at thesecondstep.org.
URL:https://newtonculture.org/event/visions-for-a-kinder-world/
LOCATION:Emmanuel Church\, 15 Newbury Street\, Boston\, MA\, 02116\, United States
CATEGORIES:Music
ATTACH;FMTTYPE=image/jpeg:https://newtonculture.org/wp-content/uploads/2025/04/VisionsForAKinderWorld_SecondStep3.5-1-scaled.jpg
ORGANIZER;CN="Cappella Clausura":MAILTO:manager@clausura.org
END:VEVENT
END:VCALENDAR