BEGIN:VCALENDAR
VERSION:2.0
PRODID:-//Newton Cultural Alliance - ECPv6.13.2.1//NONSGML v1.0//EN
CALSCALE:GREGORIAN
METHOD:PUBLISH
X-WR-CALNAME:Newton Cultural Alliance
X-ORIGINAL-URL:https://newtonculture.org
X-WR-CALDESC:Events for Newton Cultural Alliance
REFRESH-INTERVAL;VALUE=DURATION:PT1H
X-Robots-Tag:noindex
X-PUBLISHED-TTL:PT1H
BEGIN:VTIMEZONE
TZID:America/New_York
BEGIN:DAYLIGHT
TZOFFSETFROM:-0500
TZOFFSETTO:-0400
TZNAME:EDT
DTSTART:20250309T070000
END:DAYLIGHT
BEGIN:STANDARD
TZOFFSETFROM:-0400
TZOFFSETTO:-0500
TZNAME:EST
DTSTART:20251102T060000
END:STANDARD
END:VTIMEZONE
BEGIN:VEVENT
DTSTART;TZID=America/New_York:20250503T170000
DTEND;TZID=America/New_York:20250503T183000
DTSTAMP:20260421T081202
CREATED:20250502T151047Z
LAST-MODIFIED:20250502T151047Z
UID:10022943-1746291600-1746297000@newtonculture.org
SUMMARY:Suzuki School presents Violin Graduation Concert & Reception
DESCRIPTION:Suzuki Violin Students present a celebration concert of the entire Suzuki Book 7 repertoire including Handel Sonata in A Major and the JS Bach Concerto in A Minor. Led by String Dept Chair\, San-yi Lin and Violin facutly Dr. Joy Grimes\, these high school students will share their achievements with this free concert followed by a reception. The Newton Watercolor Society will have a new exhibit for people to enjoy as they mix and mingle.
URL:https://newtonculture.org/event/suzuki-school-presents-violin-graduation-concert-reception/
LOCATION:Suzuki School of Newton\, 1615 Beacon St\, Waban\, MA\, 02468\, United States
CATEGORIES:Free Event
ATTACH;FMTTYPE=image/png:https://newtonculture.org/wp-content/uploads/2025/04/Violin-Graduation-Bk-7.png
ORGANIZER;CN="Suzuki School of Newton":MAILTO:email@suzukinewton.org
END:VEVENT
BEGIN:VEVENT
DTSTART;TZID=America/New_York:20250510T193000
DTEND;TZID=America/New_York:20250510T213000
DTSTAMP:20260421T081202
CREATED:20250502T151129Z
LAST-MODIFIED:20250502T151129Z
UID:10022940-1746905400-1746912600@newtonculture.org
SUMMARY:Newton Baroque presents Harmonia artificioso-ariosa: Music for two violins and continuo by Heinrich Ignaz Franz von Biber
DESCRIPTION:The day is fast approaching when Newton Baroque will take a huge leap and play our first concert at a major international festival. On June 9\, we will play an all-Biber program at the Tage Alter Musik in Regensburg\, Germany. Before we leave for Germany\, we’ll play the concert on May 9 and 10 for our friends in Boston and Newton. The program consists entirely of Partie for two violins and continuo from Heinrich Ignaz Franz von Biber’s Harmonia artificioso-ariosa. Each of the four Partie on the concert requires a different scordatura tuning\, and they are arguably the most astounding works for two violins and continuo from the 17th century. You may have heard us play a few of these pieces before; over the last two years\, we have programmed isolated sonatas from the set to prepare for our event in Regensburg\, and now you can hear the full program in its entirety. If there were ever a do-not-miss concert\, it is this one. These pieces by Biber are incredibly challenging technically\, but we have been preparing for a long time\, and they are polished and ready. Also\, we have been living with them long enough now to engage in even more than our usual amount of risk-taking\, and I believe you will be in for a tremendous show. Susanna and Christina are among the best in the world at playing this music\, and Cullen and Andrus are in the perfect continuo groove to underpin the violin fireworks.
URL:https://newtonculture.org/event/newton-baroque-presents-harmonia-artificioso-ariosa-music-for-two-violins-and-continuo-by-heinrich-ignaz-franz-von-biber/
LOCATION:the allen center\, 35 Webster Street\, West Newton\, MA\, 02465\, United States
CATEGORIES:Music
ATTACH;FMTTYPE=image/jpeg:https://newtonculture.org/wp-content/uploads/2025/04/Orazio_Gentileschi_-_Young_Woman_Playing_a_Violin.jpeg
END:VEVENT
BEGIN:VEVENT
DTSTART;TZID=America/New_York:20250517T140000
DTEND;TZID=America/New_York:20250517T180000
DTSTAMP:20260421T081202
CREATED:20250502T151015Z
LAST-MODIFIED:20250502T151237Z
UID:10022944-1747490400-1747504800@newtonculture.org
SUMMARY:Suzuki School presents Multicultural Festival 2025!
DESCRIPTION:Suzuki Newton’s Multicultural Festival 2025 \nJoin us for an afternoon of music\, art\, food\, and community at the Suzuki School of Newton on Saturday\, May 17\, 2025! \n📍 Location: 1615 Beacon St.\, Waban\, MA 02468\n🕑 Time: Festivities kick off at 2:00 PM and continue throughout the afternoon. \n🎶 Music Performances:\nThe afternoon begins with Folk Baroque at 2:00 PM\, followed by the dance rhythms of Salsa y Control\, and performances by the talented Suzuki Violin Students. \n🖼️ Intergenerational Art Show:\nCelebrate creativity across ages with an exhibit featuring artwork from Suzuki Preschoolers alongside local Newton artists from the Newton Art Association and Newton Watercolor Society! \n🏫 Preschool Open House:\nFamilies with young children are invited to tour the classrooms\, meet our teachers and director\, and learn about our Suzuki Preschool community. \n🍽️ International Potluck:\nBring a favorite family dish to share and experience the world through food. Please include a card listing ingredients and possible allergens to ensure everyone can enjoy safely. \n🌟 Admission:\nThis event is free and open to the public! Kids and adults of all ages are welcome to come celebrate our Newton Community! Bring a blanket or lawn chair and spend the afternoon making memories with us. \n#SuzukiSchoolofNewton #MulticulturalFestival
URL:https://newtonculture.org/event/suzuki-newtons-multicultural-festival-2025/
LOCATION:Suzuki School of Newton\, 1615 Beacon St\, Waban\, MA\, 02468\, United States
CATEGORIES:Art,Music
ATTACH;FMTTYPE=image/jpeg:https://newtonculture.org/wp-content/uploads/2025/05/MCF-25-Instagram-Post-45-1-scaled.jpg
ORGANIZER;CN="Suzuki School of Newton":MAILTO:email@suzukinewton.org
END:VEVENT
END:VCALENDAR