BEGIN:VCALENDAR
VERSION:2.0
PRODID:-//Newton Cultural Alliance - ECPv6.13.2.1//NONSGML v1.0//EN
CALSCALE:GREGORIAN
METHOD:PUBLISH
X-WR-CALNAME:Newton Cultural Alliance
X-ORIGINAL-URL:https://newtonculture.org
X-WR-CALDESC:Events for Newton Cultural Alliance
REFRESH-INTERVAL;VALUE=DURATION:PT1H
X-Robots-Tag:noindex
X-PUBLISHED-TTL:PT1H
BEGIN:VTIMEZONE
TZID:America/New_York
BEGIN:DAYLIGHT
TZOFFSETFROM:-0500
TZOFFSETTO:-0400
TZNAME:EDT
DTSTART:20250309T070000
END:DAYLIGHT
BEGIN:STANDARD
TZOFFSETFROM:-0400
TZOFFSETTO:-0500
TZNAME:EST
DTSTART:20251102T060000
END:STANDARD
END:VTIMEZONE
BEGIN:VEVENT
DTSTART;TZID=America/New_York:20250606T190000
DTEND;TZID=America/New_York:20250606T210000
DTSTAMP:20260421T064542
CREATED:20250516T140022Z
LAST-MODIFIED:20250516T140022Z
UID:10022950-1749236400-1749243600@newtonculture.org
SUMMARY:House Concert with Rising Star Sam Robbins\, Cam Olver opens
DESCRIPTION:Come join us for our next house concert with singer-songwriter Sam Robbins. This is a rare opportunity to be up close with a-soon-to-be-famous contemporary folk musician! Cam Olver will be opening with his unique fingerstyle guitar. You will be welcome in our friendly home. Drinks\, snacks\, and plenty of joy provided as we connect through music to the larger circles among us. \nSam Robbins is often described as an “old soul singer songwriter” whose music evokes singer songwriters like James Taylor and Jackson Browne. Sam adds a modern\, upbeat edge to the storyteller troubadour persona. An avid performer\, he has gained recognition from extensive national touring\, from sharing the stage with artists like Jason Mraz and Liz Longley\, and as a main stage performer at festivals like Kerrville and Falcon Ridge. Robbins has gained a reputation as one of the brightest rising stars in the national folk music community. \nhttps://samrobbinsmusic.com/home \nCam Olver\, a Newton based solo guitarist specializing in fingerstyle will be opening. Cam creates intricate arrangements that seemingly defy the capabilities of one instrument and emulate the lavish construction of a full band. \nhttps://camolver.com \nTo reserve a seat\, ASAP\, email Susan at houseconcertsnewton@gmail.com. Info will then be sent to you. Suggested minimum $25 donation goes directly to musicians. Doors open at 6:30.
URL:https://newtonculture.org/event/house-concert-with-rising-star-sam-robbins-cam-olver-opens/
LOCATION:House Of Play House Concerts\, Newton\, MA\, 02461\, United States
CATEGORIES:Music
ATTACH;FMTTYPE=image/png:https://newtonculture.org/wp-content/uploads/2025/05/IMG_0430.png
ORGANIZER;CN="Susan Hurwit":MAILTO:Houseconcertsnewton@gmail.com
END:VEVENT
END:VCALENDAR