BEGIN:VCALENDAR
VERSION:2.0
PRODID:-//Newton Cultural Alliance - ECPv6.13.2.1//NONSGML v1.0//EN
CALSCALE:GREGORIAN
METHOD:PUBLISH
X-WR-CALNAME:Newton Cultural Alliance
X-ORIGINAL-URL:https://newtonculture.org
X-WR-CALDESC:Events for Newton Cultural Alliance
REFRESH-INTERVAL;VALUE=DURATION:PT1H
X-Robots-Tag:noindex
X-PUBLISHED-TTL:PT1H
BEGIN:VTIMEZONE
TZID:America/New_York
BEGIN:DAYLIGHT
TZOFFSETFROM:-0500
TZOFFSETTO:-0400
TZNAME:EDT
DTSTART:20200308T070000
END:DAYLIGHT
BEGIN:STANDARD
TZOFFSETFROM:-0400
TZOFFSETTO:-0500
TZNAME:EST
DTSTART:20201101T060000
END:STANDARD
END:VTIMEZONE
BEGIN:VEVENT
DTSTART;VALUE=DATE:20201203
DTEND;VALUE=DATE:20201204
DTSTAMP:20260425T235022
CREATED:20200330T171900Z
LAST-MODIFIED:20200406T152214Z
UID:10016147-1606953600-1607039999@newtonculture.org
SUMMARY:An online series on the history & nature of Jewish choral music
DESCRIPTION:These audio and video podcasts\, presented by Zamir Chorale of Boston\, can serve as an introduction to the field of Jewish Choral Music. But caveat lector\, these are not comprehensive; they provide only an introduction to the field. Readers may follow up with the many texts and websites that are listed elsewhere in this website: https://www.jewishchoralmusic.com/podcasts
URL:https://newtonculture.org/event/an-online-series-on-the-history-and-nature-of-jewish-choral-music/2020-12-03/
LOCATION:ONLINE\, United Kingdom\, E16 2DQ
CATEGORIES:Culture and Education
ATTACH;FMTTYPE=image/jpeg:https://newtonculture.org/wp-content/uploads/2020/03/JewishChoralMusic-homepage-1024x568-1.jpg
ORGANIZER;CN="Zamir Chorale of Boston":MAILTO:manager@zamir.org
END:VEVENT
BEGIN:VEVENT
DTSTART;TZID=America/New_York:20201203T170000
DTEND;TZID=America/New_York:20201203T174500
DTSTAMP:20260425T235022
CREATED:20200826T195156Z
LAST-MODIFIED:20200826T195156Z
UID:10019086-1607014800-1607017500@newtonculture.org
SUMMARY:All Newton Music School: Broadway Bound Online Class
DESCRIPTION:Actors will spend the Semester creating and exploring imaginative characters\, learning choreography\, and proper singing technique with director\, composer\, and playwright Kelvyn Koning; an experienced musical theatre educator. \nBroadway Bound will allow each actor to sing\, dance\, deliver lines\, and be part of a virtual theatrical ensemble which builds presence and self-confidence. \nCreative and engaging instructor Mr. Kelvyn will work with the young actors ideas to compose original music and scenes for each class as they prepare a virtual world premiere production! \nBefore filming\, the student will be provided with a Broadway Bound “Backstage” Box with all the costume pieces and props needed to film their scenes\, songs\, and choreography with flair! \nClick here for registration. \nAges 5-7 years\nSept. 12 to Jan. 16 – Saturdays: 1:00 – 1:45 pm \nAges 8-10 years\nSept. 10 to Jan. 7  – Thursday: 5:00 – 5:45 pm\nSept. 12 to Jan. 16 – Saturday: 1:45 – 2:30 pm
URL:https://newtonculture.org/event/all-newton-music-school-broadway-bound-online-class/2020-12-03/
LOCATION:ONLINE\, United Kingdom\, E16 2DQ
CATEGORIES:Culture and Education,Family Friendly,Music,Performing Arts
ATTACH;FMTTYPE=image/png:https://newtonculture.org/wp-content/uploads/2020/08/ScreenShot2020-08-11at7.03.56PM.png
END:VEVENT
BEGIN:VEVENT
DTSTART;TZID=America/New_York:20201203T200000
DTEND;TZID=America/New_York:20201203T220000
DTSTAMP:20260425T235022
CREATED:20200914T160127Z
LAST-MODIFIED:20200914T160127Z
UID:10019157-1607025600-1607032800@newtonculture.org
SUMMARY:Pro Arte's Fall Salon Series: Salon 6
DESCRIPTION:The Fall Salon Series takes place entirely online. Each of these six concerts premieres at 8pm on Thursday night and will be available to watch through the following Sunday. On the night of the premiere\, the performance will also be followed by a live Q&A session with that night’s musicians. Tickets for each performance are $20 for an individual or $35 for families. Click here to purchase tickets. \nSalon 6: Program details coming soon.
URL:https://newtonculture.org/event/pro-artes-fall-salon-series-salon-6/
LOCATION:ONLINE\, United Kingdom\, E16 2DQ
CATEGORIES:Community Event,Music
END:VEVENT
END:VCALENDAR