BEGIN:VCALENDAR
VERSION:2.0
PRODID:-//Newton Cultural Alliance - ECPv6.13.2.1//NONSGML v1.0//EN
CALSCALE:GREGORIAN
METHOD:PUBLISH
X-ORIGINAL-URL:https://newtonculture.org
X-WR-CALDESC:Events for Newton Cultural Alliance
REFRESH-INTERVAL;VALUE=DURATION:PT1H
X-Robots-Tag:noindex
X-PUBLISHED-TTL:PT1H
BEGIN:VTIMEZONE
TZID:America/New_York
BEGIN:DAYLIGHT
TZOFFSETFROM:-0500
TZOFFSETTO:-0400
TZNAME:EDT
DTSTART:20210314T070000
END:DAYLIGHT
BEGIN:STANDARD
TZOFFSETFROM:-0400
TZOFFSETTO:-0500
TZNAME:EST
DTSTART:20211107T060000
END:STANDARD
END:VTIMEZONE
BEGIN:VEVENT
DTSTART;TZID=America/New_York:20210408T200000
DTEND;TZID=America/New_York:20210408T200000
DTSTAMP:20260425T155356
CREATED:20210405T165802Z
LAST-MODIFIED:20210405T170238Z
UID:10019518-1617912000-1617912000@newtonculture.org
SUMMARY:Pro Arte's Spring Series: Salon 1
DESCRIPTION:The Spring Salon Series takes place entirely online. Concerts premiere at 8pm on Thursday night and are available to watch through the following Sunday. On the night of the premiere\, the performance will also be followed by a live Q&A session with that night’s musicians. Tickets for each performance are $20 for an individual or $35 for families. Click here to purchase tickets. \nProgram: \nJACQUES IBERT Cinq Pièces en Trio\nSIMON SARGON Haas Trio for oboe\, bassoon\, and piano\nW.A. MOZART Quintet for Piano and Winds in E-flat Major\, K. 452 \n​
URL:https://newtonculture.org/event/pro-arte-presents-spring-salon-series-1/
LOCATION:ONLINE\, United Kingdom\, E16 2DQ
CATEGORIES:Culture and Education,Music
END:VEVENT
END:VCALENDAR