BEGIN:VCALENDAR
VERSION:2.0
PRODID:-//Newton Cultural Alliance - ECPv6.13.2.1//NONSGML v1.0//EN
CALSCALE:GREGORIAN
METHOD:PUBLISH
X-WR-CALNAME:Newton Cultural Alliance
X-ORIGINAL-URL:https://newtonculture.org
X-WR-CALDESC:Events for Newton Cultural Alliance
REFRESH-INTERVAL;VALUE=DURATION:PT1H
X-Robots-Tag:noindex
X-PUBLISHED-TTL:PT1H
BEGIN:VTIMEZONE
TZID:America/New_York
BEGIN:DAYLIGHT
TZOFFSETFROM:-0500
TZOFFSETTO:-0400
TZNAME:EDT
DTSTART:20210314T070000
END:DAYLIGHT
BEGIN:STANDARD
TZOFFSETFROM:-0400
TZOFFSETTO:-0500
TZNAME:EST
DTSTART:20211107T060000
END:STANDARD
END:VTIMEZONE
BEGIN:VEVENT
DTSTART;TZID=America/New_York:20210410T183000
DTEND;TZID=America/New_York:20210410T193000
DTSTAMP:20260425T173034
CREATED:20210326T161109Z
LAST-MODIFIED:20210326T161109Z
UID:10019485-1618079400-1618083000@newtonculture.org
SUMMARY:Suzuki School of Newton presents: New Horizons Concert
DESCRIPTION:Our New Horizons Concert\, a faculty concert with pieces performed by our teachers\, will be occurring on Saturday\, April 10th\, 2021 via Facebook Live! The music performed will be focusing on women composers and music from other cultures other than Western Classical. Join us on our Facebook page then!
URL:https://newtonculture.org/event/suzuki-school-of-newton-presents-new-horizons-concert/
LOCATION:Facebook Live\, United States
CATEGORIES:Community Event,Culture and Education,Music,Performing Arts
ATTACH;FMTTYPE=image/png:https://newtonculture.org/wp-content/uploads/2021/03/NewHorizonsConcert.png
ORGANIZER;CN="Suzuki School of Newton":MAILTO:email@suzukinewton.org
END:VEVENT
END:VCALENDAR