BEGIN:VCALENDAR
VERSION:2.0
PRODID:-//Newton Cultural Alliance - ECPv6.13.2.1//NONSGML v1.0//EN
CALSCALE:GREGORIAN
METHOD:PUBLISH
X-WR-CALNAME:Newton Cultural Alliance
X-ORIGINAL-URL:https://newtonculture.org
X-WR-CALDESC:Events for Newton Cultural Alliance
REFRESH-INTERVAL;VALUE=DURATION:PT1H
X-Robots-Tag:noindex
X-PUBLISHED-TTL:PT1H
BEGIN:VTIMEZONE
TZID:America/New_York
BEGIN:DAYLIGHT
TZOFFSETFROM:-0500
TZOFFSETTO:-0400
TZNAME:EDT
DTSTART:20210314T070000
END:DAYLIGHT
BEGIN:STANDARD
TZOFFSETFROM:-0400
TZOFFSETTO:-0500
TZNAME:EST
DTSTART:20211107T060000
END:STANDARD
END:VTIMEZONE
BEGIN:VEVENT
DTSTART;TZID=America/New_York:20211223T193000
DTEND;TZID=America/New_York:20211223T193000
DTSTAMP:20260424T205843
CREATED:20211103T144055Z
LAST-MODIFIED:20211103T144056Z
UID:10019979-1640287800-1640287800@newtonculture.org
SUMMARY:Zamir Chorale of Boston presents: Hanukkah Happens
DESCRIPTION:Mark your calendars for our Hanukkah Happens concert featuring a full orchestra. Gala concert with Zamir orchestra\, Josh Jacobson and Cantor Elias Rosemberg joining us for many old and recent favorites. The program will include Machtenberg’s “Shehecheyonu\,” Bloch’s “Kedushah” (from the Sacred Service )\, Jagoda’s “Ocho Kandelikas\,” and a medley of melodies by Debbie Friedman arranged by Jeremiah Klarman.
URL:https://newtonculture.org/event/zamir-chorale-of-boston-presents-hanukkah-happens/
LOCATION:Temple Emanuel\, 385 Ward Street\, Newton\, MA\, 02459\, United States
CATEGORIES:Community Event,Culture and Education,Music
ATTACH;FMTTYPE=image/png:https://newtonculture.org/wp-content/uploads/2021/11/Hanukkah-Happens-4.png
ORGANIZER;CN="Zamir Chorale of Boston":MAILTO:manager@zamir.org
END:VEVENT
END:VCALENDAR