BEGIN:VCALENDAR
VERSION:2.0
PRODID:-//Newton Cultural Alliance - ECPv6.13.2.1//NONSGML v1.0//EN
CALSCALE:GREGORIAN
METHOD:PUBLISH
X-ORIGINAL-URL:https://newtonculture.org
X-WR-CALDESC:Events for Newton Cultural Alliance
REFRESH-INTERVAL;VALUE=DURATION:PT1H
X-Robots-Tag:noindex
X-PUBLISHED-TTL:PT1H
BEGIN:VTIMEZONE
TZID:America/New_York
BEGIN:DAYLIGHT
TZOFFSETFROM:-0500
TZOFFSETTO:-0400
TZNAME:EDT
DTSTART:20240310T070000
END:DAYLIGHT
BEGIN:STANDARD
TZOFFSETFROM:-0400
TZOFFSETTO:-0500
TZNAME:EST
DTSTART:20241103T060000
END:STANDARD
END:VTIMEZONE
BEGIN:VEVENT
DTSTART;TZID=America/New_York:20241116T160000
DTEND;TZID=America/New_York:20241116T173000
DTSTAMP:20260422T073144
CREATED:20241125T223216Z
LAST-MODIFIED:20241125T223216Z
UID:10022728-1731772800-1731778200@newtonculture.org
SUMMARY:Music to Lighten the Darkness
DESCRIPTION:As the winter deepens and the days become shorter\, we take this time to reflect on light and darkness – physical and emotional – and the challenges that we all face during this cold and lonely time. Cappella Clausura offers a performance on these subjects as a spiritual balm\, with music by living women composers who speak directly to the challenges that come during this time of year. Please join us for this journey\, as we bring you through darkness to light. \nMusic by Anna Clyne\, Ashi Day\, Jessica French\, Natalie Draper\, Dorothy Hindman\, Alma Mahler\, and some classic Hildegard. Including a performance of Francis Poulenc’s epic and rarely-heard “Soir de Neige”. \nIndividual tickets are on sale now through the website: clausura.org\, or patrons can charge by phone at 617.993.0013. Single tickets: General Admission @ $35\, Student/Under 30 @ $15 and\, Card to Culture @ $5. For further information\, contact manager@clausura.org.
URL:https://newtonculture.org/event/music-to-lighten-the-darkness/
LOCATION:Grace Episcopal Church\, 76 Eldredge Street\, Newton\, MA\, 02458\, United States
CATEGORIES:Music
ATTACH;FMTTYPE=image/jpeg:https://newtonculture.org/wp-content/uploads/2024/10/musictolightenthedarknessposter-small-scaled.jpg
ORGANIZER;CN="Cappella Clausura":MAILTO:manager@clausura.org
END:VEVENT
END:VCALENDAR