BEGIN:VCALENDAR
VERSION:2.0
PRODID:-//Newton Cultural Alliance - ECPv6.13.2.1//NONSGML v1.0//EN
CALSCALE:GREGORIAN
METHOD:PUBLISH
X-WR-CALNAME:Newton Cultural Alliance
X-ORIGINAL-URL:https://newtonculture.org
X-WR-CALDESC:Events for Newton Cultural Alliance
REFRESH-INTERVAL;VALUE=DURATION:PT1H
X-Robots-Tag:noindex
X-PUBLISHED-TTL:PT1H
BEGIN:VTIMEZONE
TZID:America/New_York
BEGIN:DAYLIGHT
TZOFFSETFROM:-0500
TZOFFSETTO:-0400
TZNAME:EDT
DTSTART:20200308T070000
END:DAYLIGHT
BEGIN:STANDARD
TZOFFSETFROM:-0400
TZOFFSETTO:-0500
TZNAME:EST
DTSTART:20201101T060000
END:STANDARD
END:VTIMEZONE
BEGIN:VEVENT
DTSTART;TZID=America/New_York:20200201T193000
DTEND;TZID=America/New_York:20200201T220000
DTSTAMP:20260425T203519
CREATED:20200127T185812Z
LAST-MODIFIED:20200210T170228Z
UID:10015896-1580585400-1580594400@newtonculture.org
SUMMARY:New Phil: A Musical Tapestry - A Silver Salon Evening
DESCRIPTION:Join the New Phil for a special evening of chamber ensembles and culinary treats! The program for this tapestry-style event will include the music of Bach\, Suk\, Stravinsky\, and Mozart’s great Symphony No. 40. The evening will include fanciful refreshments and a chance to explore the beauty of the exquisite Gregorian Oriental Rugs in Newton Lower Falls. Music at its very best–up close and personal! All tickets for this program are $35. More info at newphil.org.
URL:https://newtonculture.org/event/a-musical-tapestry-a-silver-salon-evening/
LOCATION:MA
CATEGORIES:Music,Performing Arts
ORGANIZER;CN="New Philharmonia Orchestra":MAILTO:info@newphil.org
END:VEVENT
BEGIN:VEVENT
DTSTART;TZID=America/New_York:20200206T190000
DTEND;TZID=America/New_York:20200206T203000
DTSTAMP:20260425T203519
CREATED:20200129T182652Z
LAST-MODIFIED:20200210T165024Z
UID:10016353-1581015600-1581021000@newtonculture.org
SUMMARY:Pro Arte's All-Mozart Salon
DESCRIPTION:Come and enjoy this classic all-Mozart program featuring the rich tenor voices of french horn and viola. The rarely heard horn quintet\, featuring the playing of Pro Arte’s principal horn Robert Marlatt\, will surely be a treasure. Musicologist Alfred Einstein\, a great fan of this work\, described the slow movement “a little love duet between horn and violin.” It is also interesting to note that Mozart chose to write for two violas\, perhaps because he felt their timbre best accompanied the horn. Also featured is one of Mozart’s most famous chamber music works: the iconic viola quintet in G minor with it’s hauntingly gorgeous melodies. Cost: $20-25. More info at proarte.org.
URL:https://newtonculture.org/event/pro-artes-all-mozart-salon/
LOCATION:MA
CATEGORIES:Music,Performing Arts
END:VEVENT
END:VCALENDAR