BEGIN:VCALENDAR
VERSION:2.0
PRODID:-//Newton Cultural Alliance - ECPv6.13.2.1//NONSGML v1.0//EN
CALSCALE:GREGORIAN
METHOD:PUBLISH
X-ORIGINAL-URL:https://newtonculture.org
X-WR-CALDESC:Events for Newton Cultural Alliance
REFRESH-INTERVAL;VALUE=DURATION:PT1H
X-Robots-Tag:noindex
X-PUBLISHED-TTL:PT1H
BEGIN:VTIMEZONE
TZID:America/New_York
BEGIN:DAYLIGHT
TZOFFSETFROM:-0500
TZOFFSETTO:-0400
TZNAME:EDT
DTSTART:20200308T070000
END:DAYLIGHT
BEGIN:STANDARD
TZOFFSETFROM:-0400
TZOFFSETTO:-0500
TZNAME:EST
DTSTART:20201101T060000
END:STANDARD
END:VTIMEZONE
BEGIN:VEVENT
DTSTART;TZID=America/New_York:20200516T190000
DTEND;TZID=America/New_York:20200516T220000
DTSTAMP:20260425T125547
CREATED:20200128T155845Z
LAST-MODIFIED:20200427T144636Z
UID:10016351-1589655600-1589666400@newtonculture.org
SUMMARY:New Phil: Classics III - Music for All CANCELED
DESCRIPTION:The New Philharmonia Orchestra wraps up its exciting 25th season filled with celebratory spirit\, incredible music\, and exciting guest performances. Join them as they perform “Music for All\,” a program which includes the world premiere of a piece by Tom Vignieri\, Beethoven’s masterwork\, Symphony No. 9\, and beautiful singing from the Metropolitan Chorale. Tickets are $10-$48. The concert will be followed by a reception. For more information visit newphil.org. \nClassics III Program: Vignieri               World premiere\, a New Phil anniversary commission Beethoven          Symphony No. 9                               Rachele Schmiege\, soprano                               Britt Brown\, mezzo soprano                               Omar Najmi\, tenor                               Ryne Cherry\, baritone                               Metropolitan Chorale\, Lisa Graham\, Music Director \n 
URL:https://newtonculture.org/event/classics-iii-music-for-all/2020-05-16/
LOCATION:First Baptist Church in Newton\, 848 Beacon St\, Newton\, MA\, 02459\, United States
CATEGORIES:Music,Performing Arts
ORGANIZER;CN="New Philharmonia Orchestra":MAILTO:info@newphil.org
END:VEVENT
BEGIN:VEVENT
DTSTART;TZID=America/New_York:20200517T150000
DTEND;TZID=America/New_York:20200517T160000
DTSTAMP:20260425T125547
CREATED:20200507T142844Z
LAST-MODIFIED:20200507T142853Z
UID:10018292-1589727600-1589731200@newtonculture.org
SUMMARY:Pro Arte: Salon Livestream Concert
DESCRIPTION:Pro Arte was supposed to perform the third Salon concert of the season at the Scandinavian Cultural Center on May 17. The musicians are recording performances from their homes that will be live streamed on Facebook.com/ProArteBoston to share with the Pro Arte community. Music brings us together as one\, especially when socially distanced. Please join us for expert performances from the comfort of home. \nThis performance will be streamed free of charge. Donations are welcome.
URL:https://newtonculture.org/event/pro-arte-salon-livestream-concert/
LOCATION:Facebook Live\, United States
CATEGORIES:Community Event,Music,Performing Arts
ATTACH;FMTTYPE=image/jpeg:https://newtonculture.org/wp-content/uploads/2020/05/76958039_10157834820593735_4217885921665613824_o-scaled.jpg
END:VEVENT
BEGIN:VEVENT
DTSTART;TZID=America/New_York:20200517T150000
DTEND;TZID=America/New_York:20200517T180000
DTSTAMP:20260425T125547
CREATED:20200128T155845Z
LAST-MODIFIED:20200427T144636Z
UID:10016352-1589727600-1589738400@newtonculture.org
SUMMARY:New Phil: Classics III - Music for All CANCELED
DESCRIPTION:The New Philharmonia Orchestra wraps up its exciting 25th season filled with celebratory spirit\, incredible music\, and exciting guest performances. Join them as they perform “Music for All\,” a program which includes the world premiere of a piece by Tom Vignieri\, Beethoven’s masterwork\, Symphony No. 9\, and beautiful singing from the Metropolitan Chorale. Tickets are $10-$48. The concert will be followed by a reception. For more information visit newphil.org. \nClassics III Program: Vignieri               World premiere\, a New Phil anniversary commission Beethoven          Symphony No. 9                               Rachele Schmiege\, soprano                               Britt Brown\, mezzo soprano                               Omar Najmi\, tenor                               Ryne Cherry\, baritone                               Metropolitan Chorale\, Lisa Graham\, Music Director \n 
URL:https://newtonculture.org/event/classics-iii-music-for-all/2020-05-17/
LOCATION:First Baptist Church in Newton\, 848 Beacon St\, Newton\, MA\, 02459\, United States
CATEGORIES:Music,Performing Arts
ORGANIZER;CN="New Philharmonia Orchestra":MAILTO:info@newphil.org
END:VEVENT
END:VCALENDAR