BEGIN:VCALENDAR
VERSION:2.0
PRODID:-//Newton Cultural Alliance - ECPv6.13.2.1//NONSGML v1.0//EN
CALSCALE:GREGORIAN
METHOD:PUBLISH
X-WR-CALNAME:Newton Cultural Alliance
X-ORIGINAL-URL:https://newtonculture.org
X-WR-CALDESC:Events for Newton Cultural Alliance
REFRESH-INTERVAL;VALUE=DURATION:PT1H
X-Robots-Tag:noindex
X-PUBLISHED-TTL:PT1H
BEGIN:VTIMEZONE
TZID:America/New_York
BEGIN:DAYLIGHT
TZOFFSETFROM:-0500
TZOFFSETTO:-0400
TZNAME:EDT
DTSTART:20200308T070000
END:DAYLIGHT
BEGIN:STANDARD
TZOFFSETFROM:-0400
TZOFFSETTO:-0500
TZNAME:EST
DTSTART:20201101T060000
END:STANDARD
END:VTIMEZONE
BEGIN:VEVENT
DTSTART;TZID=America/New_York:20200516T190000
DTEND;TZID=America/New_York:20200516T220000
DTSTAMP:20260425T142253
CREATED:20200128T155845Z
LAST-MODIFIED:20200427T144636Z
UID:10016351-1589655600-1589666400@newtonculture.org
SUMMARY:New Phil: Classics III - Music for All CANCELED
DESCRIPTION:The New Philharmonia Orchestra wraps up its exciting 25th season filled with celebratory spirit\, incredible music\, and exciting guest performances. Join them as they perform “Music for All\,” a program which includes the world premiere of a piece by Tom Vignieri\, Beethoven’s masterwork\, Symphony No. 9\, and beautiful singing from the Metropolitan Chorale. Tickets are $10-$48. The concert will be followed by a reception. For more information visit newphil.org. \nClassics III Program: Vignieri               World premiere\, a New Phil anniversary commission Beethoven          Symphony No. 9                               Rachele Schmiege\, soprano                               Britt Brown\, mezzo soprano                               Omar Najmi\, tenor                               Ryne Cherry\, baritone                               Metropolitan Chorale\, Lisa Graham\, Music Director \n 
URL:https://newtonculture.org/event/classics-iii-music-for-all/2020-05-16/
LOCATION:First Baptist Church in Newton\, 848 Beacon St\, Newton\, MA\, 02459\, United States
CATEGORIES:Music,Performing Arts
ORGANIZER;CN="New Philharmonia Orchestra":MAILTO:info@newphil.org
END:VEVENT
END:VCALENDAR