BEGIN:VCALENDAR
VERSION:2.0
PRODID:-//Newton Cultural Alliance - ECPv6.13.2.1//NONSGML v1.0//EN
CALSCALE:GREGORIAN
METHOD:PUBLISH
X-WR-CALNAME:Newton Cultural Alliance
X-ORIGINAL-URL:https://newtonculture.org
X-WR-CALDESC:Events for Newton Cultural Alliance
REFRESH-INTERVAL;VALUE=DURATION:PT1H
X-Robots-Tag:noindex
X-PUBLISHED-TTL:PT1H
BEGIN:VTIMEZONE
TZID:America/New_York
BEGIN:DAYLIGHT
TZOFFSETFROM:-0500
TZOFFSETTO:-0400
TZNAME:EDT
DTSTART:20250309T070000
END:DAYLIGHT
BEGIN:STANDARD
TZOFFSETFROM:-0400
TZOFFSETTO:-0500
TZNAME:EST
DTSTART:20251102T060000
END:STANDARD
END:VTIMEZONE
BEGIN:VEVENT
DTSTART;TZID=America/New_York:20250501T173000
DTEND;TZID=America/New_York:20250501T193000
DTSTAMP:20260420T194815
CREATED:20250417T220551Z
LAST-MODIFIED:20250417T220612Z
UID:10022933-1746120600-1746127800@newtonculture.org
SUMMARY:New Art Center presents Plates with Purpose: Form & Function in Clay
DESCRIPTION:Join the New Art Center in celebrating the opening of the New Art’s Adult Ceramics Student Exhibition\, “Plates with Purpose: Form & Function in Clay”- A Special Exhibition by the New Art Center’s Adult Ceramics Students From the Winter Term\, 2025. \nOpen and Free to the Public: Join us for the opening reception on Thursday\, May\, 1st\, 5:30 – 7:30 PM At 61 Washington Park\, Newton\, MA 02460 \nMingle with some of our student artists while exploring over 25 plates (some are for sale)\, enjoy this Thursday night out\, and enjoy the wine and appetizers. \nImmerse yourself in a world of creativity and expression with CERAMICS that serve. \n-Over 25 Plates by New Art’s Adult Ceramics Student \n*The pictured plate in the banner created by the student artist Lala O’Neil \n—————————————————————————————————— \nThe “Plates with Purpose: Form & Function in Clay” exhibition” is open from May 1st\, 2025 through June 13th\, 2025.
URL:https://newtonculture.org/event/plates-with-purpose-form-function-in-clay/
LOCATION:New Art Center\, 61 Washington Park\, Newton\, MA\, 02460\, United States
CATEGORIES:Art,Free Event,Visual Arts
ATTACH;FMTTYPE=image/png:https://newtonculture.org/wp-content/uploads/2025/04/2.png
ORGANIZER;CN="New Art Center":MAILTO:info@newartcenter.org
END:VEVENT
BEGIN:VEVENT
DTSTART;TZID=America/New_York:20250518T120000
DTEND;TZID=America/New_York:20250518T170000
DTSTAMP:20260420T194815
CREATED:20250429T180909Z
LAST-MODIFIED:20250429T181618Z
UID:10022938-1747569600-1747587600@newtonculture.org
SUMMARY:Historic Newton presents the Newton House Tour
DESCRIPTION:Welcome to Historic Newton’s Newton House Tour! Each year\, Historic Newton presents the Newton House Tour to showcase historic homes in the city. Each private residence is carefully selected by a committee to exhibit how homeowners have made creative renovations and interesting interior design choices that add to the life of a historic structure. You’ll come away with a greater appreciation for historic homes and inspiration for your own projects!\nThis is the 42nd annual Newton House Tour\, and all proceeds benefit Historic Newton’s mission.\nEvent begins at 12 noon\, but in-person ticket sales and wristband pick-up begins at 10AM.
URL:https://newtonculture.org/event/newton-house-tour/
LOCATION:Durant-Kenrick House and Grounds\, 286 Waverley Ave\,\, Newton\, MA\, 02458
CATEGORIES:Art,Community Event,Culture and Education,Visual Arts
ATTACH;FMTTYPE=image/png:https://newtonculture.org/wp-content/uploads/2025/04/71033_HN_House_Tour_2025_Social_1080x1350_d1.png
END:VEVENT
END:VCALENDAR