BEGIN:VCALENDAR
VERSION:2.0
PRODID:-//Newton Cultural Alliance - ECPv6.13.2.1//NONSGML v1.0//EN
CALSCALE:GREGORIAN
METHOD:PUBLISH
X-WR-CALNAME:Newton Cultural Alliance
X-ORIGINAL-URL:https://newtonculture.org
X-WR-CALDESC:Events for Newton Cultural Alliance
REFRESH-INTERVAL;VALUE=DURATION:PT1H
X-Robots-Tag:noindex
X-PUBLISHED-TTL:PT1H
BEGIN:VTIMEZONE
TZID:America/New_York
BEGIN:DAYLIGHT
TZOFFSETFROM:-0500
TZOFFSETTO:-0400
TZNAME:EDT
DTSTART:20200308T070000
END:DAYLIGHT
BEGIN:STANDARD
TZOFFSETFROM:-0400
TZOFFSETTO:-0500
TZNAME:EST
DTSTART:20201101T060000
END:STANDARD
END:VTIMEZONE
BEGIN:VEVENT
DTSTART;VALUE=DATE:20200401
DTEND;VALUE=DATE:20200402
DTSTAMP:20260420T032830
CREATED:20200320T153547Z
LAST-MODIFIED:20200421T154934Z
UID:10015797-1585699200-1585785599@newtonculture.org
SUMMARY:Cappella Clausura ONLINE: Ordo Virtutum from 2/15/20
DESCRIPTION:Cappella Clausura is pleased to share virtually its special performance of Hildegard von Bingen’s Ordo Virtutum from 2/15/20. Immerse yourself in chanted opera: what Director LeClair calls the very first opera\, written around 1150 by Abbess and now St. Hildegard von Bingen\, fully staged for modern audiences with 18 women and men lending gender fluidity to the various ancient roles; with Na’ama Lion\, flute; Nancy Hurrell\, harp; Laura Jeppesen\, vielle; and Mike Williams\, percussion. Enjoy this lovely concert now by clicking here. More info at clausura.org.
URL:https://newtonculture.org/event/cappella-clausura-performs-ordo-virtutum/2020-04-01/
LOCATION:ONLINE\, United Kingdom\, E16 2DQ
CATEGORIES:Free Event,Music
ATTACH;FMTTYPE=image/jpeg:https://newtonculture.org/wp-content/uploads/2020/03/cappella-clausura.jpg
ORGANIZER;CN="Cappella Clausura":MAILTO:manager@clausura.org
END:VEVENT
BEGIN:VEVENT
DTSTART;VALUE=DATE:20200331
DTEND;VALUE=DATE:20200401
DTSTAMP:20260420T032830
CREATED:20200330T174638Z
LAST-MODIFIED:20200330T174638Z
UID:10018019-1585612800-1585699199@newtonculture.org
SUMMARY:Cappella Clausura: Encore Performance of Fanny Mendelssohn Hensel’s Cantatas
DESCRIPTION:Enjoy Cappella Clausura’s beautiful performances of Fanny Mendelssohn Hensel’s cantatas. Fanny wrote her extraordinary and timely “Cholera” cantata in 1831 to commemorate that year’s epidemic in Berlin\, so Cappella Clausura is particularly pleased to be able to share it with you now. More info about Cappella Clausura at clausura.org. View this performance here.
URL:https://newtonculture.org/event/cappella-clausura-encore-performance-of-fanny-mendelssohn-hensels-cantatas/2020-03-31/
LOCATION:ONLINE\, United Kingdom\, E16 2DQ
CATEGORIES:Free Event,Music,Performing Arts
ORGANIZER;CN="Cappella Clausura":MAILTO:manager@clausura.org
END:VEVENT
BEGIN:VEVENT
DTSTART;VALUE=DATE:20200331
DTEND;VALUE=DATE:20200401
DTSTAMP:20260420T032830
CREATED:20200320T153547Z
LAST-MODIFIED:20200421T154934Z
UID:10015796-1585612800-1585699199@newtonculture.org
SUMMARY:Cappella Clausura ONLINE: Ordo Virtutum from 2/15/20
DESCRIPTION:Cappella Clausura is pleased to share virtually its special performance of Hildegard von Bingen’s Ordo Virtutum from 2/15/20. Immerse yourself in chanted opera: what Director LeClair calls the very first opera\, written around 1150 by Abbess and now St. Hildegard von Bingen\, fully staged for modern audiences with 18 women and men lending gender fluidity to the various ancient roles; with Na’ama Lion\, flute; Nancy Hurrell\, harp; Laura Jeppesen\, vielle; and Mike Williams\, percussion. Enjoy this lovely concert now by clicking here. More info at clausura.org.
URL:https://newtonculture.org/event/cappella-clausura-performs-ordo-virtutum/2020-03-31/
LOCATION:ONLINE\, United Kingdom\, E16 2DQ
CATEGORIES:Free Event,Music
ATTACH;FMTTYPE=image/jpeg:https://newtonculture.org/wp-content/uploads/2020/03/cappella-clausura.jpg
ORGANIZER;CN="Cappella Clausura":MAILTO:manager@clausura.org
END:VEVENT
BEGIN:VEVENT
DTSTART;VALUE=DATE:20200330
DTEND;VALUE=DATE:20200331
DTSTAMP:20260420T032830
CREATED:20200330T174638Z
LAST-MODIFIED:20200330T174638Z
UID:10018018-1585526400-1585612799@newtonculture.org
SUMMARY:Cappella Clausura: Encore Performance of Fanny Mendelssohn Hensel’s Cantatas
DESCRIPTION:Enjoy Cappella Clausura’s beautiful performances of Fanny Mendelssohn Hensel’s cantatas. Fanny wrote her extraordinary and timely “Cholera” cantata in 1831 to commemorate that year’s epidemic in Berlin\, so Cappella Clausura is particularly pleased to be able to share it with you now. More info about Cappella Clausura at clausura.org. View this performance here.
URL:https://newtonculture.org/event/cappella-clausura-encore-performance-of-fanny-mendelssohn-hensels-cantatas/2020-03-30/
LOCATION:ONLINE\, United Kingdom\, E16 2DQ
CATEGORIES:Free Event,Music,Performing Arts
ORGANIZER;CN="Cappella Clausura":MAILTO:manager@clausura.org
END:VEVENT
BEGIN:VEVENT
DTSTART;VALUE=DATE:20200330
DTEND;VALUE=DATE:20200331
DTSTAMP:20260420T032830
CREATED:20200320T153547Z
LAST-MODIFIED:20200421T154934Z
UID:10015795-1585526400-1585612799@newtonculture.org
SUMMARY:Cappella Clausura ONLINE: Ordo Virtutum from 2/15/20
DESCRIPTION:Cappella Clausura is pleased to share virtually its special performance of Hildegard von Bingen’s Ordo Virtutum from 2/15/20. Immerse yourself in chanted opera: what Director LeClair calls the very first opera\, written around 1150 by Abbess and now St. Hildegard von Bingen\, fully staged for modern audiences with 18 women and men lending gender fluidity to the various ancient roles; with Na’ama Lion\, flute; Nancy Hurrell\, harp; Laura Jeppesen\, vielle; and Mike Williams\, percussion. Enjoy this lovely concert now by clicking here. More info at clausura.org.
URL:https://newtonculture.org/event/cappella-clausura-performs-ordo-virtutum/2020-03-30/
LOCATION:ONLINE\, United Kingdom\, E16 2DQ
CATEGORIES:Free Event,Music
ATTACH;FMTTYPE=image/jpeg:https://newtonculture.org/wp-content/uploads/2020/03/cappella-clausura.jpg
ORGANIZER;CN="Cappella Clausura":MAILTO:manager@clausura.org
END:VEVENT
BEGIN:VEVENT
DTSTART;VALUE=DATE:20200329
DTEND;VALUE=DATE:20200330
DTSTAMP:20260420T032830
CREATED:20200320T153547Z
LAST-MODIFIED:20200421T154934Z
UID:10015794-1585440000-1585526399@newtonculture.org
SUMMARY:Cappella Clausura ONLINE: Ordo Virtutum from 2/15/20
DESCRIPTION:Cappella Clausura is pleased to share virtually its special performance of Hildegard von Bingen’s Ordo Virtutum from 2/15/20. Immerse yourself in chanted opera: what Director LeClair calls the very first opera\, written around 1150 by Abbess and now St. Hildegard von Bingen\, fully staged for modern audiences with 18 women and men lending gender fluidity to the various ancient roles; with Na’ama Lion\, flute; Nancy Hurrell\, harp; Laura Jeppesen\, vielle; and Mike Williams\, percussion. Enjoy this lovely concert now by clicking here. More info at clausura.org.
URL:https://newtonculture.org/event/cappella-clausura-performs-ordo-virtutum/2020-03-29/
LOCATION:ONLINE\, United Kingdom\, E16 2DQ
CATEGORIES:Free Event,Music
ATTACH;FMTTYPE=image/jpeg:https://newtonculture.org/wp-content/uploads/2020/03/cappella-clausura.jpg
ORGANIZER;CN="Cappella Clausura":MAILTO:manager@clausura.org
END:VEVENT
BEGIN:VEVENT
DTSTART;VALUE=DATE:20200328
DTEND;VALUE=DATE:20200329
DTSTAMP:20260420T032830
CREATED:20200320T153547Z
LAST-MODIFIED:20200421T154934Z
UID:10015793-1585353600-1585439999@newtonculture.org
SUMMARY:Cappella Clausura ONLINE: Ordo Virtutum from 2/15/20
DESCRIPTION:Cappella Clausura is pleased to share virtually its special performance of Hildegard von Bingen’s Ordo Virtutum from 2/15/20. Immerse yourself in chanted opera: what Director LeClair calls the very first opera\, written around 1150 by Abbess and now St. Hildegard von Bingen\, fully staged for modern audiences with 18 women and men lending gender fluidity to the various ancient roles; with Na’ama Lion\, flute; Nancy Hurrell\, harp; Laura Jeppesen\, vielle; and Mike Williams\, percussion. Enjoy this lovely concert now by clicking here. More info at clausura.org.
URL:https://newtonculture.org/event/cappella-clausura-performs-ordo-virtutum/2020-03-28/
LOCATION:ONLINE\, United Kingdom\, E16 2DQ
CATEGORIES:Free Event,Music
ATTACH;FMTTYPE=image/jpeg:https://newtonculture.org/wp-content/uploads/2020/03/cappella-clausura.jpg
ORGANIZER;CN="Cappella Clausura":MAILTO:manager@clausura.org
END:VEVENT
BEGIN:VEVENT
DTSTART;VALUE=DATE:20200327
DTEND;VALUE=DATE:20200328
DTSTAMP:20260420T032830
CREATED:20200320T153547Z
LAST-MODIFIED:20200421T154934Z
UID:10015792-1585267200-1585353599@newtonculture.org
SUMMARY:Cappella Clausura ONLINE: Ordo Virtutum from 2/15/20
DESCRIPTION:Cappella Clausura is pleased to share virtually its special performance of Hildegard von Bingen’s Ordo Virtutum from 2/15/20. Immerse yourself in chanted opera: what Director LeClair calls the very first opera\, written around 1150 by Abbess and now St. Hildegard von Bingen\, fully staged for modern audiences with 18 women and men lending gender fluidity to the various ancient roles; with Na’ama Lion\, flute; Nancy Hurrell\, harp; Laura Jeppesen\, vielle; and Mike Williams\, percussion. Enjoy this lovely concert now by clicking here. More info at clausura.org.
URL:https://newtonculture.org/event/cappella-clausura-performs-ordo-virtutum/2020-03-27/
LOCATION:ONLINE\, United Kingdom\, E16 2DQ
CATEGORIES:Free Event,Music
ATTACH;FMTTYPE=image/jpeg:https://newtonculture.org/wp-content/uploads/2020/03/cappella-clausura.jpg
ORGANIZER;CN="Cappella Clausura":MAILTO:manager@clausura.org
END:VEVENT
BEGIN:VEVENT
DTSTART;VALUE=DATE:20200326
DTEND;VALUE=DATE:20200327
DTSTAMP:20260420T032830
CREATED:20200320T153547Z
LAST-MODIFIED:20200421T154934Z
UID:10015791-1585180800-1585267199@newtonculture.org
SUMMARY:Cappella Clausura ONLINE: Ordo Virtutum from 2/15/20
DESCRIPTION:Cappella Clausura is pleased to share virtually its special performance of Hildegard von Bingen’s Ordo Virtutum from 2/15/20. Immerse yourself in chanted opera: what Director LeClair calls the very first opera\, written around 1150 by Abbess and now St. Hildegard von Bingen\, fully staged for modern audiences with 18 women and men lending gender fluidity to the various ancient roles; with Na’ama Lion\, flute; Nancy Hurrell\, harp; Laura Jeppesen\, vielle; and Mike Williams\, percussion. Enjoy this lovely concert now by clicking here. More info at clausura.org.
URL:https://newtonculture.org/event/cappella-clausura-performs-ordo-virtutum/2020-03-26/
LOCATION:ONLINE\, United Kingdom\, E16 2DQ
CATEGORIES:Free Event,Music
ATTACH;FMTTYPE=image/jpeg:https://newtonculture.org/wp-content/uploads/2020/03/cappella-clausura.jpg
ORGANIZER;CN="Cappella Clausura":MAILTO:manager@clausura.org
END:VEVENT
BEGIN:VEVENT
DTSTART;VALUE=DATE:20200325
DTEND;VALUE=DATE:20200326
DTSTAMP:20260420T032830
CREATED:20200320T153547Z
LAST-MODIFIED:20200421T154934Z
UID:10015790-1585094400-1585180799@newtonculture.org
SUMMARY:Cappella Clausura ONLINE: Ordo Virtutum from 2/15/20
DESCRIPTION:Cappella Clausura is pleased to share virtually its special performance of Hildegard von Bingen’s Ordo Virtutum from 2/15/20. Immerse yourself in chanted opera: what Director LeClair calls the very first opera\, written around 1150 by Abbess and now St. Hildegard von Bingen\, fully staged for modern audiences with 18 women and men lending gender fluidity to the various ancient roles; with Na’ama Lion\, flute; Nancy Hurrell\, harp; Laura Jeppesen\, vielle; and Mike Williams\, percussion. Enjoy this lovely concert now by clicking here. More info at clausura.org.
URL:https://newtonculture.org/event/cappella-clausura-performs-ordo-virtutum/2020-03-25/
LOCATION:ONLINE\, United Kingdom\, E16 2DQ
CATEGORIES:Free Event,Music
ATTACH;FMTTYPE=image/jpeg:https://newtonculture.org/wp-content/uploads/2020/03/cappella-clausura.jpg
ORGANIZER;CN="Cappella Clausura":MAILTO:manager@clausura.org
END:VEVENT
BEGIN:VEVENT
DTSTART;VALUE=DATE:20200324
DTEND;VALUE=DATE:20200325
DTSTAMP:20260420T032830
CREATED:20200320T153547Z
LAST-MODIFIED:20200421T154934Z
UID:10015789-1585008000-1585094399@newtonculture.org
SUMMARY:Cappella Clausura ONLINE: Ordo Virtutum from 2/15/20
DESCRIPTION:Cappella Clausura is pleased to share virtually its special performance of Hildegard von Bingen’s Ordo Virtutum from 2/15/20. Immerse yourself in chanted opera: what Director LeClair calls the very first opera\, written around 1150 by Abbess and now St. Hildegard von Bingen\, fully staged for modern audiences with 18 women and men lending gender fluidity to the various ancient roles; with Na’ama Lion\, flute; Nancy Hurrell\, harp; Laura Jeppesen\, vielle; and Mike Williams\, percussion. Enjoy this lovely concert now by clicking here. More info at clausura.org.
URL:https://newtonculture.org/event/cappella-clausura-performs-ordo-virtutum/2020-03-24/
LOCATION:ONLINE\, United Kingdom\, E16 2DQ
CATEGORIES:Free Event,Music
ATTACH;FMTTYPE=image/jpeg:https://newtonculture.org/wp-content/uploads/2020/03/cappella-clausura.jpg
ORGANIZER;CN="Cappella Clausura":MAILTO:manager@clausura.org
END:VEVENT
BEGIN:VEVENT
DTSTART;VALUE=DATE:20200323
DTEND;VALUE=DATE:20200324
DTSTAMP:20260420T032830
CREATED:20200320T153547Z
LAST-MODIFIED:20200421T154934Z
UID:10015788-1584921600-1585007999@newtonculture.org
SUMMARY:Cappella Clausura ONLINE: Ordo Virtutum from 2/15/20
DESCRIPTION:Cappella Clausura is pleased to share virtually its special performance of Hildegard von Bingen’s Ordo Virtutum from 2/15/20. Immerse yourself in chanted opera: what Director LeClair calls the very first opera\, written around 1150 by Abbess and now St. Hildegard von Bingen\, fully staged for modern audiences with 18 women and men lending gender fluidity to the various ancient roles; with Na’ama Lion\, flute; Nancy Hurrell\, harp; Laura Jeppesen\, vielle; and Mike Williams\, percussion. Enjoy this lovely concert now by clicking here. More info at clausura.org.
URL:https://newtonculture.org/event/cappella-clausura-performs-ordo-virtutum/2020-03-23/
LOCATION:ONLINE\, United Kingdom\, E16 2DQ
CATEGORIES:Free Event,Music
ATTACH;FMTTYPE=image/jpeg:https://newtonculture.org/wp-content/uploads/2020/03/cappella-clausura.jpg
ORGANIZER;CN="Cappella Clausura":MAILTO:manager@clausura.org
END:VEVENT
BEGIN:VEVENT
DTSTART;VALUE=DATE:20200322
DTEND;VALUE=DATE:20200323
DTSTAMP:20260420T032830
CREATED:20200320T153547Z
LAST-MODIFIED:20200421T154934Z
UID:10015787-1584835200-1584921599@newtonculture.org
SUMMARY:Cappella Clausura ONLINE: Ordo Virtutum from 2/15/20
DESCRIPTION:Cappella Clausura is pleased to share virtually its special performance of Hildegard von Bingen’s Ordo Virtutum from 2/15/20. Immerse yourself in chanted opera: what Director LeClair calls the very first opera\, written around 1150 by Abbess and now St. Hildegard von Bingen\, fully staged for modern audiences with 18 women and men lending gender fluidity to the various ancient roles; with Na’ama Lion\, flute; Nancy Hurrell\, harp; Laura Jeppesen\, vielle; and Mike Williams\, percussion. Enjoy this lovely concert now by clicking here. More info at clausura.org.
URL:https://newtonculture.org/event/cappella-clausura-performs-ordo-virtutum/2020-03-22/
LOCATION:ONLINE\, United Kingdom\, E16 2DQ
CATEGORIES:Free Event,Music
ATTACH;FMTTYPE=image/jpeg:https://newtonculture.org/wp-content/uploads/2020/03/cappella-clausura.jpg
ORGANIZER;CN="Cappella Clausura":MAILTO:manager@clausura.org
END:VEVENT
BEGIN:VEVENT
DTSTART;VALUE=DATE:20200321
DTEND;VALUE=DATE:20200322
DTSTAMP:20260420T032830
CREATED:20200320T153547Z
LAST-MODIFIED:20200421T154934Z
UID:10015786-1584748800-1584835199@newtonculture.org
SUMMARY:Cappella Clausura ONLINE: Ordo Virtutum from 2/15/20
DESCRIPTION:Cappella Clausura is pleased to share virtually its special performance of Hildegard von Bingen’s Ordo Virtutum from 2/15/20. Immerse yourself in chanted opera: what Director LeClair calls the very first opera\, written around 1150 by Abbess and now St. Hildegard von Bingen\, fully staged for modern audiences with 18 women and men lending gender fluidity to the various ancient roles; with Na’ama Lion\, flute; Nancy Hurrell\, harp; Laura Jeppesen\, vielle; and Mike Williams\, percussion. Enjoy this lovely concert now by clicking here. More info at clausura.org.
URL:https://newtonculture.org/event/cappella-clausura-performs-ordo-virtutum/2020-03-21/
LOCATION:ONLINE\, United Kingdom\, E16 2DQ
CATEGORIES:Free Event,Music
ATTACH;FMTTYPE=image/jpeg:https://newtonculture.org/wp-content/uploads/2020/03/cappella-clausura.jpg
ORGANIZER;CN="Cappella Clausura":MAILTO:manager@clausura.org
END:VEVENT
BEGIN:VEVENT
DTSTART;VALUE=DATE:20200320
DTEND;VALUE=DATE:20200321
DTSTAMP:20260420T032830
CREATED:20200320T153547Z
LAST-MODIFIED:20200421T154934Z
UID:10015785-1584662400-1584748799@newtonculture.org
SUMMARY:Cappella Clausura ONLINE: Ordo Virtutum from 2/15/20
DESCRIPTION:Cappella Clausura is pleased to share virtually its special performance of Hildegard von Bingen’s Ordo Virtutum from 2/15/20. Immerse yourself in chanted opera: what Director LeClair calls the very first opera\, written around 1150 by Abbess and now St. Hildegard von Bingen\, fully staged for modern audiences with 18 women and men lending gender fluidity to the various ancient roles; with Na’ama Lion\, flute; Nancy Hurrell\, harp; Laura Jeppesen\, vielle; and Mike Williams\, percussion. Enjoy this lovely concert now by clicking here. More info at clausura.org.
URL:https://newtonculture.org/event/cappella-clausura-performs-ordo-virtutum/2020-03-20/
LOCATION:ONLINE\, United Kingdom\, E16 2DQ
CATEGORIES:Free Event,Music
ATTACH;FMTTYPE=image/jpeg:https://newtonculture.org/wp-content/uploads/2020/03/cappella-clausura.jpg
ORGANIZER;CN="Cappella Clausura":MAILTO:manager@clausura.org
END:VEVENT
BEGIN:VEVENT
DTSTART;TZID=America/New_York:20200223T170000
DTEND;TZID=America/New_York:20200223T190000
DTSTAMP:20260420T032830
CREATED:20200128T154049Z
LAST-MODIFIED:20200210T163517Z
UID:10016348-1582477200-1582484400@newtonculture.org
SUMMARY:Cappella Clausura: Hildegard von Bingen's "Ordo Virtutum"
DESCRIPTION:Immerse yourself in chanted opera: what Director LeClair calls the very first opera\, written around 1150 by Abbess and now St. Hildegard von Bingen\, fully staged for modern audiences with 18 women and men lending gender fluidity to the various ancient roles; with Na’ama Lion\, flute; Nancy Hurrell\, harp; Laura Jeppesen\, vielle; and Mike Williams\, percussion. Tickets: $35/Adults\, $30/Seniors\, $20/Students. More info at clausura.org.
URL:https://newtonculture.org/event/cappella-clausura-hildegard-von-bingens-ordo-virtutum-2/
CATEGORIES:Music,Performing Arts
ORGANIZER;CN="Cappella Clausura":MAILTO:manager@clausura.org
END:VEVENT
BEGIN:VEVENT
DTSTART;TZID=America/New_York:20200222T190000
DTEND;TZID=America/New_York:20200222T210000
DTSTAMP:20260420T032830
CREATED:20200127T201644Z
LAST-MODIFIED:20200210T163557Z
UID:10016275-1582398000-1582405200@newtonculture.org
SUMMARY:Cappella Clausura: Hildegard von Bingen's "Ordo Virtutum"
DESCRIPTION:Immerse yourself in chanted opera: what Director LeClair calls the very first opera\, written around 1150 by Abbess and now St. Hildegard von Bingen\, fully staged for modern audiences with 18 women and men lending gender fluidity to the various ancient roles; with Na’ama Lion\, flute; Nancy Hurrell\, harp; Laura Jeppesen\, vielle; and Mike Williams\, percussion. Tickets: $35/Adults\, $30/Seniors\, $20/Students. More info at clausura.org.
URL:https://newtonculture.org/event/cappella-clausura-hildegard-von-bingens-ordo-virtutum/
LOCATION:Eliot Church of Newton\, 474 Centre St\, Newton\, MA\, 02458\, United States
CATEGORIES:Music,Performing Arts
ORGANIZER;CN="Cappella Clausura":MAILTO:manager@clausura.org
END:VEVENT
END:VCALENDAR