BEGIN:VCALENDAR
VERSION:2.0
PRODID:-//Newton Cultural Alliance - ECPv6.13.2.1//NONSGML v1.0//EN
CALSCALE:GREGORIAN
METHOD:PUBLISH
X-ORIGINAL-URL:https://newtonculture.org
X-WR-CALDESC:Events for Newton Cultural Alliance
REFRESH-INTERVAL;VALUE=DURATION:PT1H
X-Robots-Tag:noindex
X-PUBLISHED-TTL:PT1H
BEGIN:VTIMEZONE
TZID:America/New_York
BEGIN:DAYLIGHT
TZOFFSETFROM:-0500
TZOFFSETTO:-0400
TZNAME:EDT
DTSTART:20220313T070000
END:DAYLIGHT
BEGIN:STANDARD
TZOFFSETFROM:-0400
TZOFFSETTO:-0500
TZNAME:EST
DTSTART:20221106T060000
END:STANDARD
END:VTIMEZONE
BEGIN:VEVENT
DTSTART;TZID=America/New_York:20220918T150000
DTEND;TZID=America/New_York:20220918T163000
DTSTAMP:20260419T121909
CREATED:20220908T195232Z
LAST-MODIFIED:20220908T195232Z
UID:10019364-1663513200-1663518600@newtonculture.org
SUMMARY:Across Divides: A Benefit Concert for Doctors Without Borders
DESCRIPTION:Eleuthera Trio (Lois Shapiro\, piano\, Francine Trester\, violin\, Julie Reimann\, cello) perform at the First Unitarian Universalist Society in Newton\, MA\, in support of Doctors Without Borders\, a nonprofit organization that brings medical humanitarian assistance to victims of conflict\, natural disasters\, epidemics and healthcare exclusion. The program includes Martin’s scintillating Trio on Popular Irish Melodies\, Piazzolla’s exciting Otoño Porteño (Autumn)\, Ukrainian composer Myroslav Skoryk’s hauntingly beautiful Melody\, and Ravel’s exquisite Trio in a minor. All proceeds will be donated to Doctors Without Borders.
URL:https://newtonculture.org/event/across-divides-a-benefit-concert-for-doctors-without-borders/
LOCATION:First Unitarian Universalist Society in Newton\, 1326 Washington St\, Newton\, MA\, 02465\, United States
CATEGORIES:Community Event,Family Friendly,Music,Performing Arts
ORGANIZER;CN="Eleuthera Trio":MAILTO:eleutheratrio@gmail.com
END:VEVENT
END:VCALENDAR