BEGIN:VCALENDAR
VERSION:2.0
PRODID:-//Newton Cultural Alliance - ECPv6.13.2.1//NONSGML v1.0//EN
CALSCALE:GREGORIAN
METHOD:PUBLISH
X-WR-CALNAME:Newton Cultural Alliance
X-ORIGINAL-URL:https://newtonculture.org
X-WR-CALDESC:Events for Newton Cultural Alliance
REFRESH-INTERVAL;VALUE=DURATION:PT1H
X-Robots-Tag:noindex
X-PUBLISHED-TTL:PT1H
BEGIN:VTIMEZONE
TZID:America/New_York
BEGIN:DAYLIGHT
TZOFFSETFROM:-0500
TZOFFSETTO:-0400
TZNAME:EDT
DTSTART:20200308T070000
END:DAYLIGHT
BEGIN:STANDARD
TZOFFSETFROM:-0400
TZOFFSETTO:-0500
TZNAME:EST
DTSTART:20201101T060000
END:STANDARD
BEGIN:DAYLIGHT
TZOFFSETFROM:-0500
TZOFFSETTO:-0400
TZNAME:EDT
DTSTART:20210314T070000
END:DAYLIGHT
BEGIN:STANDARD
TZOFFSETFROM:-0400
TZOFFSETTO:-0500
TZNAME:EST
DTSTART:20211107T060000
END:STANDARD
BEGIN:DAYLIGHT
TZOFFSETFROM:-0500
TZOFFSETTO:-0400
TZNAME:EDT
DTSTART:20220313T070000
END:DAYLIGHT
BEGIN:STANDARD
TZOFFSETFROM:-0400
TZOFFSETTO:-0500
TZNAME:EST
DTSTART:20221106T060000
END:STANDARD
BEGIN:DAYLIGHT
TZOFFSETFROM:-0500
TZOFFSETTO:-0400
TZNAME:EDT
DTSTART:20230312T070000
END:DAYLIGHT
BEGIN:STANDARD
TZOFFSETFROM:-0400
TZOFFSETTO:-0500
TZNAME:EST
DTSTART:20231105T060000
END:STANDARD
END:VTIMEZONE
BEGIN:VEVENT
DTSTART;TZID=America/New_York:20230513T200000
DTEND;TZID=America/New_York:20230513T210000
DTSTAMP:20260420T145038
CREATED:20230508T173237Z
LAST-MODIFIED:20230508T173237Z
UID:10020846-1684008000-1684011600@newtonculture.org
SUMMARY:Newton Community Chorus presents Brahms German Requiem
DESCRIPTION:Brahms German Requiem\nSaturday\, May 13\, 8:00 pm \nNewton Community Chorus performs Brahms’ German Requiem at the Eliot Church of Newton. Featuring the full orchestra with guest soloists Adriana Repetto\, Soprano\, and Paul Soper\, Baritone.
URL:https://newtonculture.org/event/newton-community-chorus-presents-brahms-german-requiem-2/
LOCATION:Eliot Church of Newton\, 474 Centre St\, Newton\, MA\, 02458\, United States
ATTACH;FMTTYPE=image/jpeg:https://newtonculture.org/wp-content/uploads/2023/05/NCC_2023SpringBrahms-cover_LZ93.jpg
ORGANIZER;CN="Newton Community Chorus":MAILTO:info@newtoncommunitychorus.org
END:VEVENT
BEGIN:VEVENT
DTSTART;TZID=America/New_York:20230426T080000
DTEND;TZID=America/New_York:20230426T170000
DTSTAMP:20260420T145038
CREATED:20230426T153416Z
LAST-MODIFIED:20230426T153416Z
UID:10020837-1682496000-1682528400@newtonculture.org
SUMMARY:Newton Community Chorus presents Brahms German Requiem
DESCRIPTION:NCC’s spring concert with guest soloists and full orchestra.  \nEliot Church of Newton474 Centre S t.Newton Corner \nSaturday\, May 13 – 8:00 pm \n​ \nTickets are now on sale on our Concerts page. \nYou won’t want to miss the glory and majesty of this magnificent piece – and help us celebrate 41 years of our Newton chorus.  
URL:https://newtonculture.org/event/newton-community-chorus-presents-brahms-german-requiem/
LOCATION:Eliot Church of Newton\, 474 Centre St\, Newton\, MA\, 02458\, United States
CATEGORIES:Music
ATTACH;FMTTYPE=image/webp:https://newtonculture.org/wp-content/uploads/2023/04/NewtonCommunityChorus.webp
ORGANIZER;CN="Newton Community Chorus":MAILTO:info@newtoncommunitychorus.org
END:VEVENT
BEGIN:VEVENT
DTSTART;TZID=America/New_York:20230121T200000
DTEND;TZID=America/New_York:20230121T200000
DTSTAMP:20260420T145038
CREATED:20230109T153316Z
LAST-MODIFIED:20230125T143917Z
UID:10020766-1674331200-1674331200@newtonculture.org
SUMMARY:Newton Community Chorus Concert
DESCRIPTION:The Newton Community Chorus is thrilled to announce its first live concert in two years at The Eliot Church of Newton. Enjoy a show of music by Johann Sebastian Bach with soloists and an orchestra.
URL:https://newtonculture.org/event/newton-community-chorus-concert/
LOCATION:Eliot Church of Newton\, 474 Centre St\, Newton\, MA\, 02458\, United States
ATTACH;FMTTYPE=image/jpeg:https://newtonculture.org/wp-content/uploads/2023/01/newtoncommunity-chorus.jpg
END:VEVENT
BEGIN:VEVENT
DTSTART;TZID=America/New_York:20230103T173000
DTEND;TZID=America/New_York:20230103T173000
DTSTAMP:20260420T145038
CREATED:20221207T184043Z
LAST-MODIFIED:20221207T184043Z
UID:10019444-1672767000-1672767000@newtonculture.org
SUMMARY:Auditions for Commonwealth Chorale
DESCRIPTION:Commonwealth Chorale is an auditioned chorus that attracts singers from the metropolitan Boston area. For our 2022-2023 season\, we seek experienced choral singers of all voice types who have strong vocal and sight-reading skills. Under new Artistic Director Michael Driscoll\, the 2022-2023 season celebrates a diverse program of composers new and familiar\, including works by Mozart and John Rutter. The season also includes major works by women: Marianna Martines\, a contemporary of Mozart and Haydn; Florence Price\, the first African-American woman to be recognized as a symphonic composer\, and Carol Barnett’s The World Beloved: A Bluegrass Mass. \nAuditions will be held by appointment on the evenings of Tuesday\, January 3\, 2023 from 5:30-6:45 pm\, and Tuesday\, January 10th from 5:30pm-6:45pm at Eliot Church\, 474 Center St.\, Newton MA. For audition information and to sign up for an audition\, please visit https://commonwealthchorale.com/join-us.
URL:https://newtonculture.org/event/auditions-for-commonwealth-chorale/
LOCATION:Eliot Church of Newton\, 474 Centre St\, Newton\, MA\, 02458\, United States
CATEGORIES:Music
ATTACH;FMTTYPE=image/png:https://newtonculture.org/wp-content/uploads/2022/11/CC-logo-MD_0.png
ORGANIZER;CN="Commonwealth Chorale":MAILTO:info@commonwealthchorale.com
END:VEVENT
BEGIN:VEVENT
DTSTART;TZID=America/New_York:20200516T190000
DTEND;TZID=America/New_York:20200516T210000
DTSTAMP:20260420T145038
CREATED:20200128T154427Z
LAST-MODIFIED:20200427T145054Z
UID:10016349-1589655600-1589662800@newtonculture.org
SUMMARY:Cappella Clausura: The Dinner Party illuminated by the spectacular art of Fran Forman! CANCELED
DESCRIPTION:Immerse yourself in visual and musical beauty: Cappella Clausura and friends Na’ama Lion\, flute; Nancy Hurrell\, harp; Catherine Liddell and Charles Iner\, theorbos and baroque guitars; and Mike Williams\, percussion\, gather around a table to sing “after dinner” entertainment part-songs by Barbara Strozzi\, Vittoria Aleotti\, Rebecca Clarke\, and Fanny Mendelssohn\, all illuminated by the stunning images of visual artist Fran Forman (franforman.com)! Tickets: $35/Adults\, $30/Seniors\, $20/Students. More info at clausura.org.
URL:https://newtonculture.org/event/cappella-clausura-the-dinner-party-illuminated-by-the-spectacular-art-of-fran-forman/
LOCATION:Eliot Church of Newton\, 474 Centre St\, Newton\, MA\, 02458\, United States
CATEGORIES:Music,Performing Arts
ORGANIZER;CN="Cappella Clausura":MAILTO:manager@clausura.org
END:VEVENT
BEGIN:VEVENT
DTSTART;TZID=America/New_York:20200404T190000
DTEND;TZID=America/New_York:20200404T210000
DTSTAMP:20260420T145038
CREATED:20200128T153115Z
LAST-MODIFIED:20200312T154733Z
UID:10016346-1586026800-1586034000@newtonculture.org
SUMMARY:Cappella Clausura: ReSound in the Convent CANCELED
DESCRIPTION:Immerse yourself in moving constellations of singers\, featuring music by virtually every baroque nun we have championed from the Northern Italian baroque\, such as Chiara Cozzolani\, Raffaella Aleotti\, Bianca Maria Media\, Sulpitia Cesis\, plus new music by Patricia Van Ness and Suzanne Sheppard. With Dan Stepner and Julie Levin\, violins; Laura Jeppesen\, gamba; and Catherine Liddell\, theorbo. Tickets: $35/Adults\, $30/Seniors\, $20/Students. More info at clausura.org.
URL:https://newtonculture.org/event/cappella-clausura-resound-in-the-convent/
LOCATION:Eliot Church of Newton\, 474 Centre St\, Newton\, MA\, 02458\, United States
CATEGORIES:Music,Performing Arts
ORGANIZER;CN="Cappella Clausura":MAILTO:manager@clausura.org
END:VEVENT
BEGIN:VEVENT
DTSTART;TZID=America/New_York:20200222T190000
DTEND;TZID=America/New_York:20200222T210000
DTSTAMP:20260420T145038
CREATED:20200127T201644Z
LAST-MODIFIED:20200210T163557Z
UID:10016275-1582398000-1582405200@newtonculture.org
SUMMARY:Cappella Clausura: Hildegard von Bingen's "Ordo Virtutum"
DESCRIPTION:Immerse yourself in chanted opera: what Director LeClair calls the very first opera\, written around 1150 by Abbess and now St. Hildegard von Bingen\, fully staged for modern audiences with 18 women and men lending gender fluidity to the various ancient roles; with Na’ama Lion\, flute; Nancy Hurrell\, harp; Laura Jeppesen\, vielle; and Mike Williams\, percussion. Tickets: $35/Adults\, $30/Seniors\, $20/Students. More info at clausura.org.
URL:https://newtonculture.org/event/cappella-clausura-hildegard-von-bingens-ordo-virtutum/
LOCATION:Eliot Church of Newton\, 474 Centre St\, Newton\, MA\, 02458\, United States
CATEGORIES:Music,Performing Arts
ORGANIZER;CN="Cappella Clausura":MAILTO:manager@clausura.org
END:VEVENT
END:VCALENDAR