BEGIN:VCALENDAR
VERSION:2.0
PRODID:-//Newton Cultural Alliance - ECPv6.13.2.1//NONSGML v1.0//EN
CALSCALE:GREGORIAN
METHOD:PUBLISH
X-WR-CALNAME:Newton Cultural Alliance
X-ORIGINAL-URL:https://newtonculture.org
X-WR-CALDESC:Events for Newton Cultural Alliance
REFRESH-INTERVAL;VALUE=DURATION:PT1H
X-Robots-Tag:noindex
X-PUBLISHED-TTL:PT1H
BEGIN:VTIMEZONE
TZID:America/New_York
BEGIN:DAYLIGHT
TZOFFSETFROM:-0500
TZOFFSETTO:-0400
TZNAME:EDT
DTSTART:20200308T070000
END:DAYLIGHT
BEGIN:STANDARD
TZOFFSETFROM:-0400
TZOFFSETTO:-0500
TZNAME:EST
DTSTART:20201101T060000
END:STANDARD
BEGIN:DAYLIGHT
TZOFFSETFROM:-0500
TZOFFSETTO:-0400
TZNAME:EDT
DTSTART:20210314T070000
END:DAYLIGHT
BEGIN:STANDARD
TZOFFSETFROM:-0400
TZOFFSETTO:-0500
TZNAME:EST
DTSTART:20211107T060000
END:STANDARD
BEGIN:DAYLIGHT
TZOFFSETFROM:-0500
TZOFFSETTO:-0400
TZNAME:EDT
DTSTART:20220313T070000
END:DAYLIGHT
BEGIN:STANDARD
TZOFFSETFROM:-0400
TZOFFSETTO:-0500
TZNAME:EST
DTSTART:20221106T060000
END:STANDARD
BEGIN:DAYLIGHT
TZOFFSETFROM:-0500
TZOFFSETTO:-0400
TZNAME:EDT
DTSTART:20230312T070000
END:DAYLIGHT
BEGIN:STANDARD
TZOFFSETFROM:-0400
TZOFFSETTO:-0500
TZNAME:EST
DTSTART:20231105T060000
END:STANDARD
BEGIN:DAYLIGHT
TZOFFSETFROM:-0500
TZOFFSETTO:-0400
TZNAME:EDT
DTSTART:20240310T070000
END:DAYLIGHT
BEGIN:STANDARD
TZOFFSETFROM:-0400
TZOFFSETTO:-0500
TZNAME:EST
DTSTART:20241103T060000
END:STANDARD
BEGIN:DAYLIGHT
TZOFFSETFROM:-0500
TZOFFSETTO:-0400
TZNAME:EDT
DTSTART:20250309T070000
END:DAYLIGHT
BEGIN:STANDARD
TZOFFSETFROM:-0400
TZOFFSETTO:-0500
TZNAME:EST
DTSTART:20251102T060000
END:STANDARD
BEGIN:DAYLIGHT
TZOFFSETFROM:-0500
TZOFFSETTO:-0400
TZNAME:EDT
DTSTART:20260308T070000
END:DAYLIGHT
BEGIN:STANDARD
TZOFFSETFROM:-0400
TZOFFSETTO:-0500
TZNAME:EST
DTSTART:20261101T060000
END:STANDARD
END:VTIMEZONE
BEGIN:VEVENT
DTSTART;TZID=America/New_York:20260225T180000
DTEND;TZID=America/New_York:20260225T200000
DTSTAMP:20260420T125702
CREATED:20260224T153950Z
LAST-MODIFIED:20260224T153950Z
UID:10023608-1772042400-1772049600@newtonculture.org
SUMMARY:NewTV Members Network Meet-Up
DESCRIPTION:Join us at our Needham Street studio on Wednesday\, February 25 at 6:00PM\, for a Members Network Meet-Up! This will be a fun and engaging evening in a relaxed atmosphere. There will be food\, technical help sessions\, and plenty of opportunities to connect with fellow members! Non-members are welcome to attend as well! \n6:00PM – 6:30PM – Networking and… (wait for it)… FREE PIZZA! \n6:30PM – 8:00PM – Introductions\, followed by technical help breakout sessions including: \nHow to Create & Manage Your Own YouTube Channel\, with Peter Taber-Simonian\nControl Room Basics\, with Kathleen Golden\nHow to Host an Interview\, with Jenn Adams \nPlease RSVP by Friday\, February 20\, so we can plan accordingly. \nIf you’re not a member and would like to join us\, sign-up for a NewTV membership at https://newtv.org/join \nEmail membership@newtv.org with any questions!
URL:https://newtonculture.org/event/newtv-members-network-meet-up/
LOCATION:NewTV\, 23 Needham St\, Newton\, MA\, 02461\, United States
CATEGORIES:Community Event,Film and Media,Free Event
ATTACH;FMTTYPE=image/png:https://newtonculture.org/wp-content/uploads/2026/02/MembersNetworkMeeting_Feb26_Social-1.png
ORGANIZER;CN="NewTV":MAILTO:newtv@newtv.org
END:VEVENT
BEGIN:VEVENT
DTSTART;TZID=America/New_York:20240110T110000
DTEND;TZID=America/New_York:20240110T123000
DTSTAMP:20260420T125702
CREATED:20240110T160623Z
LAST-MODIFIED:20240110T160623Z
UID:10020964-1704884400-1704889800@newtonculture.org
SUMMARY:NewTV Members Meet-Up
DESCRIPTION:NewTV Members Meet-Up\nSaturday\, January 20\, 11:00 am \nMeet and connect with fellow NewTV members at a Members Network Meet – Up. Attend in person or remotely to hear about new projects and opportunities\, exchange helpful ideas and resources\, and build a network of crew members for your next production.
URL:https://newtonculture.org/event/newtv-members-meet-up/
LOCATION:NewTV\, 23 Needham St\, Newton\, MA\, 02461\, United States
CATEGORIES:Film and Media
ATTACH;FMTTYPE=image/png:https://newtonculture.org/wp-content/uploads/2024/01/unnamed-9.png
ORGANIZER;CN="NewTV":MAILTO:newtv@newtv.org
END:VEVENT
BEGIN:VEVENT
DTSTART;TZID=America/New_York:20230923T110000
DTEND;TZID=America/New_York:20230923T170000
DTSTAMP:20260420T125702
CREATED:20230911T143726Z
LAST-MODIFIED:20230911T143726Z
UID:10019798-1695466800-1695488400@newtonculture.org
SUMMARY:NewTV presents Members Network Meeting
DESCRIPTION:NewTv members have access to state-of-the-art facilities\, which include the studio and equipment for the field. Connect with fellow members at the Members Network Meeting to learn about upcoming projects\, brainstorm new content ideas\, share helpful resources\, or find volunteers for your next production.
URL:https://newtonculture.org/event/newtv-presents-members-network-meeting/
LOCATION:NewTV\, 23 Needham St\, Newton\, MA\, 02461\, United States
ATTACH;FMTTYPE=image/jpeg:https://newtonculture.org/wp-content/uploads/2022/06/newtv_logo_red_white.jpg
ORGANIZER;CN="NewTV":MAILTO:newtv@newtv.org
END:VEVENT
BEGIN:VEVENT
DTSTART;TZID=America/New_York:20230823T173000
DTEND;TZID=America/New_York:20230823T193000
DTSTAMP:20260420T125702
CREATED:20230803T162433Z
LAST-MODIFIED:20230803T162433Z
UID:10020897-1692811800-1692819000@newtonculture.org
SUMMARY:NewTV presents The 3rd Annual Cones 'n Cars
DESCRIPTION:NewTV’s 3rd Annual Cones ‘n Cars is the one ‘n only classic car show combined with an ice cream social. Join NewTV on Wednesday\, August 23rd from 5:30PM-7:30PM in our parking lot at 23 Needham Street\, Newton. \nEnjoy sweets ‘n treats from Cabot’s\, Bakers’ Best\, Pizzi Farm\, Volante Farmsthe Astound ice cream truck\, and more! Check out the sleek ‘n unique classic cars\, and don’t forget to vote for your favorite in our Fan Favorite contest! \nAdmission is free and all are welcome! Registration is not required\,  signing-up in advance is recommended so they have an idea of headcount and for easy check-in. \n*If you will be showcasing your classic car (1980’s and earlier)\, please register under “Classic Car Owners.” Parking spots will be distributed on a first come\, first served basis.* \nCones ‘n Cars 2023 is possible thanks to generous donations from our friends at KS Labs @ Newton Highlands and our Diamond Partner The Village Bank. \n 
URL:https://newtonculture.org/event/newtv-presents-the-3rd-annual-cones-n-cars/
LOCATION:NewTV\, 23 Needham St\, Newton\, MA\, 02461\, United States
CATEGORIES:Community Event,Family Friendly
ATTACH;FMTTYPE=image/png:https://newtonculture.org/wp-content/uploads/2023/08/EventbriteHeader.png
ORGANIZER;CN="NewTV":MAILTO:newtv@newtv.org
END:VEVENT
BEGIN:VEVENT
DTSTART;TZID=America/New_York:20230513T130000
DTEND;TZID=America/New_York:20230513T150000
DTSTAMP:20260420T125702
CREATED:20230508T161113Z
LAST-MODIFIED:20230508T161113Z
UID:10020841-1683982800-1683990000@newtonculture.org
SUMMARY:Class: Capturing Your Voice with Podcasting
DESCRIPTION:Next up in NewTV’s in-person class schedule is Capturing Your Voice with Podcasting! \nIn this course taught by Lena Chehaiber\, students will learn how to set up\, edit\, and submit their very own podcast. We will review podcasting techniques\, as well as fundamentals of the ins-and-outs of running your own podcast show. \nJoin us on Saturday\, May 13th at 1:00PM for this class. There are only 7 seats available per class session\, so don’t wait! \nClasses are free and open to all NewTV Members. Not a member? Not a problem! Visit https://newtv.org/join to learn about all the perks of an affordable NewTV membership.
URL:https://newtonculture.org/event/class-capturing-your-voice-with-podcasting/
LOCATION:NewTV\, 23 Needham St\, Newton\, MA\, 02461\, United States
CATEGORIES:Film and Media
ATTACH;FMTTYPE=image/png:https://newtonculture.org/wp-content/uploads/2023/05/PodcastingClass_Social_5.13.png
ORGANIZER;CN="NewTV":MAILTO:newtv@newtv.org
END:VEVENT
BEGIN:VEVENT
DTSTART;TZID=America/New_York:20220824T173000
DTEND;TZID=America/New_York:20220824T193000
DTSTAMP:20260420T125702
CREATED:20220815T182809Z
LAST-MODIFIED:20220815T182809Z
UID:10020693-1661362200-1661369400@newtonculture.org
SUMMARY:Cones 'n Cars 2022
DESCRIPTION:It’s baaa-aaack! We’re so excited to announce the return of NewTV’s Cones ‘n Cars: the one ‘n only classic car show combined with an ice cream social. Enjoy sweets ‘n treats from Cabot’s\, Bakers’ Best\, Pizzi Farm\, Volante Farms\, JP Licks\, and the Astound ice cream truck while you check out the sleek ‘n unique classic cars! \nAdmission is free\, and all are welcome to join us!
URL:https://newtonculture.org/event/cones-n-cars-2022/
LOCATION:NewTV\, 23 Needham St\, Newton\, MA\, 02461\, United States
CATEGORIES:Community Event,Family Friendly,Free Event
ORGANIZER;CN="NewTV":MAILTO:newtv@newtv.org
END:VEVENT
BEGIN:VEVENT
DTSTART;TZID=America/New_York:20210825T170000
DTEND;TZID=America/New_York:20210825T193000
DTSTAMP:20260420T125702
CREATED:20210813T143000Z
LAST-MODIFIED:20210813T143000Z
UID:10019867-1629910800-1629919800@newtonculture.org
SUMMARY:NewTV presents Cones 'n Cars Ice Cream Social
DESCRIPTION:NewTV will host an end-of-summer Ice Cream Social. Dust off your saddle shoes and iron the poodle skirt for Cones ‘n Cars\, a 1950s-themed ice cream social and classic car show! Enjoy a scoop or two from Cabot’s and the RCN Ice Cream Truck\, or try some baked goods while you peruse some souped-up rods provided by the Boston Cup Classic Car Show. Register here to attend this free event.
URL:https://newtonculture.org/event/newtv-presents-cones-n-cars-ice-cream-social/
LOCATION:NewTV\, 23 Needham St\, Newton\, MA\, 02461\, United States
CATEGORIES:Community Event,Culture and Education
ATTACH;FMTTYPE=image/png:https://newtonculture.org/wp-content/uploads/2021/08/Eventbrite-Image-1.png
ORGANIZER;CN="NewTV":MAILTO:newtv@newtv.org
END:VEVENT
BEGIN:VEVENT
DTSTART;TZID=America/New_York:20200503T190000
DTEND;TZID=America/New_York:20200503T210000
DTSTAMP:20260420T125702
CREATED:20200415T181403Z
LAST-MODIFIED:20200429T181045Z
UID:10018168-1588532400-1588539600@newtonculture.org
SUMMARY:NewTV presents: Classic Movie Sundays
DESCRIPTION:NewTV’s Education Channel is featuring Classic Movie Sundays in May! This Sunday\, May 3\, at 7:00 p.m. enjoy The Strange Love of Martha Ivers (1946). Barbara Stanwyck stars in this film noir drama about a woman torn between her husband and her childhood love. On Sunday at 7:00 p.m.\, tune into Comcast 99\, RCN 3 (629 for HD)\, or Verizon 32 (2134 for HD) and enjoy. More info at newtv.org.
URL:https://newtonculture.org/event/newtv-presents-classic-movie-sundays/
LOCATION:NewTV\, 23 Needham St\, Newton\, MA\, 02461\, United States
CATEGORIES:Film and Media,Free Event
ATTACH;FMTTYPE=image/png:https://newtonculture.org/wp-content/uploads/2019/11/Logos-500px-4-newtv.png
ORGANIZER;CN="NewTV":MAILTO:newtv@newtv.org
END:VEVENT
BEGIN:VEVENT
DTSTART;TZID=America/New_York:20200311T183000
DTEND;TZID=America/New_York:20200311T203000
DTSTAMP:20260420T125702
CREATED:20200226T203302Z
LAST-MODIFIED:20200312T155044Z
UID:10017754-1583951400-1583958600@newtonculture.org
SUMMARY:Ocllo Mason: "Changing Seasons" Gallery Reception CANCELED
DESCRIPTION:Join us at NewTV for a gallery reception for artist Ocllo Mason’s exhibit “Changing Seasons.” This event is free and open to the public. There will be wine and cheese and the chance to speak with the artist about her painting.
URL:https://newtonculture.org/event/ocllo-mason-changing-seasons-gallery-reception/
LOCATION:NewTV\, 23 Needham St\, Newton\, MA\, 02461\, United States
CATEGORIES:Art,Community Event,Free Event
ORGANIZER;CN="NewTV":MAILTO:newtv@newtv.org
END:VEVENT
BEGIN:VEVENT
DTSTART;TZID=America/New_York:20200309T190000
DTEND;TZID=America/New_York:20200309T200000
DTSTAMP:20260420T125702
CREATED:20200226T204110Z
LAST-MODIFIED:20200226T204110Z
UID:10017755-1583780400-1583784000@newtonculture.org
SUMMARY:Studio Production Orientation at NewTV
DESCRIPTION:Want to learn about the studio at NewTV and how you might use it? Join us for an introduction to our studio space and the basic set-up. If you’re interested in having your own show\, this is the class for you.
URL:https://newtonculture.org/event/studio-production-orientation-at-newtv-2/
LOCATION:NewTV\, 23 Needham St\, Newton\, MA\, 02461\, United States
CATEGORIES:Film and Media,Free Event
ORGANIZER;CN="NewTV":MAILTO:newtv@newtv.org
END:VEVENT
BEGIN:VEVENT
DTSTART;TZID=America/New_York:20200303T190000
DTEND;TZID=America/New_York:20200303T200000
DTSTAMP:20260420T125702
CREATED:20200226T205254Z
LAST-MODIFIED:20200226T205321Z
UID:10017766-1583262000-1583265600@newtonculture.org
SUMMARY:Introduction to Podcasting & Adobe Audition
DESCRIPTION:Learn the basics of creating a podcasting\, including how to edit audio together through Adobe Audition. The class is perfect for those looking to get hands-on experience with putting together a podcast. \nClass is free with a NewTV membership.
URL:https://newtonculture.org/event/introduction-to-podcasting-adobe-audition/
LOCATION:NewTV\, 23 Needham St\, Newton\, MA\, 02461\, United States
CATEGORIES:Film and Media
ORGANIZER;CN="NewTV":MAILTO:newtv@newtv.org
END:VEVENT
BEGIN:VEVENT
DTSTART;TZID=America/New_York:20200302T190000
DTEND;TZID=America/New_York:20200302T200000
DTSTAMP:20260420T125702
CREATED:20200226T203012Z
LAST-MODIFIED:20200226T203351Z
UID:10017753-1583175600-1583179200@newtonculture.org
SUMMARY:Podcasting Orientation at NewTV
DESCRIPTION:Want to learn about the growing world of podcasting? Come to NewTV for an introduction into the podcasting world and how you might create your own at NewTV.
URL:https://newtonculture.org/event/podcasting-orientation-at-newtv/
LOCATION:NewTV\, 23 Needham St\, Newton\, MA\, 02461\, United States
CATEGORIES:Culture and Education,Film and Media,Free Event
ORGANIZER;CN="NewTV":MAILTO:newtv@newtv.org
END:VEVENT
BEGIN:VEVENT
DTSTART;TZID=America/New_York:20200213T190000
DTEND;TZID=America/New_York:20200213T203000
DTSTAMP:20260420T125702
CREATED:20200130T184657Z
LAST-MODIFIED:20200211T192032Z
UID:10017729-1581620400-1581625800@newtonculture.org
SUMMARY:NewTV: Basic Adobe Audition
DESCRIPTION:Learn the basics of Audition on the Mac. Includes how to create your own recording\, insert and overwrite edits\, use transitions and effects\, and much more. Class is free with a NewTV membership. Membership starts at $25. More info at newtv.org.
URL:https://newtonculture.org/event/basic-adobe-audition-at-newtv/
LOCATION:NewTV\, 23 Needham St\, Newton\, MA\, 02461\, United States
CATEGORIES:Film and Media
ATTACH;FMTTYPE=image/png:https://newtonculture.org/wp-content/uploads/2019/11/Logos-500px-4-newtv.png
ORGANIZER;CN="NewTV":MAILTO:newtv@newtv.org
END:VEVENT
BEGIN:VEVENT
DTSTART;TZID=America/New_York:20200210T190000
DTEND;TZID=America/New_York:20200210T200000
DTSTAMP:20260420T125702
CREATED:20200130T183822Z
LAST-MODIFIED:20200210T164514Z
UID:10017727-1581361200-1581364800@newtonculture.org
SUMMARY:NewTV: Field Production Orientation
DESCRIPTION:Interested in documentary making or filming live events? This orientation will guide you on how to use NewTV’s equipment and resources to start filming out in the field. Class is free with a NewTV membership. Membership starts at $25. More info at newtv.org.
URL:https://newtonculture.org/event/field-production-orientation-at-newtv/
LOCATION:NewTV\, 23 Needham St\, Newton\, MA\, 02461\, United States
CATEGORIES:Film and Media
ATTACH;FMTTYPE=image/png:https://newtonculture.org/wp-content/uploads/2019/11/Logos-500px-4-newtv.png
ORGANIZER;CN="NewTV":MAILTO:newtv@newtv.org
END:VEVENT
BEGIN:VEVENT
DTSTART;TZID=America/New_York:20200205T190000
DTEND;TZID=America/New_York:20200205T210000
DTSTAMP:20260420T125702
CREATED:20200130T183337Z
LAST-MODIFIED:20200210T165137Z
UID:10017724-1580929200-1580936400@newtonculture.org
SUMMARY:NewTV: Studio Elements
DESCRIPTION:Learn how to set up NewTV’s studio space from lights to the control room. This class will teach you how to put on a great studio production. Class is free with a NewTV membership. Membership starts at $25. More info at newtv.org.
URL:https://newtonculture.org/event/studio-elements-at-newtv/
LOCATION:NewTV\, 23 Needham St\, Newton\, MA\, 02461\, United States
CATEGORIES:Culture and Education,Film and Media
ATTACH;FMTTYPE=image/png:https://newtonculture.org/wp-content/uploads/2019/11/Logos-500px-4-newtv.png
ORGANIZER;CN="NewTV":MAILTO:newtv@newtv.org
END:VEVENT
BEGIN:VEVENT
DTSTART;TZID=America/New_York:20200203T190000
DTEND;TZID=America/New_York:20200203T200000
DTSTAMP:20260420T125702
CREATED:20200130T180818Z
LAST-MODIFIED:20200210T165917Z
UID:10017723-1580756400-1580760000@newtonculture.org
SUMMARY:NewTV: Studio Production Orientation
DESCRIPTION:NewTV’s Studio Production Orientation will teach you how you can access and use NewTV’s studio space. If you’re interested in producing your own show at NewTV or volunteer on a current one\, this is the place to start. Class is free with a NewTV membership. Membership starts at $25. More info at newtv.org.
URL:https://newtonculture.org/event/studio-production-orientation-at-newtv/
LOCATION:NewTV\, 23 Needham St\, Newton\, MA\, 02461\, United States
CATEGORIES:Culture and Education,Film and Media
ATTACH;FMTTYPE=image/png:https://newtonculture.org/wp-content/uploads/2019/11/Logos-500px-4-newtv.png
ORGANIZER;CN="NewTV":MAILTO:newtv@newtv.org
END:VEVENT
END:VCALENDAR