BEGIN:VCALENDAR
VERSION:2.0
PRODID:-//Newton Cultural Alliance - ECPv6.13.2.1//NONSGML v1.0//EN
CALSCALE:GREGORIAN
METHOD:PUBLISH
X-ORIGINAL-URL:https://newtonculture.org
X-WR-CALDESC:Events for Newton Cultural Alliance
REFRESH-INTERVAL;VALUE=DURATION:PT1H
X-Robots-Tag:noindex
X-PUBLISHED-TTL:PT1H
BEGIN:VTIMEZONE
TZID:America/New_York
BEGIN:DAYLIGHT
TZOFFSETFROM:-0500
TZOFFSETTO:-0400
TZNAME:EDT
DTSTART:20220313T070000
END:DAYLIGHT
BEGIN:STANDARD
TZOFFSETFROM:-0400
TZOFFSETTO:-0500
TZNAME:EST
DTSTART:20221106T060000
END:STANDARD
BEGIN:DAYLIGHT
TZOFFSETFROM:-0500
TZOFFSETTO:-0400
TZNAME:EDT
DTSTART:20230312T070000
END:DAYLIGHT
BEGIN:STANDARD
TZOFFSETFROM:-0400
TZOFFSETTO:-0500
TZNAME:EST
DTSTART:20231105T060000
END:STANDARD
BEGIN:DAYLIGHT
TZOFFSETFROM:-0500
TZOFFSETTO:-0400
TZNAME:EDT
DTSTART:20240310T070000
END:DAYLIGHT
BEGIN:STANDARD
TZOFFSETFROM:-0400
TZOFFSETTO:-0500
TZNAME:EST
DTSTART:20241103T060000
END:STANDARD
END:VTIMEZONE
BEGIN:VEVENT
DTSTART;TZID=America/New_York:20240413T200000
DTEND;TZID=America/New_York:20240413T213000
DTSTAMP:20260420T094742
CREATED:20240205T222459Z
LAST-MODIFIED:20240205T222459Z
UID:10020980-1713038400-1713043800@newtonculture.org
SUMMARY:Newton Theatre Company presents KINDERTRANSPORT
DESCRIPTION:KINDERTRANSPORT\nby Diane Samuels\nDirected by Melissa Bernstein \nBetween 1938 and the outbreak of war\, almost 10\,000 children\, most of them Jewish\, were sent by their parents from Germany to Britain. Nine-year-old Eva ends up in Manchester. Over forty years later\, she has changed her name to Evelyn and denied her roots. It is only when her own daughter discovers some old letters in the attic that Eva is forced to confront the truth about her past.  \nBuy your tickets now! \nWe are doing two weekends of Kindertransport! \nFriday\, April 12th at 8pm\nSaturday\, April 13th at 2pm\nSaturday\, April 13th at 8pm \nFriday\, April 19th at 8pm\nSaturday\, April 20th at 2pm\nSaturday\, April 20th at 8pm \nSaint John’s Episcopal Church\n96 Otis Street\, Newtonville
URL:https://newtonculture.org/event/newton-theatre-company-presents-kindertransport/2024-04-13/
LOCATION:Saint John’s Episcopal Church\, 96 Otis Street\, Newton\, MA\, 02460\, United States
ATTACH;FMTTYPE=image/png:https://newtonculture.org/wp-content/uploads/2024/02/unnamed-1_orig.png
ORGANIZER;CN="Newton Theatre Company":MAILTO:info@newtontheatrecompany.com
END:VEVENT
BEGIN:VEVENT
DTSTART;TZID=America/New_York:20240413T140000
DTEND;TZID=America/New_York:20240413T160000
DTSTAMP:20260420T094742
CREATED:20240205T162434Z
LAST-MODIFIED:20240205T162434Z
UID:10020977-1713016800-1713024000@newtonculture.org
SUMMARY:Newton Theatre Company presents KINDERTRANSPORT
DESCRIPTION:KINDERTRANSPORT\nby Diane Samuels\nDirected by Melissa Bernstein \nBetween 1938 and the outbreak of war\, almost 10\,000 children\, most of them Jewish\, were sent by their parents from Germany to Britain. Nine-year-old Eva ends up in Manchester. Over forty years later\, she has changed her name to Evelyn and denied her roots. It is only when her own daughter discovers some old letters in the attic that Eva is forced to confront the truth about her past.  \nBuy your tickets now! \nWe are doing two weekends of Kindertransport! \nFriday\, April 12th at 8pm\nSaturday\, April 13th at 2pm\nSaturday\, April 13th at 8pm \nFriday\, April 19th at 8pm\nSaturday\, April 20th at 2pm\nSaturday\, April 20th at 8pm \nSaint John’s Episcopal Church\n96 Otis Street\, Newtonville
URL:https://newtonculture.org/event/newton-theatre-company-presents-kindertransport/2024-04-13/
LOCATION:Saint John’s Episcopal Church\, 96 Otis Street\, Newton\, MA\, 02460\, United States
ATTACH;FMTTYPE=image/png:https://newtonculture.org/wp-content/uploads/2024/02/unnamed-1_orig.png
ORGANIZER;CN="Newton Theatre Company":MAILTO:info@newtontheatrecompany.com
END:VEVENT
BEGIN:VEVENT
DTSTART;TZID=America/New_York:20240412T200000
DTEND;TZID=America/New_York:20240412T213000
DTSTAMP:20260420T094742
CREATED:20240205T162434Z
LAST-MODIFIED:20240205T162434Z
UID:10020976-1712952000-1712957400@newtonculture.org
SUMMARY:Newton Theatre Company presents KINDERTRANSPORT
DESCRIPTION:KINDERTRANSPORT\nby Diane Samuels\nDirected by Melissa Bernstein \nBetween 1938 and the outbreak of war\, almost 10\,000 children\, most of them Jewish\, were sent by their parents from Germany to Britain. Nine-year-old Eva ends up in Manchester. Over forty years later\, she has changed her name to Evelyn and denied her roots. It is only when her own daughter discovers some old letters in the attic that Eva is forced to confront the truth about her past.  \nBuy your tickets now! \nWe are doing two weekends of Kindertransport! \nFriday\, April 12th at 8pm\nSaturday\, April 13th at 2pm\nSaturday\, April 13th at 8pm \nFriday\, April 19th at 8pm\nSaturday\, April 20th at 2pm\nSaturday\, April 20th at 8pm \nSaint John’s Episcopal Church\n96 Otis Street\, Newtonville
URL:https://newtonculture.org/event/newton-theatre-company-presents-kindertransport/2024-04-12/
LOCATION:Saint John’s Episcopal Church\, 96 Otis Street\, Newton\, MA\, 02460\, United States
ATTACH;FMTTYPE=image/png:https://newtonculture.org/wp-content/uploads/2024/02/unnamed-1_orig.png
ORGANIZER;CN="Newton Theatre Company":MAILTO:info@newtontheatrecompany.com
END:VEVENT
BEGIN:VEVENT
DTSTART;TZID=America/New_York:20230415T200000
DTEND;TZID=America/New_York:20230415T210000
DTSTAMP:20260420T094742
CREATED:20230220T153312Z
LAST-MODIFIED:20230310T182134Z
UID:10020789-1681588800-1681592400@newtonculture.org
SUMMARY:Newton Theatre Company presents In the Time of the Butterflies
DESCRIPTION:In the Time of the Butterflies by Caridad Svich\n \nBased on the novel by Julia Alvarez\nDirected by Carla Mirabal Rodríguez \nApril 13th at 8pm\nApril 14th at 8pm\nApril 15th at 2pm\nApril 15th at 8pm \nJoin us at Saint John’s Episcopal Church\n96 Otis Street\, Newtonville MA \nCaridad Svich’s adaptation of Julia Álvarez’s 1994 novel In The Time of the Butterflies follows four sisters known as the “Mariposas” (Butterflies)\, Patria\, Dedé\, Minerva\, and Mate as they live through the dictatorial regime of Gen. Rafael Leónidas Trujillo in the Dominican Republic in the early 20th century. The sisters were real historical figures\, and while this is a fictionalized account of their lives\, in actuality they inspired resistance cells throughout the country. \nAs the play unfolds\, audiences journey through time\, and experience the interior lives of the activist sisters from the beginning of the dictatorship\, to decades later as their story is being told by an older Dedé to an American Journalist. \nIn The Time of the Butterflies is a powerful\, beautiful\, poignant play about family\, love\, and fighting for freedom.
URL:https://newtonculture.org/event/13290/2023-04-15/2/
LOCATION:Saint John’s Episcopal Church\, 96 Otis Street\, Newton\, MA\, 02460\, United States
ORGANIZER;CN="Newton Theatre Company":MAILTO:info@newtontheatrecompany.com
END:VEVENT
BEGIN:VEVENT
DTSTART;TZID=America/New_York:20230415T140000
DTEND;TZID=America/New_York:20230415T150000
DTSTAMP:20260420T094742
CREATED:20230220T153312Z
LAST-MODIFIED:20230310T182134Z
UID:10020788-1681567200-1681570800@newtonculture.org
SUMMARY:Newton Theatre Company presents In the Time of the Butterflies
DESCRIPTION:In the Time of the Butterflies by Caridad Svich\n \nBased on the novel by Julia Alvarez\nDirected by Carla Mirabal Rodríguez \nApril 13th at 8pm\nApril 14th at 8pm\nApril 15th at 2pm\nApril 15th at 8pm \nJoin us at Saint John’s Episcopal Church\n96 Otis Street\, Newtonville MA \nCaridad Svich’s adaptation of Julia Álvarez’s 1994 novel In The Time of the Butterflies follows four sisters known as the “Mariposas” (Butterflies)\, Patria\, Dedé\, Minerva\, and Mate as they live through the dictatorial regime of Gen. Rafael Leónidas Trujillo in the Dominican Republic in the early 20th century. The sisters were real historical figures\, and while this is a fictionalized account of their lives\, in actuality they inspired resistance cells throughout the country. \nAs the play unfolds\, audiences journey through time\, and experience the interior lives of the activist sisters from the beginning of the dictatorship\, to decades later as their story is being told by an older Dedé to an American Journalist. \nIn The Time of the Butterflies is a powerful\, beautiful\, poignant play about family\, love\, and fighting for freedom.
URL:https://newtonculture.org/event/13290/2023-04-15/1/
LOCATION:Saint John’s Episcopal Church\, 96 Otis Street\, Newton\, MA\, 02460\, United States
ORGANIZER;CN="Newton Theatre Company":MAILTO:info@newtontheatrecompany.com
END:VEVENT
BEGIN:VEVENT
DTSTART;TZID=America/New_York:20230414T200000
DTEND;TZID=America/New_York:20230414T210000
DTSTAMP:20260420T094742
CREATED:20230220T153312Z
LAST-MODIFIED:20230310T182134Z
UID:10020787-1681502400-1681506000@newtonculture.org
SUMMARY:Newton Theatre Company presents In the Time of the Butterflies
DESCRIPTION:In the Time of the Butterflies by Caridad Svich\n \nBased on the novel by Julia Alvarez\nDirected by Carla Mirabal Rodríguez \nApril 13th at 8pm\nApril 14th at 8pm\nApril 15th at 2pm\nApril 15th at 8pm \nJoin us at Saint John’s Episcopal Church\n96 Otis Street\, Newtonville MA \nCaridad Svich’s adaptation of Julia Álvarez’s 1994 novel In The Time of the Butterflies follows four sisters known as the “Mariposas” (Butterflies)\, Patria\, Dedé\, Minerva\, and Mate as they live through the dictatorial regime of Gen. Rafael Leónidas Trujillo in the Dominican Republic in the early 20th century. The sisters were real historical figures\, and while this is a fictionalized account of their lives\, in actuality they inspired resistance cells throughout the country. \nAs the play unfolds\, audiences journey through time\, and experience the interior lives of the activist sisters from the beginning of the dictatorship\, to decades later as their story is being told by an older Dedé to an American Journalist. \nIn The Time of the Butterflies is a powerful\, beautiful\, poignant play about family\, love\, and fighting for freedom.
URL:https://newtonculture.org/event/13290/2023-04-14/
LOCATION:Saint John’s Episcopal Church\, 96 Otis Street\, Newton\, MA\, 02460\, United States
ORGANIZER;CN="Newton Theatre Company":MAILTO:info@newtontheatrecompany.com
END:VEVENT
BEGIN:VEVENT
DTSTART;TZID=America/New_York:20230413T200000
DTEND;TZID=America/New_York:20230413T210000
DTSTAMP:20260420T094742
CREATED:20230220T153312Z
LAST-MODIFIED:20230310T182134Z
UID:10020786-1681416000-1681419600@newtonculture.org
SUMMARY:Newton Theatre Company presents In the Time of the Butterflies
DESCRIPTION:In the Time of the Butterflies by Caridad Svich\n \nBased on the novel by Julia Alvarez\nDirected by Carla Mirabal Rodríguez \nApril 13th at 8pm\nApril 14th at 8pm\nApril 15th at 2pm\nApril 15th at 8pm \nJoin us at Saint John’s Episcopal Church\n96 Otis Street\, Newtonville MA \nCaridad Svich’s adaptation of Julia Álvarez’s 1994 novel In The Time of the Butterflies follows four sisters known as the “Mariposas” (Butterflies)\, Patria\, Dedé\, Minerva\, and Mate as they live through the dictatorial regime of Gen. Rafael Leónidas Trujillo in the Dominican Republic in the early 20th century. The sisters were real historical figures\, and while this is a fictionalized account of their lives\, in actuality they inspired resistance cells throughout the country. \nAs the play unfolds\, audiences journey through time\, and experience the interior lives of the activist sisters from the beginning of the dictatorship\, to decades later as their story is being told by an older Dedé to an American Journalist. \nIn The Time of the Butterflies is a powerful\, beautiful\, poignant play about family\, love\, and fighting for freedom.
URL:https://newtonculture.org/event/13290/2023-04-13/
LOCATION:Saint John’s Episcopal Church\, 96 Otis Street\, Newton\, MA\, 02460\, United States
ORGANIZER;CN="Newton Theatre Company":MAILTO:info@newtontheatrecompany.com
END:VEVENT
BEGIN:VEVENT
DTSTART;TZID=America/New_York:20221029T160000
DTEND;TZID=America/New_York:20221029T180000
DTSTAMP:20260420T094742
CREATED:20221010T144507Z
LAST-MODIFIED:20221010T144507Z
UID:10020740-1667059200-1667066400@newtonculture.org
SUMMARY:Newton Theatre Company Presents The Monologue Project: Renters' Edition
DESCRIPTION:This October\, Newton Theatre Company’s beloved Monologue Project is back and shining a spotlight on renters in Newton. Join your neighbors for an afternoon of stories about the reality of renting a home in Newton– the good\, the bad\, and the bemusing. Stick around after the show for a productive conversation about how we can make our city accessible for all members of our community. \nThe Monologue Project: Renters’ Edition\nSaturday\, October 29th at 4 PM\nSaint John’s Episcopal Church in Newton (96 Otis Street)\nTickets available here: https://www.eventbrite.com/e/the-monologue-project-renters-edition-tickets-431361141787
URL:https://newtonculture.org/event/newton-theatre-company-presents-the-monologue-project-renters-edition-2/
LOCATION:Saint John’s Episcopal Church\, 96 Otis Street\, Newton\, MA\, 02460\, United States
ATTACH;FMTTYPE=image/png:https://newtonculture.org/wp-content/uploads/2022/10/Monologue-Project-NCA.png
ORGANIZER;CN="Newton Theatre Company":MAILTO:info@newtontheatrecompany.com
END:VEVENT
BEGIN:VEVENT
DTSTART;TZID=America/New_York:20220910T200000
DTEND;TZID=America/New_York:20220910T213000
DTSTAMP:20260420T094742
CREATED:20220815T192715Z
LAST-MODIFIED:20220815T192805Z
UID:10020697-1662840000-1662845400@newtonculture.org
SUMMARY:Newton Theatre Company presents No Child...
DESCRIPTION:Join Newton Theatre Company for the kickoff performance of their 10th season\, brought to you by the team behind Twilight: Los Angeles\, 1992. No Child… is a tour-de-force exploration of the New York City public school system\, in which Regan Sims* transforms with rapid-fire precision into the teachers\, students\, parents\, janitors\, security guards\, and administrators who inhabit these schools. The story unfolds over six weeks as a visiting actor/guest teacher directs a high school play with students who have never performed before. Described as insightful\, touching\, and hilarious\, this one-night-only event is not to be missed!  Tickets are available here.
URL:https://newtonculture.org/event/newton-theatre-company-presents-no-child/
LOCATION:Saint John’s Episcopal Church\, 96 Otis Street\, Newton\, MA\, 02460\, United States
CATEGORIES:Performing Arts,Theater
ORGANIZER;CN="Newton Theatre Company":MAILTO:info@newtontheatrecompany.com
END:VEVENT
END:VCALENDAR