BEGIN:VCALENDAR
VERSION:2.0
PRODID:-//Newton Cultural Alliance - ECPv6.13.2.1//NONSGML v1.0//EN
CALSCALE:GREGORIAN
METHOD:PUBLISH
X-ORIGINAL-URL:https://newtonculture.org
X-WR-CALDESC:Events for Newton Cultural Alliance
REFRESH-INTERVAL;VALUE=DURATION:PT1H
X-Robots-Tag:noindex
X-PUBLISHED-TTL:PT1H
BEGIN:VTIMEZONE
TZID:America/New_York
BEGIN:DAYLIGHT
TZOFFSETFROM:-0500
TZOFFSETTO:-0400
TZNAME:EDT
DTSTART:20200308T070000
END:DAYLIGHT
BEGIN:STANDARD
TZOFFSETFROM:-0400
TZOFFSETTO:-0500
TZNAME:EST
DTSTART:20201101T060000
END:STANDARD
END:VTIMEZONE
BEGIN:VEVENT
DTSTART;TZID=America/New_York:20200608T190000
DTEND;TZID=America/New_York:20200608T203000
DTSTAMP:20260420T055928
CREATED:20200603T160454Z
LAST-MODIFIED:20200603T160454Z
UID:10018633-1591642800-1591648200@newtonculture.org
SUMMARY:Newton Free Library Online: Teen Zoom Poetry
DESCRIPTION:Write your physical distancing blues away with our Teen Zoom Poetry Group with James & Jean. During this time\, we’ll be writing poems based on fun prompts! Have your keyboards\, pencils\, and paper handy! Registration is required to receive the Zoom link for this event. Grades  7-12. \nBegin registration here!
URL:https://newtonculture.org/event/newton-free-library-online-teen-zoom-poetry/2020-06-08/
LOCATION:Zoom
CATEGORIES:Community Event,Culture and Education,Family Friendly
ATTACH;FMTTYPE=image/png:https://newtonculture.org/wp-content/uploads/2020/06/1586312302.png
ORGANIZER;CN="Newton Free Library":MAILTO:admin@newtonfreelibrary.net
END:VEVENT
BEGIN:VEVENT
DTSTART;TZID=America/New_York:20200606T130000
DTEND;TZID=America/New_York:20200606T143000
DTSTAMP:20260420T055928
CREATED:20200601T162002Z
LAST-MODIFIED:20200602T170144Z
UID:10017765-1591448400-1591453800@newtonculture.org
SUMMARY:Amherst Early Music Online
DESCRIPTION:Join AEM ONLINE this weekend! Four online class sessions are offered using the Zoom meeting app\, or your web browser. Register for any number of sessions; classes are $25 per session. Click here for more information. \nSchedule (EDT) \nSaturday\, June 6\, 2020  \n1:00 – 2:30 p.m. Musique de Joye Moderne Musique from Renaissance France with Lawrence Lipnik viol and recorder \n3:00 – 4:30 p.m. Frame Drum Fun for All with Spiff Wiegand percussion \nSunday\, June 7\, 2020  \n1:00 – 2:30 p.m. Baroque Oboe Session Duos and Techniques with Meg Owens Baroque oboe \n3:00 – 4:30 p.m. HORS D’OEUVRES – Studies as Musical Nourishment! with Alison Melville recorder \nRegister here!
URL:https://newtonculture.org/event/amherst-early-music-online-3/2020-06-06/
LOCATION:Zoom
CATEGORIES:Culture and Education,Music
ATTACH;FMTTYPE=image/jpeg:https://newtonculture.org/wp-content/uploads/2020/06/widget-6.6-6.7.jpg
ORGANIZER;CN="Amherst Early Music":MAILTO:info@amherstearlymusic.org
END:VEVENT
BEGIN:VEVENT
DTSTART;TZID=America/New_York:20200605T140000
DTEND;TZID=America/New_York:20200605T150000
DTSTAMP:20260420T055928
CREATED:20200603T155234Z
LAST-MODIFIED:20200603T155234Z
UID:10018631-1591365600-1591369200@newtonculture.org
SUMMARY:Newton Free Library Online: Drawing for Beginners - Positive & Negative Space
DESCRIPTION:Drawing is a skill anyone can learn. Explore how negative and positive spaces can help shape your drawing skills. I will share some of the tricks and methods taught in art school. All you need is a pencil and paper. \nOn the day of the event you will receive an email with a link to join. At the time of the program simply click on the link and you’ll see the host. For more information email Mare at mparkerotoole.ntn@minlib.net.
URL:https://newtonculture.org/event/newton-free-library-online-drawing-for-beginners-positive-negative-space/
LOCATION:Zoom
CATEGORIES:Art,Community Event,Culture and Education
ATTACH;FMTTYPE=image/png:https://newtonculture.org/wp-content/uploads/2020/06/1590108005.png
ORGANIZER;CN="Newton Free Library":MAILTO:admin@newtonfreelibrary.net
END:VEVENT
BEGIN:VEVENT
DTSTART;TZID=America/New_York:20200604T183000
DTEND;TZID=America/New_York:20200604T193000
DTSTAMP:20260420T055928
CREATED:20200603T154743Z
LAST-MODIFIED:20200603T154743Z
UID:10018630-1591295400-1591299000@newtonculture.org
SUMMARY:Newton Free Library Online: Drawing for Beginners - It's All About Perspective
DESCRIPTION:Perspective is all around you from the angles of rooftops to the highway that recedes into a point in the distance. Explore the tricks that will let you master perspective in your artwork. \nOn the day of the event you will receive an email with a link to join. At the time of the program simply click on the link and you’ll see the host. For more information email Mare at mparkerotoole.ntn@minlib.net.
URL:https://newtonculture.org/event/newton-free-library-online-drawing-for-beginners-its-all-about-perspective/
LOCATION:Zoom
CATEGORIES:Art,Community Event,Culture and Education,Family Friendly
ATTACH;FMTTYPE=image/png:https://newtonculture.org/wp-content/uploads/2020/06/1590107751-1.png
ORGANIZER;CN="Newton Free Library":MAILTO:admin@newtonfreelibrary.net
END:VEVENT
BEGIN:VEVENT
DTSTART;TZID=America/New_York:20200604T183000
DTEND;TZID=America/New_York:20200604T193000
DTSTAMP:20260420T055928
CREATED:20200527T160600Z
LAST-MODIFIED:20200527T164443Z
UID:10017763-1591295400-1591299000@newtonculture.org
SUMMARY:Drawing for Beginners - It's All About Perspective (Zoom)
DESCRIPTION:Perspective is all around you from the angles of rooftops to the highway that recedes into a point in the distance. Explore the tricks that will let you master perspective in your artwork. Click here to register or for more info. \nOn the day of the event you will receive an email with a link to join. At the time of the program simply click on the link and you’ll see the host. For more information email Mare at mparkerotoole.ntn@minlib.net.
URL:https://newtonculture.org/event/drawing-for-beginners-its-all-about-perspective-zoom/
LOCATION:Zoom
CATEGORIES:Art,Community Event,Culture and Education,Visual Arts
ATTACH;FMTTYPE=image/png:https://newtonculture.org/wp-content/uploads/2020/05/1590107751.png
ORGANIZER;CN="Newton Free Library":MAILTO:admin@newtonfreelibrary.net
END:VEVENT
BEGIN:VEVENT
DTSTART;TZID=America/New_York:20200604T180000
DTEND;TZID=America/New_York:20200604T200000
DTSTAMP:20260420T055928
CREATED:20200603T143753Z
LAST-MODIFIED:20200603T143753Z
UID:10017773-1591293600-1591300800@newtonculture.org
SUMMARY:New Art Center Online: *Adults* Watercolor Flowers: Tight and Loose
DESCRIPTION:In this light-hearted course conducted on Zoom\, explore the joy of floral watercolors. Learn to make choices about loose (expressive watercolor) vs. “tight” painting techniques (botanical illustration). You’ll fall in love with the simplest rules of composition\, which will free you up to use special watercolor effects. In your homework\, choose between simple assignments for relaxation or more challenging assignments to enrich quiet periods at your home studio. Some watercolor experience required. See the website for the materials list. \nDates: 6/4/2020 – 7/9/2020 – 6 sessions.\nTime: 6:00PM – 8:00 PM\nWatercolor – Diane Fiedler \nCost: $205
URL:https://newtonculture.org/event/new-art-center-online-adults-watercolor-flowers-tight-and-loose/2020-06-04/
LOCATION:Zoom
CATEGORIES:Art,Culture and Education
ATTACH;FMTTYPE=image/jpeg:https://newtonculture.org/wp-content/uploads/2020/06/ACP20324.jpg
ORGANIZER;CN="New Art Center":MAILTO:info@newartcenter.org
END:VEVENT
BEGIN:VEVENT
DTSTART;TZID=America/New_York:20200603T153000
DTEND;TZID=America/New_York:20200603T173000
DTSTAMP:20260420T055928
CREATED:20200603T144424Z
LAST-MODIFIED:20200603T144424Z
UID:10017780-1591198200-1591205400@newtonculture.org
SUMMARY:New Art Center *Teens* Gr. 8-12 Drawing Boot Camp
DESCRIPTION:Let’s get drawing! In this 4-week drawing workout using Zoom\, students will learn the basic building blocks of drawing. Create form using different techniques for showing light and shadow\, and learn to apply texture and add detail to your drawings. We will learn how to show distance\, including 1- and 2-point perspective\, and how to put it all together to make rich finished drawings. \nMaterials list: paper\, pencils (#2 or value pencils)\, ruler\, colored pencils\, tortillon/ blending stump if possible (or paper towel) \nDates: 6/3/2020 – 6/24/2020 – 4 sessions.\nTime: 3:30PM – 5:30 PM\nDrawing – Avery Kallas\nCost: $155 \nRegister here!
URL:https://newtonculture.org/event/new-art-center-teens-gr-8-12-drawing-boot-camp/2020-06-03/
LOCATION:Zoom
CATEGORIES:Art,Culture and Education
ATTACH;FMTTYPE=image/jpeg:https://newtonculture.org/wp-content/uploads/2020/06/TWP20120.jpg
ORGANIZER;CN="New Art Center":MAILTO:info@newartcenter.org
END:VEVENT
BEGIN:VEVENT
DTSTART;TZID=America/New_York:20200531T130000
DTEND;TZID=America/New_York:20200531T143000
DTSTAMP:20260420T055928
CREATED:20200527T145733Z
LAST-MODIFIED:20200527T145733Z
UID:10017758-1590930000-1590935400@newtonculture.org
SUMMARY:Amherst Early Music Online
DESCRIPTION:Join AEM ONLINE this weekend! Five online class sessions are offered on Zoom. Register for any number of sessions; classes are $25 per session. All sessions run 90 minutes\, with the first 15 minutes for introductions and last-minute tech help. (Please note that Sunday’s master class with Sarah Cunningham runs two hours in length.) If for any reason the session doesn’t work for you\, we will refund your money. Click here for more information! \nSchedule: (EST) \nSaturday\, May 30\, 2020  \n1:00 – 2:30 p.m. Basso Continuo: An Introduction for Lutenists & Guitarists with Jason Priset \n3:00 – 4:30 p.m. Recorder Ensemble Music of Timothy Broege with Jody Miller \nSunday\, May 31\, 2020 \n11:00 a.m. – 12:30 p.m. Harpsichord Master Class with Kathryn Cok. Open to auditors. \n1:00 – 2:30 p.m. Orlande de Lassus—Il Magnifico with Pamela Dellal. \n3:00 – 5:00 p.m. Viola da Gamba Master Class with Sarah Cunningham. Open to auditors. \nRegistration Link
URL:https://newtonculture.org/event/amherst-early-music-online-2/2020-05-31/
LOCATION:Zoom
CATEGORIES:Community Event,Culture and Education,Music
ATTACH;FMTTYPE=image/jpeg:https://newtonculture.org/wp-content/uploads/2020/05/widget_5.305.31.jpg
ORGANIZER;CN="Amherst Early Music":MAILTO:info@amherstearlymusic.org
END:VEVENT
BEGIN:VEVENT
DTSTART;TZID=America/New_York:20200530T130000
DTEND;TZID=America/New_York:20200530T143000
DTSTAMP:20260420T055928
CREATED:20200527T145733Z
LAST-MODIFIED:20200527T145733Z
UID:10017757-1590843600-1590849000@newtonculture.org
SUMMARY:Amherst Early Music Online
DESCRIPTION:Join AEM ONLINE this weekend! Five online class sessions are offered on Zoom. Register for any number of sessions; classes are $25 per session. All sessions run 90 minutes\, with the first 15 minutes for introductions and last-minute tech help. (Please note that Sunday’s master class with Sarah Cunningham runs two hours in length.) If for any reason the session doesn’t work for you\, we will refund your money. Click here for more information! \nSchedule: (EST) \nSaturday\, May 30\, 2020  \n1:00 – 2:30 p.m. Basso Continuo: An Introduction for Lutenists & Guitarists with Jason Priset \n3:00 – 4:30 p.m. Recorder Ensemble Music of Timothy Broege with Jody Miller \nSunday\, May 31\, 2020 \n11:00 a.m. – 12:30 p.m. Harpsichord Master Class with Kathryn Cok. Open to auditors. \n1:00 – 2:30 p.m. Orlande de Lassus—Il Magnifico with Pamela Dellal. \n3:00 – 5:00 p.m. Viola da Gamba Master Class with Sarah Cunningham. Open to auditors. \nRegistration Link
URL:https://newtonculture.org/event/amherst-early-music-online-2/2020-05-30/
LOCATION:Zoom
CATEGORIES:Community Event,Culture and Education,Music
ATTACH;FMTTYPE=image/jpeg:https://newtonculture.org/wp-content/uploads/2020/05/widget_5.305.31.jpg
ORGANIZER;CN="Amherst Early Music":MAILTO:info@amherstearlymusic.org
END:VEVENT
BEGIN:VEVENT
DTSTART;TZID=America/New_York:20200527T110000
DTEND;TZID=America/New_York:20200527T113000
DTSTAMP:20260420T055928
CREATED:20200520T163032Z
LAST-MODIFIED:20200520T163032Z
UID:10018487-1590577200-1590579000@newtonculture.org
SUMMARY:Matt Heaton Virtual Family Sing-along on Zoom
DESCRIPTION:A fun family event through the Newton Free Library! Matt Heaton (the “Toddlerbilly Troubadour”) brings an exuberant energy to his sing alongs. Peppered with well known classics and a few soon-to-be classics\, and performed with panache on guitar & banjo\, Matt makes music for parents and kids alike.  Visit Newton Free Library’s website for more information!
URL:https://newtonculture.org/event/matt-heaton-virtual-family-sing-along-on-zoom/
LOCATION:Zoom
CATEGORIES:Community Event,Family Friendly,Music
ATTACH;FMTTYPE=image/jpeg:https://newtonculture.org/wp-content/uploads/2020/05/matt_heaton.jpg
ORGANIZER;CN="Newton Free Library":MAILTO:admin@newtonfreelibrary.net
END:VEVENT
BEGIN:VEVENT
DTSTART;TZID=America/New_York:20200423T200000
DTEND;TZID=America/New_York:20200423T210000
DTSTAMP:20260420T055928
CREATED:20200422T184051Z
LAST-MODIFIED:20200422T184051Z
UID:10017730-1587672000-1587675600@newtonculture.org
SUMMARY:Newton Theater Company Radio Hour: Sorry\, Wrong Number
DESCRIPTION:Newton Theatre Company is proud to introduce our Radio Hour series\, which will feature a variety of one-act plays performed live over Zoom. We’ll also teach you how to make a themed cocktail before each production that you can enjoy during the show– what better way to spend an evening inside? \nOur first Radio Hour will feature a performance of Lucille Fletcher’s 1940s classic\, “Sorry\, Wrong Number.” Tune in to hear the story of an isolated woman who must stop a murder after accidentally overhearing the plot during a telephone call in this noir thriller.
URL:https://newtonculture.org/event/newton-theater-company-radio-hour-sorry-wrong-number/
LOCATION:Zoom
CATEGORIES:Free Event,Performing Arts
ATTACH;FMTTYPE=image/png:https://newtonculture.org/wp-content/uploads/2020/04/Newton-Theatre-Company-Presents-3-e1586977376860.png
ORGANIZER;CN="Newton Theatre Company":MAILTO:info@newtontheatrecompany.com
END:VEVENT
END:VCALENDAR